BEGIN:VCALENDAR
VERSION:2.0
PRODID:-//PIKK.ee - ECPv6.13.2.1//NONSGML v1.0//EN
CALSCALE:GREGORIAN
METHOD:PUBLISH
X-WR-CALNAME:PIKK.ee
X-ORIGINAL-URL:https://www.pikk.ee
X-WR-CALDESC:Events for PIKK.ee
REFRESH-INTERVAL;VALUE=DURATION:PT1H
X-Robots-Tag:noindex
X-PUBLISHED-TTL:PT1H
BEGIN:VTIMEZONE
TZID:Europe/Tallinn
BEGIN:DAYLIGHT
TZOFFSETFROM:+0200
TZOFFSETTO:+0300
TZNAME:EEST
DTSTART:20160327T010000
END:DAYLIGHT
BEGIN:STANDARD
TZOFFSETFROM:+0300
TZOFFSETTO:+0200
TZNAME:EET
DTSTART:20161030T010000
END:STANDARD
END:VTIMEZONE
BEGIN:VEVENT
DTSTART;VALUE=DATE:20160413
DTEND;VALUE=DATE:20160414
DTSTAMP:20260423T090631
CREATED:20171231T220000Z
LAST-MODIFIED:20171231T220000Z
UID:10006323-1460505600-1460591999@www.pikk.ee
SUMMARY:Pindala ja loomatoetuste infopäev tootjatele
DESCRIPTION:Tartumaa Põllumeeste Liit korraldab tasuta infopäeva tootjatele. \n\n	Infopäev algab kell 10.00 ja kestab 6 tundi \n\n	Infopäeva teemadeks on: \n\n	*Otsetoetuste (ühtne pindalatoetus\, kliima- ja keskkonnatoetus\, noore põllumajandustootja toetus)\, nõuetele vastavuse ja MAK pindala- ja loomatoetuste (põllumajanduslik keskkonnatoetus: keskkonnasõbralik majandamise toetus\, piirkondlik mullakaitsetoetus\, keskkonnasõbraliku aianduse toetus\, kohalikku sorti taimede kasvatamise toetus\, ohustatud tõugu looma kasvatamise toetus ja poolloodusliku koosluse hooldamise toetus; mahepõllumajanduse toetused; loomade heaolu toetus; Natura 2000 toetus põllumajandusmaale) nõuded \n\n	*Pindalatoetuste taotluste esitamise ja põldude joonistamise 2016. aasta muudatused  e-PRIAs \n\n	*Administratiivsete ja kohapealsete kontrollide läbiviimine \n\n	Lektoriteks on konsulendid Jekaterina Näälik ja Tiina Kattel \n\n	Registreerimine: http://goo.gl/forms/qWmHt5D3op \n\n	Info : pikk.ee/sündmuste kalender\, merry[A]kodu.ee  või 736 6955 \n\n	Infopäevade korraldamist toetab Euroopa Liit. \n\n	 
URL:https://www.pikk.ee/sundmus/pindala-ja-loomatoetuste-infopaev-tootjatele-2/
LOCATION:Muu\, Eesti
CATEGORIES:Muu
GEO:58.595272;25.0136071
END:VEVENT
BEGIN:VEVENT
DTSTART;VALUE=DATE:20160413
DTEND;VALUE=DATE:20160414
DTSTAMP:20260423T090631
CREATED:20171231T220000Z
LAST-MODIFIED:20171231T220000Z
UID:10006330-1460505600-1460591999@www.pikk.ee
SUMMARY:Veekaitse infopäev põllumajandustootjatele
DESCRIPTION:Registreerimine ttl@kodu.ee või 736 6955.
URL:https://www.pikk.ee/sundmus/veekaitse-infopaev-pollumajandustootjatele/
LOCATION:Muu\, Eesti
CATEGORIES:Keskkond
GEO:58.595272;25.0136071
END:VEVENT
BEGIN:VEVENT
DTSTART;VALUE=DATE:20160413
DTEND;VALUE=DATE:20160414
DTSTAMP:20260423T090631
CREATED:20171231T220000Z
LAST-MODIFIED:20171231T220000Z
UID:10006335-1460505600-1460591999@www.pikk.ee
SUMMARY:e-PRIA tugiteenuse pakkujate praktiline koolitus
DESCRIPTION:Koolituse käigus räägitakse: \n• Taotlemise alused. Põhinõuded.\n• Põldude joonistamine e-PRIAs\n• Taotlusvormide täitmine e-PRIAs\nKoolituse käigus proovib osaleja ise põlde joonistada ja taotlusdokumente täita ning esitada. \nKoolituse päevakava:\n10.00 – 10.30 kogunemine ja tervituskohv\n10.30 – 12.30 koolitus\n12.30 – 13.30 lõuna\n13.30 – 16.30 koolitus ja praktiline töö \nKoolitusel osalejatele tehakse eelnevalt e-PRIA testkeskkonna kasutajatunnused. Osalejal peab olema kaasas ID-kaart ja kehtiv PIN1. \nEelnevalt on soovitav üle vaadata 31.03 pindala- ja loomatoetuste infopäeva ettekanded aadressil: http://www.pikk.ee/sundmused/2016/03/31/10308#.Vv4sKfmLSUk \nLisainfo:\nKatri Kuusk\narendusprojektide koordinaator\nMaaelu Edendamise Sihtasutus\nTel.: 731 3650\, 5308 9961\nE-post: katri.kuusk@nouandeteenistus.ee
URL:https://www.pikk.ee/sundmus/e-pria-tugiteenuse-pakkujate-praktiline-koolitus-3/
LOCATION:Muu\, Eesti
CATEGORIES:Muu
GEO:58.595272;25.0136071
END:VEVENT
BEGIN:VEVENT
DTSTART;VALUE=DATE:20160413
DTEND;VALUE=DATE:20160414
DTSTAMP:20260423T090631
CREATED:20171231T220000Z
LAST-MODIFIED:20171231T220000Z
UID:10006321-1460505600-1460591999@www.pikk.ee
SUMMARY:Mullaproovide võtmise koolitus
DESCRIPTION:PMK mullaseire büroo korraldab mullaproovide võtmise koolituse 13. aprillil 2016 algusega kell 10.00. \n\nTeemad: mullaproovide võtmise metoodika\, kaartide ja tellimuslehe vormistamine\, tutvumine agrokeemia labori ja proovide vastuvõtuga\, mullaproovi asukoha määramine nutiseadmega. \n\nPalun teatage oma osalemise soovist kuni 7. aprillini telefonil 518 4413 või e-posti aadressil kristi.tomson@pmk.agri.ee \n 
URL:https://www.pikk.ee/sundmus/mullaproovide-votmise-koolitus/
LOCATION:Muu\, Eesti
CATEGORIES:Taimekasvatus
GEO:58.595272;25.0136071
END:VEVENT
BEGIN:VEVENT
DTSTART;VALUE=DATE:20160413
DTEND;VALUE=DATE:20160414
DTSTAMP:20260423T090631
CREATED:20171231T220000Z
LAST-MODIFIED:20171231T220000Z
UID:10006322-1460505600-1460591999@www.pikk.ee
SUMMARY:Pindala ja loomatoetuste infopäev tootjatele
DESCRIPTION:Tartumaa Põllumeeste Liit korraldab tasuta infopäeva tootjatele. \n\n	Infopäev algab kell 10.00 ja kestab 6 tundi \n\n	Infopäeva teemadeks on: \n\n	*Otsetoetuste (ühtne pindalatoetus\, kliima- ja keskkonnatoetus\, noore põllumajandustootja toetus)\, nõuetele vastavuse ja MAK pindala- ja loomatoetuste (põllumajanduslik keskkonnatoetus: keskkonnasõbralik majandamise toetus\, piirkondlik mullakaitsetoetus\, keskkonnasõbraliku aianduse toetus\, kohalikku sorti taimede kasvatamise toetus\, ohustatud tõugu looma kasvatamise toetus ja poolloodusliku koosluse hooldamise toetus; mahepõllumajanduse toetused; loomade heaolu toetus; Natura 2000 toetus põllumajandusmaale) nõuded \n\n	*Pindalatoetuste taotluste esitamise ja põldude joonistamise 2016. aasta muudatused  e-PRIAs \n\n	*Administratiivsete ja kohapealsete kontrollide läbiviimine \n\n	Lektoriteks on konsulendid Ene Milvaste ja Arvo Aller \n\n	Registreerimine: http://goo.gl/forms/h0AfpjvxWA   \n\n	Info : pikk.ee/sündmuste kalender\, merry[A]kodu.ee  või 736 6955 \n\n	Infopäevade korraldamist toetab Euroopa Liit.
URL:https://www.pikk.ee/sundmus/pindala-ja-loomatoetuste-infopaev-tootjatele/
LOCATION:Muu\, Eesti
CATEGORIES:Muu
GEO:58.595272;25.0136071
END:VEVENT
END:VCALENDAR