BEGIN:VCALENDAR
VERSION:2.0
PRODID:-//PIKK.ee - ECPv6.13.2.1//NONSGML v1.0//EN
CALSCALE:GREGORIAN
METHOD:PUBLISH
X-WR-CALNAME:PIKK.ee
X-ORIGINAL-URL:https://www.pikk.ee
X-WR-CALDESC:Events for PIKK.ee
REFRESH-INTERVAL;VALUE=DURATION:PT1H
X-Robots-Tag:noindex
X-PUBLISHED-TTL:PT1H
BEGIN:VTIMEZONE
TZID:Europe/Tallinn
BEGIN:DAYLIGHT
TZOFFSETFROM:+0200
TZOFFSETTO:+0300
TZNAME:EEST
DTSTART:20160327T010000
END:DAYLIGHT
BEGIN:STANDARD
TZOFFSETFROM:+0300
TZOFFSETTO:+0200
TZNAME:EET
DTSTART:20161030T010000
END:STANDARD
END:VTIMEZONE
BEGIN:VEVENT
DTSTART;VALUE=DATE:20160421
DTEND;VALUE=DATE:20160422
DTSTAMP:20260420T155043
CREATED:20171231T220000Z
LAST-MODIFIED:20171231T220000Z
UID:10007651-1461196800-1461283199@www.pikk.ee
SUMMARY:Koolitus "Metsade uuendamine\, hooldamine ja hooldusraied"
DESCRIPTION:Tartumaa \nEesti Maaülikool\, Kreutzwaldi 56/1 \, Tartu \nTartumaa \n\n	Eesti Maaülikooli avatud ülikool korraldab koolituse \n\n	Metsade uuendamine\, hooldamine\, hooldusraied \n\n	Sihtrühm: metsaomanikud\, põllumajandus- ja metsandusvaldkonnas tegevad inimesed. \n\n	Eesmärk: anda teadmised metsade uuendamise\, hooldamise ja hooldusraiete põhimõtetest\, võimalustest\, probleemidest. Koolituse läbinule loob see eeldused õpingute jätkamiseks metsamajanduse õppekaval. \n\n	Õppekava rühm: metsandus. \n\n	Õpiväljundid: koolitusel osalenu omandab  teadmised metsade uuendamise\, hooldamise valdkonnast\, omab ülevaadet olukorrast Eestist\, saab ülevaate erinevate metsauuendamise meetoditest ja raieviisidest Eestimaa metsades. \n\n	Maht: 14 akadeemilist tundi\, millest 7 tundi auditoorset tööd ja 7 tundi praktiline õppekäik metsas. \n\n	Toimumise aeg ja koht: \n\n	neljapäev\, 21. aprill 2016\, Eesti Maaülikooli tehnikamajas\, Kreutzwaldi 56/1 Tartu. \n\n	reede\, 22. aprill 2016\, metsapäev Lõuna-Eestis. \n\n	Õppeteenustasu: 95 EUR \n\n	Õppe sisu: \n\n	– metsade uuendamine ja noorendike hooldamine põlisel metsamaal;\n	– metsade hooldamine\, hooldusraied;\n	– erinevad raieviisid Eestimaa metsades \n\n	Ajakava \n\n	21. aprillil (neljapäev) \n\n	10.00 – 11.30 õppetöö \n\n	11.30 – 12.15 lõunapaus \n\n	12.15 – 13.45 õppetöö \n\n	13.45 – 14.00 kohvipaus \n\n	14.00 – 15.30 õppetöö \n\n	15.30 – 15.45 paus \n\n	15.45 – 16.30 õppetöö \n\n	22. aprillil (reede) \n\n	10.00 – 15.45 metsapäev \n\n	Õppekeskkonna kirjeldus: loeng viiakse läbi avatud ülikooli õppeklassis\, mis on varustatud pabertahvli\, markerite\, arvuti\, WIFI\, dataprojektori või TV-ga. Praktiline päev toimub Lõuna-Eesti metsades. \n\n	Õppematerjalid: lektori konspekt internetikeskkonnas \n\n	Koolituse läbimisel väljastatakse osalejale tõend \n\n	Õppejõud:  Andres Jäärats\, magister (mets)\, Eesti Maaülikooli metsandus- ja maaehitusinstituudi metsakasvatuse osakonna lektor \n\n	VAJALIK EELREGISTREERIMINE maaülikooli avatud ülikooli tel 731 3275\, 731 3175\, 731 3174 või täites registreerumisvormi maaülikooli kodulehe aadressil http://avatudylikool.emu.ee/taiendope/registreeru-kursusele/
URL:https://www.pikk.ee/sundmus/koolitus-metsade-uuendamine-hooldamine-ja-hooldusraied/
LOCATION:Tartumaa\, Eesti
CATEGORIES:Metsandus
GEO:58.4057128;26.801576
END:VEVENT
BEGIN:VEVENT
DTSTART;VALUE=DATE:20160421
DTEND;VALUE=DATE:20160422
DTSTAMP:20260420T155043
CREATED:20171231T220000Z
LAST-MODIFIED:20171231T220000Z
UID:10007824-1461196800-1461283199@www.pikk.ee
SUMMARY:EPKK teabepäev "Piima lisandväärtus ja efektiivne tootmine"
DESCRIPTION:EPKK kutsub põllumehi teabepäevale “Piima lisandväärtus ja efektiivne tootmine” 21. aprillil 2016 \nMeil on hea meel teatada\, et selle aasta kevadine teabepäev toimub Maamessi ajal EMÜ Veterinaarmeditsiini ja loomakasvatuse instituudis\, Kreutzwaldi  62\, ruum number 201. \nSeekordsele teabepäevale oleme kaasanud enda koostööpartnerid Belgiast ja Hollandist – oma ala täielikud eksperdid. \nAjakava \n09:30 – 10:00 Kogunemine\n10:00 – 10:15 Tervituskõne\n10:15 – 11:30 Ekstrudeeritud lina piimalehmade ratsioonis – positiivsed mõjud loomadele ja inimestele\, Patrick Schotte\, Dumoulin Group (Belgia)\n11:30 – 12:45 Vasikakasvatus – hea algus tipplehmadele\, Fokke Komrij\, Denkavit (Holland)\n12:45 – 13:00 Teabepäeva lõpetamine \n\nKuivõrd kohad on piiratud palume Teil kiiresti ennast teabepäevale registreerida. \nPalume oma osalemisest teatada hiljemalt 20. aprilliks 2016.a. \nRegistreeri SIIN\n  \n 
URL:https://www.pikk.ee/sundmus/epkk-teabepaev-piima-lisandvaartus-ja-efektiivne-tootmine/
LOCATION:Muu\, Eesti
CATEGORIES:Loomakasvatus,Toiduainete tootmine,Turundus
GEO:58.595272;25.0136071
END:VEVENT
BEGIN:VEVENT
DTSTART;VALUE=DATE:20160421
DTEND;VALUE=DATE:20160422
DTSTAMP:20260420T155043
CREATED:20171231T220000Z
LAST-MODIFIED:20171231T220000Z
UID:10007826-1461196800-1461283199@www.pikk.ee
SUMMARY:MES ja PIKK Maamessil
DESCRIPTION:Maaelu Edendamise Sihtasutus (MES) ja Põllumajanduse informatsiooni ja konsultatsiooni keskus (PIKK) osalevad 21.-23.aprillil Tartus Maamessil. MES ja PIKK on ühisstendil koos Maaeluministeeriumi\, PRIA\, Põllumajandusameti ning Maamajanduse Infokeskusega C hallis (stend C-35). \nIga päev on kohapeal MESi konsulendid ja projektijuhid\, kes teie küsimustele hea meelega vastavad. Astu läbi ja küsi nõu! \n\n\n\n\nNeljapäev\, 21. aprill 2016 \n\n\n\n\n10.00 – 18.00 \n\n\nMaamajanduse Infokeskus. Stendil jagavad infot Reve Lambur\, Helene Kõiv ja Erik Lööper. Teemad: Avatud talude päev 2016\, põllumajandusliku keskkonnatoetuse edulugude kogumine “Märka keskkonnahoidlikku põllumajandust!”\, LEADER rakendamine Eestis \n\n\n\n\n10.00 – 18.00 \n\n\nPõllumajandusamet. Spetsialistid annavad nõu ja vastavad küsimustele maaparanduse\, mahepõllumajanduse\, taimetervise ja taimekaitse teemadel \n\n\n\n\n10.00 – 18.00 \n\n\nPRIA. Esindajad tutvustavad kõigile huvilistele e-PRIA kasutamist ning vastavad põllumajandus- ja maaelutoetusi puudutavatele küsimustele \n\n\n\n\n10.00 – 18.00 \n\n\nMaaeluministeerium. Stendil jagatakse infot põllumajanduse otsetoetuste\, MAKi keskkonnatoetuste ja Avatud talude päev 2016 teemadel \n\n\n\n\n11.00 – 18.00 \n  \n12.00 – 18.00 \n\n\nMaaelu Edendamise Sihtasutus ja PIKK. Küsimustele laenude ja garanteerimise valdkonnas vastab MESi analüütik Enn Tiitus; \n  \nNõu annab MESi  konsulent Triin Luksepp (teemad: maaettevõtlus ja finants-juhtimine\, nõuetele vastavus\, MAKi rahastamisvahend) \n\n\n\n\n  \n\n\n\n\n                                                                   Reede\, 22. aprill 2016 \n\n\n\n\n09.00 – 18.00 \n\n\nMaamajanduse Infokeskus. Stendil jagavad infot Reve Lambur\, Ave Bremse\, Ester Valdvee ja Konstantin Mihhejev. Teemad: Avatud talude päev 2016\, põllu-majandusliku keskkonnatoetuse edulugude kogumine “Märka keskkonnahoidlikku põllumajandust!”\, LEADER rakendamine Eestis \n\n\n\n\n09.00 – 18.00 \n\n\nPõllumajandusamet. Spetsialistid annavad nõu ja vastavad küsimustele maaparanduse\, mahepõllumajanduse\, taimetervise ja taimekaitse teemadel \n\n\n\n\n09.00 – 18.00 \n\n\nPRIA. Esindajad tutvustavad kõigile huvilistele e-PRIA kasutamist ning vastavad põllumajandus- ja maaelutoetusi puudutavatele küsimustele \n\n\n\n\n09.00 – 18.00 \n\n\nMaaeluministeerium. Stendil jagatakse infot põllumajanduse otsetoetuste\, MAKi keskkonnatoetuste ja Avatud talude päev 2016 teemadel \n\n\n\n\n11.00 – 18.00 \n  \n12.00 – 18.00 \n\n\nMaaelu Edendamise Sihtasutus. Küsimustele laenude ja garanteerimise valdkonnas vastab MESi analüütik Laivi Piir; \n  \nNõu annab ja e-PRIA teemalistele küsimustele vastab MESi konsulent Maire Tõrra (teemad: taimekasvatus ja nõuetele vastavus) \n\n\n\n\n  \n\n\n\n\n                                                                Laupäev\, 23. aprill 2016 \n\n\n\n\n09.00 – 16.00 \n\n\nMaamajanduse Infokeskus. Stendil jagavad infot Ave Bremse\,  Meeri Klooren ja Konstantin Mihhejev. Teemad: Avatud talude päev 2016\, põllumajandusliku keskkonnatoetuse edulugude kogumine “Märka keskkonnahoidlikku põllumajandust!”\, LEADER rakendamine Eestis \n\n\n\n\n09.00 – 16.00 \n\n\nPõllumajandusamet. Spetsialistid annavad nõu ja vastavad küsimustele maaparanduse\, mahepõllumajanduse\, taimetervise ja taimekaitse teemadel \n\n\n\n\n09.00 – 16.00 \n\n\nPRIA. Esindajad tutvustavad kõigile huvilistele e-PRIA kasutamist ning vastavad põllumajandus- ja maaelutoetusi puudutavatele küsimustele \n\n\n\n\n09.00 – 16.00 \n\n\nMaaeluministeerium. Stendil jagatakse infot MAKi keskkonnatoetuste ja Avatud talude päev 2016 teemadel \n\n\n\n\n09.00 – 15.00 \n  \n10.00 – 16.00 \n\n\nMaaelu Edendamise Sihtasutus. Nõu annab ja e-PRIA teemalistele küsimustele vastab MESi konsulent Jüri Mets (teemad: loomakasvatus\, töötervishoid ja tööohutus\, bioohutuse meetmed\, nõuetele vastavus); \n  \nKüsimustele laenude ja garanteerimise valdkonnas vastab MESi analüütik Lea Kirsipuu
URL:https://www.pikk.ee/sundmus/mes-ja-pikk-maamessil/
LOCATION:Muu\, Eesti
CATEGORIES:Muu
GEO:58.595272;25.0136071
END:VEVENT
BEGIN:VEVENT
DTSTART;VALUE=DATE:20160421
DTEND;VALUE=DATE:20160422
DTSTAMP:20260420T155043
CREATED:20171231T220000Z
LAST-MODIFIED:20171231T220000Z
UID:10006341-1461196800-1461283199@www.pikk.ee
SUMMARY:Põllu- ja metsamajanduse taristu arendamise ja hoiu investeeringutoetuse tutvustamine
DESCRIPTION:Tartumaa Põllumeeste Liit korraldab algusega 10.00 infopäevad (planeeritud 4 tundi) meetme „Põllu- ja metsamajanduse taristu arendamise ja hoiu investeeringutoetuse“ (maaparandus – kuivendussüsteemid\, juurdepääsuteed\, keskkonnamõju hindamisega seotud tegevused) tutvustamiseks. \n\n	Teemad: \n\n	Mati Märtson\, põllumajandusamet – Maaparandusest üldiselt. Kasulikke tähelepanekuid 2015. aasta projektide põhjal. \n\n	Reena Osolin\, maaeluministeerium – Eesti Maaelu Arengukava meetme 4.3.2 „Põllu- ja metsamajanduse taristu arendamise ja hoiu investeeringutoetus“ määruse tutvustus. Eelarve\, tingimused\, hindamine jms. \n\n	Jaak Isand\, põllumajandusamet – Mis toimub peale taotluse esitamist? Kontrollide läbiviimine. \n\n	Genadi Vassiljev\, põllumajandusamet – 2015. aastat taotluste ehitusmaksumused \n\n	Ettekanded aadressil: http://www.pikk.ee/sundmused/2016/04/21/10401#.VxdhN_mLSUk \n\n	Registreerimine:  \n\n	Registreerida saab ka merry[A]kodu.ee ja 736 6955\, kuid palume eelistada registreerimist pikk.ee lehel.
URL:https://www.pikk.ee/sundmus/pollu-ja-metsamajanduse-taristu-arendamise-ja-hoiu-investeeringutoetuse-tutvustamine-4/
LOCATION:Muu\, Eesti
CATEGORIES:Metsandus
GEO:58.595272;25.0136071
END:VEVENT
BEGIN:VEVENT
DTSTART;VALUE=DATE:20160421
DTEND;VALUE=DATE:20160422
DTSTAMP:20260420T155043
CREATED:20171231T220000Z
LAST-MODIFIED:20171231T220000Z
UID:10006342-1461196800-1461283199@www.pikk.ee
SUMMARY:Mahepõllumajanduslik linnukasvatus
DESCRIPTION:Eesti Mahepõllumajanduse Sihtasutus korraldab \n\n	21. aprillil kell 10.00 infopäeva „Mahepõllumajanduslik linnukasvatus“.  \n\n	Asukoht:  Eesti Maaülikool\, Kreutzwaldi 62\, Tartu\, ruum A122 \n\n	Päevakava: \n\n	10.00-12.30  Kodulindude söötade toitainete sisaldus\, ratsiooni koostamise põhimõtted ja sobivad mahesöödad\, ratsiooni koostamine munakanadele\, noorlindudele ja tibudele. \n\n	12.30-12:45    Kohvipaus \n\n	12.45-15:00    Kanade parasiidid\, nende ennetus ja tõrje. Ümarusstõved (askaridioos ja heterakioos\, süngamoos)\, eimerioosid\, histomonoos; välisparasiidid. \n\n	Lektorid on Aleksander Lember ja Julia Jeremejeva Eesti Maaülikoolist. \n\n	Infopäev on tasuta. Osalemiseks on kindlasti vajalik registreerimine hiljemalt 18. aprilliks \n\n	Registreerumine on lõppenud kohtade täitumise tõttu. \n\n	  \n\n	Registreerimisel vajame järgmist infot: osaleja nimi ja isikukood\, ettevõtte nimi ja äriregistri kood\, e-mail\, telefon. \n\n	Kohtade arv on piiratud ja registreerimine lõpetatakse kohtade täitumisel \n\n	Infopäev läheb arvesse mahepõllumajandusliku tootmise toetuse saamise kohustusliku koolitusena. \n\n	Lisainfo: maheteave[A]gmail.com; tel: 5662 0955 \n\n	Infopäev toimub MAK 2014-2020 "Teadmussiirde pikaajaline programm mahepõllumajanduse tegevusvaldkonnas" raames\, toetab Euroopa Liit.
URL:https://www.pikk.ee/sundmus/mahepollumajanduslik-linnukasvatus/
LOCATION:Muu\, Eesti
CATEGORIES:Loomakasvatus
GEO:58.595272;25.0136071
END:VEVENT
END:VCALENDAR