BEGIN:VCALENDAR
VERSION:2.0
PRODID:-//PIKK.ee - ECPv6.13.2.1//NONSGML v1.0//EN
CALSCALE:GREGORIAN
METHOD:PUBLISH
X-WR-CALNAME:PIKK.ee
X-ORIGINAL-URL:https://www.pikk.ee
X-WR-CALDESC:Events for PIKK.ee
REFRESH-INTERVAL;VALUE=DURATION:PT1H
X-Robots-Tag:noindex
X-PUBLISHED-TTL:PT1H
BEGIN:VTIMEZONE
TZID:Europe/Tallinn
BEGIN:DAYLIGHT
TZOFFSETFROM:+0200
TZOFFSETTO:+0300
TZNAME:EEST
DTSTART:20160327T010000
END:DAYLIGHT
BEGIN:STANDARD
TZOFFSETFROM:+0300
TZOFFSETTO:+0200
TZNAME:EET
DTSTART:20161030T010000
END:STANDARD
END:VTIMEZONE
BEGIN:VEVENT
DTSTART;VALUE=DATE:20160509
DTEND;VALUE=DATE:20160510
DTSTAMP:20260421T195430
CREATED:20171231T220000Z
LAST-MODIFIED:20171231T220000Z
UID:10006352-1462752000-1462838399@www.pikk.ee
SUMMARY:Infopäev - Nõuded toidu käitlemisel. Tootearendus. Toidu kvaliteet.
DESCRIPTION:Eesti Põllumajandus-Kaubanduskoda korraldab tasuta infopäeva põllumajandustoodete ja toidutootjatele:    \nNõuded toidu käitlemisel. Tootearendus. Toidu kvaliteet. \nInfopäevade toimumisajad ja kohad:\n09. mail 2016 kell 10 Tallinnas (Eesti Põllumajandus-Kaubanduskojas\,  J. Vilmsi 53g Tallinn)\n13. mail 2016 kell 11 Tartus (Tartu Põllumeeste Keskliidus\, Jalaka 48 Tartu)\nInfopäeva planeeritud kestus on 5 tundi ja 15 minutit. \nInfopäeval käsitletavad teemad:\n•         Toidutööstuse arengud ja toidutrendid maailmas ja Eestis. Tootearendus.\nLektor professor Raivo Vokk\n•         Lisaained meie toidus.\nLektor Tallinna Tehnikaülikooli Toiduainete Instituudi assistent Erge Tedersoo\n•         Kuidas tagada toote märgistuse vastavus toidualase teabe määruse 1169/2011 nõuetele?\nLektor Veterinaar- ja Toiduameti jaekaubanduse\, mahepõllumajanduse ja  mitteloomse toidu büroo peaspetsialist Tiiu Rand\n•         Praktilised harjutused: toitumisalase teabe arvutamine ja esitamine.\nLektor Eesti Põllumajandus-Kaubanduskoja toiduvaldkonna juht Evi Randpere \nInfopäevade sihtgrupp on põllumajandustoodete tootmise ja töötlemisega ning põllumajandustoodetest mittepõllumajandustoodete töötlemisega tegelevad isikud\, neile on infopäevad tasuta. Teistele on  ühe infopäeva osalustasu  47 EUR/in. \nOsalemiseks on vajalik eelregistreerimine hiljemalt 3 päeva enne iga infopäeva toimumist SIIN. \nLisainfo ja küsimuste korral võtke palun ühendust:\nEvi Randpere\,\nEPKK toiduvaldkonna juht\,\ntel: 509 7819\,\ne-post: evi@epkk.ee \nInfopäeva korraldamist toetab Euroopa Liit.
URL:https://www.pikk.ee/sundmus/infopaev-nouded-toidu-kaitlemisel-tootearendus-toidu-kvaliteet/
LOCATION:Muu\, Eesti
CATEGORIES:Toiduainete tootmine
GEO:58.595272;25.0136071
END:VEVENT
BEGIN:VEVENT
DTSTART;VALUE=DATE:20160509
DTEND;VALUE=DATE:20160510
DTSTAMP:20260421T195430
CREATED:20171231T220000Z
LAST-MODIFIED:20171231T220000Z
UID:10006219-1462752000-1462838399@www.pikk.ee
SUMMARY:Koolitus VEISTE KUNSTLIK SEEMENDAMINE
DESCRIPTION:Tartumaa \nEesti Maaülikool\, Tartu\, Kreutzwaldi 62 ja praktikafarmid \nTartumaa \n\n	Maht                   40 tundi teooriat ja 40 tundi praktikat (3\,5 EAP) \n\n	Käsitletavad teemad: \n\n\n		seemenduse ajalugu ja tähtsus;\n\n		ejakulaadi hindamine;\n\n		välistegurite mõju spermale;\n\n		sperma lahjendamine sügavkülmutamiseks;\n\n		sperma sügavkülmutamine\, säilitamine ja hindamine;\n\n		lehma suguorganite anatoomia\, füsioloogia ja innatsükli regulatsioon;\n\n		suguorganite ultrasonograafia;\n\n		seemendusviisid ja meetodid;\n\n		inna tunnused ja inna avastamine;\n\n		inna stimuleerimine ja sünkroniseerimine;\n\n		optimaalne seemendusaeg inna ajal ja pärast poegimist;\n\n		seemendamisel tehtavaid vigu;\n\n		suguselekteeritud sperma\, seemendamine suguselekteeritud spermaga;\n\n		ahtrus ja sigimatus;\n\n		emaka kateteriseerimine;\n\n		sagedasemad madala tiinestumise põhjused;\n\n		tiinuse diagnoosimine;\n\n		kunstlike seemenduse organisatsioon;\n\n		seemendustehniku töö aspektid;\n\n		suguorganite rektaalne uurimine;\n\n		tiinuse rektaalne diagnoosimine;\n\n		lehmade söötmine ja sigimine;\n\n		emakapõletikud jm poegimisjärgsed haigused.\n\n\n	Õppetöö algus 11. jaanuaril kell 10.00\, täpne ajakava selgub detsembris. Ajakava vaata \n\n	Õppejõud: Eesti Maaülikooli veterinaarmeditsiini ja loomakasvatusinstituudist\n	Alar Onoper\, vanemloomaarst\, Andres Valdmann\, prof\, dr (vet)\, Kalle Kask\, dots\, PhD (vet)\,\n	Ants Kavak\, lektor\, dr (vet)\, Jevgeni Kurõkin\, teadur\, knd (vet)\, Mihkel Jalakas\, peaspetsialist\, dr (vet) \n\n	Õppeteenustasu 770 EUR.  \n\n	Õppetasu saab näidata tuludeklaratsioonis koolituskuluna. \n\n	Vajalik eelregistreerimine tel 731 3275\, 731 3175\, 731 3174 või täites registreerumisvormi maaülikooli kodulehe aadressil http://avatudylikool.emu.ee/taiendope/registreeru-kursusele/ \n\n	Koolitust korraldab:\n	Eesti Maaülikooli avatud ülikool\n	Tel 731 3174\, 731 3275\, 731 3175\n	avayl@emu.ee\n	Kreutzwaldi 56-304;306\n	51014 Tartu\n	 
URL:https://www.pikk.ee/sundmus/koolitus-veiste-kunstlik-seemendamine/
LOCATION:Tartumaa\, Eesti
CATEGORIES:Loomakasvatus
GEO:58.4057128;26.801576
END:VEVENT
END:VCALENDAR