BEGIN:VCALENDAR
VERSION:2.0
PRODID:-//PIKK.ee - ECPv6.13.2.1//NONSGML v1.0//EN
CALSCALE:GREGORIAN
METHOD:PUBLISH
X-WR-CALNAME:PIKK.ee
X-ORIGINAL-URL:https://www.pikk.ee
X-WR-CALDESC:Events for PIKK.ee
REFRESH-INTERVAL;VALUE=DURATION:PT1H
X-Robots-Tag:noindex
X-PUBLISHED-TTL:PT1H
BEGIN:VTIMEZONE
TZID:Europe/Tallinn
BEGIN:DAYLIGHT
TZOFFSETFROM:+0200
TZOFFSETTO:+0300
TZNAME:EEST
DTSTART:20160327T010000
END:DAYLIGHT
BEGIN:STANDARD
TZOFFSETFROM:+0300
TZOFFSETTO:+0200
TZNAME:EET
DTSTART:20161030T010000
END:STANDARD
END:VTIMEZONE
BEGIN:VEVENT
DTSTART;VALUE=DATE:20160919
DTEND;VALUE=DATE:20160920
DTSTAMP:20260420T225543
CREATED:20171231T220000Z
LAST-MODIFIED:20171231T220000Z
UID:10007963-1474243200-1474329599@www.pikk.ee
SUMMARY:Mahepõllumajanduslik loomakasvatus alustajatele Tamsalus
DESCRIPTION:Eesti Mahepõllumajanduse Sihtasutus korraldab 4 infopäeva teemal "Mahepõllumajanduslik loomakasvatus alustajatele" \n\n	Õppepäevad toimuvad järgmiselt:  \n\n	15.09.2016 kell 10:00-14:45;  Võru vallavalitsuses\, Võrumõisa tee 4a\, Võru \n\n	19.09.2016 kell 10:00-14:45; Tamsalu kultuurimaja\, Sõpruse pst 3\, Tamsalu\, Lääne-Virumaa (http://tamsalukultuurimaja.ee) \n\n	21.09.2016 kell 10:00-14:45; Põllumajandusameti saalis\, Kerese 4\, Pärnu \n\n	22.09.2016 kell 10:15-14.45; Kuressaare ametikoolis\, Kohtu 22\, Kuressaare \n\n	  \n\n	Kava: \n\n	10:00 Mahepõllumajandusliku loomakasvatuse nõuded ja põhimõtted\n	Pidamistingimused. Loomade sissetoomine ettevõttesse\, Loomatervishoid\,\n	veterinaarsed jm toimingud\n	12:00 Kohvipaus\n	12:15 Loomade söötmine\, erinevad ratsioonid\n	Kuidas saada hakkama 100% mahesöödaga\, külvikord loomakasvatusega\n	tegelevas ettevõttes\n	14:45 Lõpp \n\n	Ettekanne 1 ja ettekanne 2 \n\n	Lektorid Ragnar Leming ja Margo Mansberg \n\n	Osalemine on tasuta\, osalejate arv on piiratud. Osalemiseks on kindlasti vajalik registreerimine hiljemalt 2 päeva enne toimumist registreerimisvormide kaudu \n\n	Võru: https://goo.gl/forms/SuBPquDDV9Vm7gEa2 \n\n	Tamsalu: https://goo.gl/forms/GeTL3yklfnHxwNeI3 \n\n	Pärnu: https://goo.gl/forms/BH2hJSi3GbVEkuye2 \n\n	Kuressaare: https://goo.gl/forms/II0tE0su3OVFQSPl2 \n\n	  \n\n	Võimalik on registreeruda ka telefonil 5662 0955 \n\n	NB! Mahetoetuse nõuete kohaselt peavad 2015. ja 2016. aastal alustanud mahetootjad peavad olema osalenud 2016. a 1. novembriks vähemalt kahel mahetootmise algkoolitusel või õppepäeval (kokku 12 tundi). Kui eelnenud 5 aasta jooksul on osaletud vähemalt 2 maheõppepäeval\, siis algkoolitusel ei pea osalema. \n\n	 Infopäevad toimuvad " Teadmussiirde pikaajaline programm põllumajanduspoliitika abinõude tegevusvaldkonnas" raames\, toetab Euroopa Liit. Korraldab Eesti Mahepõllumajanduse Sihtasutus
URL:https://www.pikk.ee/sundmus/mahepollumajanduslik-loomakasvatus-alustajatele-tamsalus/
LOCATION:Muu\, Eesti
CATEGORIES:Loomakasvatus
GEO:58.595272;25.0136071
END:VEVENT
END:VCALENDAR