BEGIN:VCALENDAR
VERSION:2.0
PRODID:-//PIKK.ee - ECPv6.13.2.1//NONSGML v1.0//EN
CALSCALE:GREGORIAN
METHOD:PUBLISH
X-ORIGINAL-URL:https://www.pikk.ee
X-WR-CALDESC:Events for PIKK.ee
REFRESH-INTERVAL;VALUE=DURATION:PT1H
X-Robots-Tag:noindex
X-PUBLISHED-TTL:PT1H
BEGIN:VTIMEZONE
TZID:Europe/Tallinn
BEGIN:DAYLIGHT
TZOFFSETFROM:+0200
TZOFFSETTO:+0300
TZNAME:EEST
DTSTART:20160327T010000
END:DAYLIGHT
BEGIN:STANDARD
TZOFFSETFROM:+0300
TZOFFSETTO:+0200
TZNAME:EET
DTSTART:20161030T010000
END:STANDARD
END:VTIMEZONE
BEGIN:VEVENT
DTSTART;VALUE=DATE:20161202
DTEND;VALUE=DATE:20161203
DTSTAMP:20260425T015228
CREATED:20171231T220000Z
LAST-MODIFIED:20171231T220000Z
UID:10006459-1480636800-1480723199@www.pikk.ee
SUMMARY:Esitlustegevus mahetootjatele: külmkuivatamise tehnoloogiad
DESCRIPTION:Esitlustegevus mahetootjatele: külmkuivatamise tehnoloogiad \n\n	Eesti Maaülikool korraldab 2. detsembril külmkuivatamise tehnoloogiate esitlustegevuse Lääne-Virumaal ettevõttes Freezedry OÜ. \n\n	Aeg: 2. detsember\, kell 11.00-14.30 \n\n	Koht: Freezedry OÜ\, Lai 4\, 46401 Simuna\, Väike-Maarja vald\, Lääne-Virumaa \n\n	Kava:\n	Freezedry OÜ tutvustus\n	Külmkuivatamise tehnoloogia tutvustamine\n	Külmkuivatatud toodete pakendamine ja laomajandus\n	Külmkuivatatud toodete turustamine\n	Energiapaus \n\n	Lektoriteks on Mermi Kangur (Freezdry OÜ)\, Kersti Kahju ja Ave Kikas (Eesti Maaülikool). \n\n	Registreerimine aadressil: maheteave[A]gmail.com (eelistatult) või telefonil 53044003.\n	NB! Kohtade arv on piiratud! \n\n	Esitluspäev läheb arvesse mahepõllumajandusliku tootmise toetuse saamise kohustusliku koolitusena (4 tundi). \n\n	Esitluspäev toimub MAK 2014-2020 "Teadmussiirde pikaajaline programm mahepõllumajanduse tegevusvaldkonnas" raames\, toetab Euroopa Liit.
URL:https://www.pikk.ee/sundmus/esitlustegevus-mahetootjatele-kulmkuivatamise-tehnoloogiad/
LOCATION:Muu\, Eesti
CATEGORIES:Taimekasvatus,Toiduainete tootmine
GEO:58.595272;25.0136071
END:VEVENT
BEGIN:VEVENT
DTSTART;VALUE=DATE:20161202
DTEND;VALUE=DATE:20161203
DTSTAMP:20260425T015228
CREATED:20171231T220000Z
LAST-MODIFIED:20171231T220000Z
UID:10008067-1480636800-1480723199@www.pikk.ee
SUMMARY:Taimekaitsevahendite professionaalse kasutaja täiendkoolitus
DESCRIPTION:Järvamaa Kutsehariduskeskus korraldab täiendkoolituse "Taimekaitsevahendid professionaalsele kasutajale" \nPÄEVAKAVA \n9.00 – 11.20    Integreeritud taimekaiste + turule lubatud taimekaitsevahendid\, nende liigitamine  + praktika \n11.20 – 11.30    KOHVIPAUS \n11.30 – 13.00 Etiketi lugemine + taimekahjustajad\, nende tõrje + illegaalsed taimekaitsevahendid \n13.00 – 13.45  LÕUNASÖÖK \n13.45 – 15.25  Ohutusnõuded taimekaitsevahendite kasutamisel\, taimekaitse-vahendi tühja pakendi\, pesuvee\, pritsimislahuse ja taimekaitsevahendi jääkide käitlemine + praktika: pritsi kontroll ja ettevalmistamine tööks\, kulunormide arvutamine \n15.25 – 15.40   KOHVIPAUS \n15.40 – 19.10 Seadusandlus\, isikukaitsevahendid + esmaabi + pritsi tüübid ja nende käitlemine \nLektorid: Kaja Marrandi ja Marek Kõbu \nKoolitused toimuvad "Teadmussiirde pikaajaline programm taimekasvatuse tegevusvaldkonnas" raames\, toetab Euroopa Liit \nKoolitusgrupp on TÄITUNUD. \nLisainfo Ruth Türk\, ruth.turk@jkhk.ee
URL:https://www.pikk.ee/sundmus/taimekaitsevahendite-professionaalse-kasutaja-taiendkoolitus-4/
LOCATION:Muu\, Eesti
CATEGORIES:Taimekasvatus
GEO:58.595272;25.0136071
END:VEVENT
BEGIN:VEVENT
DTSTART;VALUE=DATE:20161202
DTEND;VALUE=DATE:20161203
DTSTAMP:20260425T015228
CREATED:20171231T220000Z
LAST-MODIFIED:20171231T220000Z
UID:10008099-1480636800-1480723199@www.pikk.ee
SUMMARY:Infopäev "Mahepõllumajanduslik kitsekasvatus"
DESCRIPTION:Eesti Mahepõllumajanduse Sihtasutus korraldab infopäeva "Mahepõllumajanduslik kitsekasvatus" \n\n	Aeg: 2. detsember 2016 kell 10:00-14:45 \n\n	Koht: Mooste Mõisa külalistemaja II korrus http://www.moostemois.ee/ \n\n	  \n\n	Kava: \n\n	11:00 Kitsede aretus ja jõudluskontroll. \n\n	12.15 Kohvipaus \n\n	12:30 Kitsede peamised terviseprobleemid \n\n	14:15 Üvasi kitsekasvatustalu külastus – kitsede pidamine\, kitsepiima töötlemine \n\n	16:00 Lõpp \n\n	 Lektorid  Anne Grünberg ja Katrin Tähepõld \n\n	  \n\n	Infopäev läheb arvesse mahepõllumajandusliku tootmise toetuse saamise kohustusliku koolitusena (6 tundi). \n\n	Infopäeval osalemine on tasuta. Osalemiseks on kindlasti vajalik registreerimine hiljemalt 30. novembriksiks siin: https://goo.gl/forms/CTPm3Og5j4rwqfQp2  (eelistatult) või telefonil 56620955. Kohtade arv on piiratud. \n\n	Infopäev toimub "Teadmussiirde pikaajaline programm mahepõllumajanduse tegevusvaldkonnas" raames\, toetab Euroopa Liit.
URL:https://www.pikk.ee/sundmus/infopaev-mahepollumajanduslik-kitsekasvatus/
LOCATION:Muu\, Eesti
CATEGORIES:Loomakasvatus
GEO:58.595272;25.0136071
END:VEVENT
END:VCALENDAR