BEGIN:VCALENDAR
VERSION:2.0
PRODID:-//PIKK.ee - ECPv6.13.2.1//NONSGML v1.0//EN
CALSCALE:GREGORIAN
METHOD:PUBLISH
X-ORIGINAL-URL:https://www.pikk.ee
X-WR-CALDESC:Events for PIKK.ee
REFRESH-INTERVAL;VALUE=DURATION:PT1H
X-Robots-Tag:noindex
X-PUBLISHED-TTL:PT1H
BEGIN:VTIMEZONE
TZID:Europe/Tallinn
BEGIN:DAYLIGHT
TZOFFSETFROM:+0200
TZOFFSETTO:+0300
TZNAME:EEST
DTSTART:20160327T010000
END:DAYLIGHT
BEGIN:STANDARD
TZOFFSETFROM:+0300
TZOFFSETTO:+0200
TZNAME:EET
DTSTART:20161030T010000
END:STANDARD
END:VTIMEZONE
BEGIN:VEVENT
DTSTART;VALUE=DATE:20161207
DTEND;VALUE=DATE:20161208
DTSTAMP:20260426T015227
CREATED:20171231T220000Z
LAST-MODIFIED:20171231T220000Z
UID:10008089-1481068800-1481155199@www.pikk.ee
SUMMARY:Maakondlik  Infopäev  "Muudatused   maksu-ja  raamatupidamisseadustes  2016  ja  nende  rakendamise  erinevad  võimalused "
DESCRIPTION:Viljandi  Põllumajanduse  Nõuandeühing  viib  läbi  infopäeva  algusega  kell  10.00   \n\n	1.Muudatused  maksu-ja  raamatupidamisseadustes  2016-2017  ja  nende  rakendamise  erinevad  võimalused  " \n\n	Lektor  Tiina  Sisa. \n\n	Infopäev  on  tasuta.  Toetab  Euroopa  Liit \n\n	Vajalik  eelregistreerimine   e-post  nouandeyhing@vpnu.ee  või  telefonil  43 33800\,  56240049
URL:https://www.pikk.ee/sundmus/maakondlik-infopaev-muudatused-maksu-ja-raamatupidamisseadustes-2016-ja-nende-rakendamise-erinevad-voimalused/
LOCATION:Muu\, Eesti
CATEGORIES:Finantsmajandus
GEO:58.595272;25.0136071
END:VEVENT
BEGIN:VEVENT
DTSTART;VALUE=DATE:20161207
DTEND;VALUE=DATE:20161208
DTSTAMP:20260426T015227
CREATED:20171231T220000Z
LAST-MODIFIED:20171231T220000Z
UID:10006440-1481068800-1481155199@www.pikk.ee
SUMMARY:Taimekasvatus konsulendile - Tasakaalustatud väetamine
DESCRIPTION:Taimekasvatus konsulendile – Tasakaalustatud väetamine \n\n	Toimumise aeg: 07.12.2016 Rõhul ja 12.12.-14.12.2016 Tartus Eesti Maaülikool Kreutzwaldi 56/1 ruum A 303 ja A305 (tehnikamaja III korrus) \n\n	Täpsem info koolituse kohta: https://ois.emu.ee/pls/ois/!tere.tulemast?leht=OK.AY.VP&id_ay_programm=7262&id_ay_toimumine=9203&systeemi_seaded=3\,1\,12\,1\,
URL:https://www.pikk.ee/sundmus/taimekasvatus-konsulendile-tasakaalustatud-vaetamine/
LOCATION:Muu\, Eesti
CATEGORIES:Taimekasvatus
GEO:58.595272;25.0136071
END:VEVENT
END:VCALENDAR