BEGIN:VCALENDAR
VERSION:2.0
PRODID:-//PIKK.ee - ECPv6.13.2.1//NONSGML v1.0//EN
CALSCALE:GREGORIAN
METHOD:PUBLISH
X-WR-CALNAME:PIKK.ee
X-ORIGINAL-URL:https://www.pikk.ee
X-WR-CALDESC:Events for PIKK.ee
REFRESH-INTERVAL;VALUE=DURATION:PT1H
X-Robots-Tag:noindex
X-PUBLISHED-TTL:PT1H
BEGIN:VTIMEZONE
TZID:Europe/Tallinn
BEGIN:DAYLIGHT
TZOFFSETFROM:+0200
TZOFFSETTO:+0300
TZNAME:EEST
DTSTART:20160327T010000
END:DAYLIGHT
BEGIN:STANDARD
TZOFFSETFROM:+0300
TZOFFSETTO:+0200
TZNAME:EET
DTSTART:20161030T010000
END:STANDARD
END:VTIMEZONE
BEGIN:VEVENT
DTSTART;VALUE=DATE:20161216
DTEND;VALUE=DATE:20161217
DTSTAMP:20260422T033308
CREATED:20171231T220000Z
LAST-MODIFIED:20171231T220000Z
UID:10008116-1481846400-1481932799@www.pikk.ee
SUMMARY:Mahepõllumajandusliku lihaveisekasvatuse esitluspäev
DESCRIPTION:Mahepõllumajandusliku lihaveisekasvatuse esitluspäev \n\n	Toimumisaeg: 16. detsember 2016 k 11-14.30\n	Toimumiskoht: Arne Kokla Tõnise talu\, Undama küla\, Pühalepa vald\, Hiiumaa \n\n	Kava: \n\n\n		Ettevõtte mahelihaveisekasvatuse tutvustus\, ringkäik ettevõttes\n\n		Mahelihaveisekasvatus Hiiumaa tingimustes. Arutelu\n\n		Liha kvaliteet ja turustamine. Arutelu\n\n		Supipaus\n\n\n	\n	Esitluse läbiviijateks on Mariann ja Arne Kokla.\n	Korraldab Ökoloogiliste Tehnoloogiate Keskus. Info ja registreerimine 56473322. \n	Esitluspäev läheb arvesse mahepõllumajandusliku tootmise toetuse saamise kohustusliku koolitusena (4 tundi). \n	Esitluspäev toimub MAK 2014-2020 programmi "Teadmussiirde pikaajaline programm mahepõllumajanduse tegevusvaldkonnas" raames\, toetab Euroopa Liit.
URL:https://www.pikk.ee/sundmus/mahepollumajandusliku-lihaveisekasvatuse-esitluspaev-2/
LOCATION:Muu\, Eesti
CATEGORIES:Loomakasvatus
GEO:58.595272;25.0136071
END:VEVENT
END:VCALENDAR