BEGIN:VCALENDAR
VERSION:2.0
PRODID:-//PIKK.ee - ECPv6.13.2.1//NONSGML v1.0//EN
CALSCALE:GREGORIAN
METHOD:PUBLISH
X-WR-CALNAME:PIKK.ee
X-ORIGINAL-URL:https://www.pikk.ee
X-WR-CALDESC:Events for PIKK.ee
REFRESH-INTERVAL;VALUE=DURATION:PT1H
X-Robots-Tag:noindex
X-PUBLISHED-TTL:PT1H
BEGIN:VTIMEZONE
TZID:Europe/Tallinn
BEGIN:DAYLIGHT
TZOFFSETFROM:+0200
TZOFFSETTO:+0300
TZNAME:EEST
DTSTART:20160327T010000
END:DAYLIGHT
BEGIN:STANDARD
TZOFFSETFROM:+0300
TZOFFSETTO:+0200
TZNAME:EET
DTSTART:20161030T010000
END:STANDARD
END:VTIMEZONE
BEGIN:VEVENT
DTSTART;VALUE=DATE:20161222
DTEND;VALUE=DATE:20161223
DTSTAMP:20260421T215640
CREATED:20171231T220000Z
LAST-MODIFIED:20171231T220000Z
UID:10006471-1482364800-1482451199@www.pikk.ee
SUMMARY:Infopäev: Mahepõllumajanduslik piimakarjakasvatus Võrumaal
DESCRIPTION:Eesti Mahepõllumajanduse Sihtasutus korraldab 22. detsembril Võrumaal mahepõllumajandusliku piimakarjakasvatuse infopäeva \n\n	Aeg: 22.12.16 kell 11:00-16:00  \n\n	Koht: Võrumaa\, Vastse-Roosa küla\, Metsavenna talu. Kogunemine Metsavenna kohviku ruumides\, www.metsavennatalu.ee \n	Kava\n	11.00 Piimakarja aretuse olulisemad aspektid mahetootmises kolme peamise Eesti piimatõu kontekstis. Kas võiks olla perspektiivi ka muudel tõugudel\n	13:15 Kohvipaus\, Lõunapiim OÜs valmistatud Tomme ja Raclette tüüpi juustude degusteerimine\n	13.45 Üleminek robotlüpsisüsteemile\, selle eelised ja puudused mahetootmises – kogemused Lõunapiim OÜs.  Kas piimakarjakasvataja võiks rajada väikemeierei – tootearenduse mured ja rõõmud. Robotlauda külastus.\n	16:00 Lõpp \n\n	Lektorid Tanel Bulitko ja Meelis Mõttus \n\n	  \n\n	Infopäev läheb arvesse mahepõllumajandusliku tootmise toetuse saamise kohustusliku koolitusena (6 tundi). \n\n	Osalemine on tasuta. Osalemiseks on vajalik eelregistreerimine hiljemalt 19. detsembriks siin:  \n\n	https://goo.gl/forms/SxVygOqrzyiyGJct1  (eelistatult) või telefonil 56620955. Kohtade arv on piiratud! \n\n	Infopäev toimub "Teadmussiirde pikaajaline programm mahepõllumajanduse tegevusvaldkonnas" raames\, toetab Euroopa Liit.
URL:https://www.pikk.ee/sundmus/infopaev-mahepollumajanduslik-piimakarjakasvatus-vorumaal/
LOCATION:Muu\, Eesti
CATEGORIES:Loomakasvatus
GEO:58.595272;25.0136071
END:VEVENT
END:VCALENDAR