BEGIN:VCALENDAR
VERSION:2.0
PRODID:-//PIKK.ee - ECPv6.13.2.1//NONSGML v1.0//EN
CALSCALE:GREGORIAN
METHOD:PUBLISH
X-WR-CALNAME:PIKK.ee
X-ORIGINAL-URL:https://www.pikk.ee
X-WR-CALDESC:Events for PIKK.ee
REFRESH-INTERVAL;VALUE=DURATION:PT1H
X-Robots-Tag:noindex
X-PUBLISHED-TTL:PT1H
BEGIN:VTIMEZONE
TZID:Europe/Tallinn
BEGIN:DAYLIGHT
TZOFFSETFROM:+0200
TZOFFSETTO:+0300
TZNAME:EEST
DTSTART:20170326T010000
END:DAYLIGHT
BEGIN:STANDARD
TZOFFSETFROM:+0300
TZOFFSETTO:+0200
TZNAME:EET
DTSTART:20171029T010000
END:STANDARD
END:VTIMEZONE
BEGIN:VEVENT
DTSTART;VALUE=DATE:20170318
DTEND;VALUE=DATE:20170319
DTSTAMP:20260421T004451
CREATED:20171231T220000Z
LAST-MODIFIED:20171231T220000Z
UID:10006548-1489795200-1489881599@www.pikk.ee
SUMMARY:KESKKONNASÕBRALIK AIANDUS – Infopäev viinamarjadest
DESCRIPTION:  \nEesti Maaülikool korraldab viinamarjakasvatuse infopäeva.\nAeg: 18. märts 2017  algusega kell 10:30\nAsukoht: Eesti Maaülikool\, Kreutzwaldi 5 – 1 A1\, Tartu \nPäevakava:\n10.30 Kogunemine\, hommikukohv\n11.00 – 12.30 Praktiline osa puuviljade ja marjade kääritamisest\n12.30 – 13.30 Lõuna\n13.30 –  15.00 Ettekanded\n          "Siidri valmistamise eripärad"\n          "Veinimarjade kvaliteet"\,\n          "Viinamarjakasvatus Roogoja talu näitel"\,\n          "Viinamarja seemneõli eraldamine ülekriitilise süsihappegaasi ekstraktsiooni meetodil" \n\n15.00 – 16.00 Sõnavõtud\, arutelu \nInfopäeval osalemine on sihtrühmale tasuta. \nOsalemiseks on vajalik registreerimine hiljemalt 15. märtsiks siin: https://goo.gl/bf54mE \nKohtade arv on piiratud ja kohal registreeruda ei saa. \nInfopäev toimub Eesti Maaülikooli ja Eesti Viinamarjakasvatajate ja Veinivalmistajate Liidu koostöös ja MAK 2014-2020 "Teadmussiirde pikaajaline programm aianduse tegevusvaldkonnas" toetusmeetme raames\, tegevust toetab Euroopa Liit. \nLisainfo:\nKadri Karp 5224167\,\nKadri.Karp@emu.ee
URL:https://www.pikk.ee/sundmus/keskkonnasobralik-aiandus-infopaev-viinamarjadest/
LOCATION:Muu\, Eesti
CATEGORIES:Aiandus
GEO:58.595272;25.0136071
END:VEVENT
END:VCALENDAR