BEGIN:VCALENDAR
VERSION:2.0
PRODID:-//PIKK.ee - ECPv6.13.2.1//NONSGML v1.0//EN
CALSCALE:GREGORIAN
METHOD:PUBLISH
X-WR-CALNAME:PIKK.ee
X-ORIGINAL-URL:https://www.pikk.ee
X-WR-CALDESC:Events for PIKK.ee
REFRESH-INTERVAL;VALUE=DURATION:PT1H
X-Robots-Tag:noindex
X-PUBLISHED-TTL:PT1H
BEGIN:VTIMEZONE
TZID:Europe/Tallinn
BEGIN:DAYLIGHT
TZOFFSETFROM:+0200
TZOFFSETTO:+0300
TZNAME:EEST
DTSTART:20170326T010000
END:DAYLIGHT
BEGIN:STANDARD
TZOFFSETFROM:+0300
TZOFFSETTO:+0200
TZNAME:EET
DTSTART:20171029T010000
END:STANDARD
END:VTIMEZONE
BEGIN:VEVENT
DTSTART;VALUE=DATE:20170411
DTEND;VALUE=DATE:20170412
DTSTAMP:20260422T082116
CREATED:20171231T220000Z
LAST-MODIFIED:20171231T220000Z
UID:10008232-1491868800-1491955199@www.pikk.ee
SUMMARY:Taimekaitse täienduskoolitus taimekaitsevahendite professionaalsele kasutajale
DESCRIPTION:Korraldaja Räpina Aianduskool \n\n	Kursus on tasuline \n\n	Vajalik eelrgistreerimine. Registreerimine kursusele lõpetatakse 5 tööpäeva enne koolituse algust või õppegrupi täitumisel. Täpsem info ja koolitusele registreerimine meie kooli kodulehel http://www.aianduskool.ee/ulevaade-kursustest/ või tel. 796 1549; 5346 1209 \n\n	 
URL:https://www.pikk.ee/sundmus/taimekaitse-taienduskoolitus-taimekaitsevahendite-professionaalsele-kasutajale/
LOCATION:Muu\, Eesti
CATEGORIES:Taimekaitse,Taimekasvatus
GEO:58.595272;25.0136071
END:VEVENT
BEGIN:VEVENT
DTSTART;VALUE=DATE:20170411
DTEND;VALUE=DATE:20170412
DTSTAMP:20260422T082116
CREATED:20171231T220000Z
LAST-MODIFIED:20171231T220000Z
UID:10008347-1491868800-1491955199@www.pikk.ee
SUMMARY:Infopäev „Toidualase teabe esitamine“
DESCRIPTION:Eesti Toiduainetööstuse Liit korraldab 2 infopäev teemal „Toidualase teabe esitamine“ \n\n	11.04 Tartus\, Eesti Maaülikooli tehnikamajas\, Kreutzwaldi 56/1\, ruum A-303 (avatud ülikooli ruumid)  \n\n	02.05 Tallinnas\, Kreutzwald hotelli Kalevi saalis\, Endla 23  \n\n	Käsitletakse erinevaid toidualase teabe esitamise ja märgistamise nõudeid. Infopäev algab kehtivate nõuete meelde tuletamisega. Seejärel keskendutakse toitumisalase teabe ning toitumis- ja tervisealaste väidete esitamise nõuetele. Infopäev lõpeb praktilise osaga\, kus osavõtjad saavad analüüsida etteantud näidismärgistusi ning esitada küsimusi ja jagada kogemusi. \n\n	Infopäevad toimuvad MAK 2014-2020 meetme „Teadmussiirde pikaajaline programm toiduohutuse valdkonnas“ raames\, läbiviimist toetab Euroopa Liit. \n\n	Infopäev on sihtrühmale tasuta (kui vähese tähtsusega abi määr ei ole ületatud). Infopäevade sihtrühmaks on toidu tootmise ja töötlemisega ning toidu töötlemisega tegelevad füüsilised isikud ja ettevõtted (v.a kala- ja kalatoodete valdkond). Tegemist on vähese tähtsusega abiga\, abisumma on 72 eurot ühe osaleva inimese kohta. \n\n	Ajakava: \n\n	10.00-10.30 Kogunemine\, registreerimine\, hommikukohv  \n\n	10.30 – 11.30 Toidualase teabe esitamise nõuded erinevates õigusaktides \n\n	Külli Johanson ja Külli Suurvarik\, Maaeluministeeriumi toiduohutuse osakonna toidu üldnõuete büroo peaspetsialistid \n\n	11.30-12.00 Toitumisalase teabe esitamine \n\n	Külli Johanson\, Maaeluministeeriumi toidu üldnõuete büroo peaspetsialist \n\n	12.00-12.30 NutriData andmebaasi kasutamine toidu toitainelise koostise leidmisel \n\n	Kristin Salupuu ja Ann Jõeleht\, Tervise Arengu Instituudi seire ja hindamise osakonna projektijuhid \n\n	12.30-13.15 Lõuna \n\n	13.15-14.00 Tõenduspõhised toitumis- ja tervisealased väited \n\n	Siret Dreyersdorff\, Maaeluministeeriumi toiduohutuse osakonna toidu üldnõuete büroo peaspetsialist \n\n	14.00 – 14.30 Tähelepanekuid toidualase teabe esitamisest ja pakendite märgistusest \n\n	Tiiu Rand\, Veterinaar- ja Toiduameti toiduosakonna peaspetsialist \n\n	14.30-15.00 Kohvipaus \n\n	15.00-17.00 Praktiline osa ja küsimused \n\n	Lektorite poolt ettevalmistatud teoreetilise märgistusnäite analüüsimine. Osavõtjad jagatakse gruppidesse\, iga grupp saab analüüsida ühe märgistuse näidise ja esitleda analüüsi tulemusi. Lektorid juhendavad ja vastavad küsimustele. Osavõtjad on oodatud ka esitama küsimusi\, avaldama arvamust ning jagama kogemusi käsitletud teemadel. \n\n	  \n\n	Registreerimine: Tartu https://goo.gl/forms/9BJx40X7R06klQ2h1 \n\n	Kohtade arv on piiratud. Palume registreerumise korral kindlasti osaleda või vabastada koht teistele soovijatele. \n\n	Info: inge@toiduliit.ee\, tel 6 484 978
URL:https://www.pikk.ee/sundmus/infopaev-toidualase-teabe-esitamine/
LOCATION:Muu\, Eesti
CATEGORIES:Toiduainete tootmine
GEO:58.595272;25.0136071
END:VEVENT
BEGIN:VEVENT
DTSTART;VALUE=DATE:20170411
DTEND;VALUE=DATE:20170412
DTSTAMP:20260422T082116
CREATED:20171231T220000Z
LAST-MODIFIED:20171231T220000Z
UID:10008357-1491868800-1491955199@www.pikk.ee
SUMMARY:e-PRIA juhendamise infopäev
DESCRIPTION:Vastavalt Maaeluministeeriumist saadud juhistele korraldab Maaelu Edendamise Sihtasutus 2017. aastal e-PRIA juhendamise teenuse pakkumist pindala- ja loomatoetuste taotlemise perioodil (2. mai kuni 16. juuni 2017). \nTeenuse sihtrühma kuuluvad põllumajandustootjad\, põllumajandussaaduste töötlejad ja turustajad ning teised maapiirkonnas tegutsevad ettevõtjad ja isikud\, kes soovivad taotleda või kasutada PRIA pakutavaid teenuseid. \nJuhendamisteenus on suunatud vähese või puuduliku e-PRIA kasutamise kogemusega isikutele ning selle eesmärgiks on e-PRIA kaudu toetust taotlevate isikute arvu ning esitatavate andmete ja dokumentide osakaalu suurendamine arvestusega\, et järgnevatel aastatel on võimalik PRIAle taotlusi esitada vaid e-PRIA vahendusel. Juhendamisteenus ei hõlma PRIAle taotluse esitamist juhendatava nimel ega sisalda nõustamisteenuse osutamist. Teenust osutatakse reeglina individuaalselt. \ne-PRIA juhendamise teenust võivad pakkuda need kehtiva kutsetunnistusega konsulendid ja tunnustatud nõuandekeskuste või sihtasutuse kontaktpunktide töötajad\, kellel on teenuse pakkumiseks piisavad oskused\, teadmised ja kogemused ning kes osalevad enne teenuse osutamist edukalt ühel kolmest MESi nõuandeteenistuse poolt korraldatud infopäevast. Kohtade arv infopäevade toimumiskohtades on piiratud. \nSoovist osutada pindala- ja loomatoetuste taotlemise perioodil (2. mai kuni 16. juuni 2017) e-PRIA juhendamise teenust palume teatada hiljemalt 28. märtsiks 2017 koos registreerumisega ühele kolmest korraldatavast infopäevast. Registreerumine toimub läbi vormi aadressil: \nhttps://docs.google.com/forms/d/1Z03HIitDcS_AeGOmeBWsXMUaTaRx4cd_n8_S_uT8ksg/edit \nKõigile registreerunutele edastame täpsema info lepingutingimuste ja muu olulise kohta. \nInfopäevad toimuvad: \n\n3. aprillil Lääne-Viru Rakenduskõrgkooli täiendõppe ruumides\, aadressil Rohuaia 12\, Rakvere\n6. aprillil Eesti Maaülikooli keskkonnakaitse osakonnas\, aadressil Kreutzwaldi 5\, Tartu\, ruum 0A5.\n11. aprillil TÜ Pärnu Kolledži õppehoones\, aadressil Ringi 35\, Pärnu\, ruum 201.\n\n\n		 \n\n		10.00 saabumine\, tervituskohv\n\n		10.30 koolitus\n\n		12.30 lõuna\n\n		13.30 – 16.30 koolitus\, praktiline töö\n\n		 \nLisainfo registreerumise ja infopäevade kohta:\n	Jane Lumiste\n	jane.lumiste[A]mes.ee\n	tel 5648 1953 \n\n 
URL:https://www.pikk.ee/sundmus/e-pria-juhendamise-infopaev-3/
LOCATION:Muu\, Eesti
CATEGORIES:Muu
GEO:58.595272;25.0136071
END:VEVENT
BEGIN:VEVENT
DTSTART;VALUE=DATE:20170411
DTEND;VALUE=DATE:20170412
DTSTAMP:20260422T082116
CREATED:20171231T220000Z
LAST-MODIFIED:20171231T220000Z
UID:10008365-1491868800-1491955199@www.pikk.ee
SUMMARY:Infopäev: LEAN-Väärtusvoo kaardistamine ja protsesside analüüs
DESCRIPTION:Lektor: Kadri Kristjuhan-Ling \n9.00   –  9.30   Tervituskohv\n9.30   – 11.30  Väärtusvoo kaardistamine ja protsesside analüüs\n11.30 – 11.45   Kohvipaus\n11.45 – 13.15   Kiired üleminekud (SMED). Ressursside töövõime säilitamine masinate ja seadmete tõhusa ning mõjusa hoolduse abil\n13.15 – 13.30  Kokkuvõte ja arutelu \n  \nInfopäeval osalemine on TASUTA. \n  \nÜritusele on võimalus registreerida lingil: https://docs.google.com/forms/d/e/1FAIpQLScKdmDl_kx0y_E6l8AgEDJKY7lTaA2S4W2r2l894ZpvBrkc2A/viewform?c=0&w=1 \nRegisteerida tuleb hiljemalt 7.aprilliks \nInfo: inge@toiduliit.ee\, tel 648497 \n 
URL:https://www.pikk.ee/sundmus/infopaev-lean-vaartusvoo-kaardistamine-ja-protsesside-analuus/
LOCATION:Muu\, Eesti
CATEGORIES:Muu
GEO:58.595272;25.0136071
END:VEVENT
BEGIN:VEVENT
DTSTART;VALUE=DATE:20170411
DTEND;VALUE=DATE:20170412
DTSTAMP:20260422T082116
CREATED:20171231T220000Z
LAST-MODIFIED:20171231T220000Z
UID:10006505-1491868800-1491955199@www.pikk.ee
SUMMARY:Täienduskoolitus: Turberaied (kahepäevane koolitus) NB! Jääb ära
DESCRIPTION:Sihtrühm:\n	Põllumajandustoodete tootmise või töötlemise\, põllumajandusmaa hooldamise\, põllumajandustoodetest mittepõllumajandustoodete töötlemise või metsa majandamisega tegelev füüsiline isik\, füüsilisest isikust ettevõtja ja tema töötaja ning eraõigusliku juriidilise isiku osanik\, aktsionär\, liige\, juhtorgani liige ja tema töötaja.\n	\n	NB! Tegevusest võivad osa võtta sihtrühma kuulujad üle Eesti.\n	NB! Teavitame!\n	Antud koolitustegevuses osalemine on osaleja jaoks vähese tähtsusega abi.\n	  \n\n	Sisu: \n\n	 \n\n	Koolitusel osalenu:\n	– on kursis turberaie olemusega sh. häilraie\, veerraie ja aegjärkse raiega;\n	– tunneb turberaiete kasutamise eeliseid võrreldes lageraiega;\n	– oskab hinnata turberaieliikide rakendamise vajadust ja otstarbekus.\n\n	Ajakava:\n	Õppetöö ajakava esimesel päeval\n	10.00 – 11.30 õppetöö\n	11.30 – 12.00 paus\n	12.00 – 13.30 õppetöö\n	13.30 – 13.45 paus\n	13.45 – 15.15 õppetöö\n	\n	Õppetöö algus kell 9.15 – väljasõit õppekäigule\, lõpetamine orienteeruvalt kell 13.30. Õppekäigule suunduvad osalejad oma transpordiga.\n	  \n\n	Koolitus on sihtrühma kuulujale tasuta. \n\n	Registreerumine ja lähem info maaülikooli avatud ülikooli kodulehel:\n	http://avatudylikool.emu.ee/taiendope/priauler2016/ \n\n	  \n\n	Koolituse korraldaja:\n	Eesti Maaülikooli avatud ülikool\n	Fr. R. Kreutzwaldi 56 (III korrus\, ruumid 303-306)\, 51014 Tartu\, tel 731 3174\, 731 3175\, 731 3275\, 534 41844  või e-post: avayl[A]emu.ee
URL:https://www.pikk.ee/sundmus/taienduskoolitus-turberaied-kahepaevane-koolitus-nb-jaab-ara/
LOCATION:Muu\, Eesti
CATEGORIES:Metsandus
GEO:58.595272;25.0136071
END:VEVENT
END:VCALENDAR