BEGIN:VCALENDAR
VERSION:2.0
PRODID:-//PIKK.ee - ECPv6.13.2.1//NONSGML v1.0//EN
CALSCALE:GREGORIAN
METHOD:PUBLISH
X-ORIGINAL-URL:https://www.pikk.ee
X-WR-CALDESC:Events for PIKK.ee
REFRESH-INTERVAL;VALUE=DURATION:PT1H
X-Robots-Tag:noindex
X-PUBLISHED-TTL:PT1H
BEGIN:VTIMEZONE
TZID:Europe/Tallinn
BEGIN:DAYLIGHT
TZOFFSETFROM:+0200
TZOFFSETTO:+0300
TZNAME:EEST
DTSTART:20170326T010000
END:DAYLIGHT
BEGIN:STANDARD
TZOFFSETFROM:+0300
TZOFFSETTO:+0200
TZNAME:EET
DTSTART:20171029T010000
END:STANDARD
END:VTIMEZONE
BEGIN:VEVENT
DTSTART;VALUE=DATE:20170425
DTEND;VALUE=DATE:20170426
DTSTAMP:20260422T023206
CREATED:20171231T220000Z
LAST-MODIFIED:20171231T220000Z
UID:10008385-1493078400-1493164799@www.pikk.ee
SUMMARY:Pindala- ja loomatoetuste infopäev põllumajandustootjatele
DESCRIPTION:Tartumaa Põllumeeste Liit korraldab Pindala ja loomatoetuste infopäeva põllumajandustootjatele \n\n	Infopäev toimub  25 aprillil Võrumaa Toidukeskuses\, Koidula 7\, Võrus. \n\n	Infopäeva lektoriteks on konsulendid Liia Lust ja Merry Aart. \n\n	Infopäev algab kell 10.00 ja kestab 4 akadeemilist tundi \n\n	Infopäevade teemadeks on: \n\n	*Muudatused Otsetoetuste (ühtne pindalatoetus\, kliima- ja keskkonnatoetus\, noore põllumajandustootja toetus)\, nõuetele vastavuse ja MAK pindala- ja loomatoetuste (põllumajanduslik keskkonnatoetus: keskkonnasõbralik majandamise toetus\, piirkondlik mullakaitsetoetus\, keskkonnasõbraliku aianduse toetus\, kohalikku sorti taimede kasvatamise toetus\, ohustatud tõugu looma kasvatamise toetus ja poolloodusliku koosluse hooldamise toetus; mahepõllumajanduse toetused; loomade heaolu toetus; Natura 2000 toetus põllumajandusmaale) nõuetes *Püsirohumaade tagasirajamine *Tuulekaera leviku vältimine \n\n	*Pindalatoetuste taotluste esitamise ja põldude joonistamise 2017. aasta muudatused  e-PRIAs  *Administratiivsed ja kohapealsed kontrollid.    \n\n	Ettekanded:    http://www.pikk.ee/varia/uudised/2017/pindala-ja-loomatoetuste-infopaevad-pollumajandustootjatele#.WQm4DUWGPIU \n\n	Registreerimine https://goo.gl/forms/T3DlW7g4Bcn1GiEO2 ja merry[A]kodu.ee või 736 6955. 
URL:https://www.pikk.ee/sundmus/pindala-ja-loomatoetuste-infopaev-pollumajandustootjatele-11/
LOCATION:Muu\, Eesti
CATEGORIES:Muu
GEO:58.595272;25.0136071
END:VEVENT
BEGIN:VEVENT
DTSTART;VALUE=DATE:20170425
DTEND;VALUE=DATE:20170426
DTSTAMP:20260422T023206
CREATED:20171231T220000Z
LAST-MODIFIED:20171231T220000Z
UID:10008387-1493078400-1493164799@www.pikk.ee
SUMMARY:Pindala- ja loomatoetuste infopäev põllumajandustootjatele
DESCRIPTION:Tartumaa Põllumeeste Liit korraldab Pindala ja loomatoetuste infopäeva põllumajandustootjatele \n\n	Infopäev toimub  25 aprillil PMA saal\, Vabaduse plats 4\, Viljandis . \n\n	Infopäeva lektoriteks on konsulendid Olavy Sülla ja Hillar Lilleste. \n\n	Infopäev algab kell 10.00 ja kestab 4 akadeemilist tundi \n\n	Infopäevade teemadeks on: \n\n	*Muudatused Otsetoetuste (ühtne pindalatoetus\, kliima- ja keskkonnatoetus\, noore põllumajandustootja toetus)\, nõuetele vastavuse ja MAK pindala- ja loomatoetuste (põllumajanduslik keskkonnatoetus: keskkonnasõbralik majandamise toetus\, piirkondlik mullakaitsetoetus\, keskkonnasõbraliku aianduse toetus\, kohalikku sorti taimede kasvatamise toetus\, ohustatud tõugu looma kasvatamise toetus ja poolloodusliku koosluse hooldamise toetus; mahepõllumajanduse toetused; loomade heaolu toetus; Natura 2000 toetus põllumajandusmaale) nõuetes *Püsirohumaade tagasirajamine *Tuulekaera leviku vältimine \n\n	*Pindalatoetuste taotluste esitamise ja põldude joonistamise 2017. aasta muudatused  e-PRIAs  *Administratiivsed ja kohapealsed kontrollid.  \n\n	Ettekanded:    http://www.pikk.ee/varia/uudised/2017/pindala-ja-loomatoetuste-infopaevad-pollumajandustootjatele#.WQm4DUWGPIU   \n\n	Registreerimine https://goo.gl/forms/kT0TPU9A2SQcMBRF2 ja merry[A]kodu.ee või 736 6955.  \n\n	 
URL:https://www.pikk.ee/sundmus/pindala-ja-loomatoetuste-infopaev-pollumajandustootjatele-12/
LOCATION:Muu\, Eesti
CATEGORIES:Muu
GEO:58.595272;25.0136071
END:VEVENT
BEGIN:VEVENT
DTSTART;VALUE=DATE:20170425
DTEND;VALUE=DATE:20170426
DTSTAMP:20260422T023206
CREATED:20171231T220000Z
LAST-MODIFIED:20171231T220000Z
UID:10006464-1493078400-1493164799@www.pikk.ee
SUMMARY:Koolitus Lindude haigused
DESCRIPTION:Ühepäevane täiendusõpe\n	10.00 – 11.30 õppetöö\n	11.30 – 12.00 paus\n	12.00 – 13.30 õppetöö\n	13.30 – 13.35 paus\n	13.35 – 14.20 õppetöö \n\n	Koolituse teemad:\n	1. Lindude nakkushaigused. Lindlate bioohutus.\n	2. Lindude söötmise ja pidamise olulised küsimused väikemajapidamises. \n\n	Täiendkoolituse läbimisel oskab linnukasvataja:\n	1. Jälgida oma lindude tervislikku seisundit.\n	2. Otsustada\, missuguste haigustunnustega linnu avastamisel pöörduda veterinaararsti poole.\n	3. Teab olulisi bioohutuse nõudeid.\n	4. Oskab korraldada oma lindude söötmist ja nõuetekohast pidamist. \n\n	Õppejõud: \n\n	Aleksander Lember \n\n	dotsent\, dr (pm) \n\n	Tiiu Saar \n\n	dotsent\, dr (vet-med) \n\n	              \n\n	  \n\n	Hind: 60 eurot \n\n	Vajalik eelregistreerumine. \n\n	Lähem teave maaülikooli avatud ülikooli kodulehel:\n	http://avatudylikool.emu.ee/taiendope/tahtis/  \n\n	 
URL:https://www.pikk.ee/sundmus/koolitus-lindude-haigused/
LOCATION:Muu\, Eesti
CATEGORIES:Loomakasvatus
GEO:58.595272;25.0136071
END:VEVENT
END:VCALENDAR