BEGIN:VCALENDAR
VERSION:2.0
PRODID:-//PIKK.ee - ECPv6.13.2.1//NONSGML v1.0//EN
CALSCALE:GREGORIAN
METHOD:PUBLISH
X-WR-CALNAME:PIKK.ee
X-ORIGINAL-URL:https://www.pikk.ee
X-WR-CALDESC:Events for PIKK.ee
REFRESH-INTERVAL;VALUE=DURATION:PT1H
X-Robots-Tag:noindex
X-PUBLISHED-TTL:PT1H
BEGIN:VTIMEZONE
TZID:Europe/Tallinn
BEGIN:DAYLIGHT
TZOFFSETFROM:+0200
TZOFFSETTO:+0300
TZNAME:EEST
DTSTART:20170326T010000
END:DAYLIGHT
BEGIN:STANDARD
TZOFFSETFROM:+0300
TZOFFSETTO:+0200
TZNAME:EET
DTSTART:20171029T010000
END:STANDARD
END:VTIMEZONE
BEGIN:VEVENT
DTSTART;VALUE=DATE:20170607
DTEND;VALUE=DATE:20170608
DTSTAMP:20260423T122447
CREATED:20171231T220000Z
LAST-MODIFIED:20171231T220000Z
UID:10006625-1496793600-1496879999@www.pikk.ee
SUMMARY:Kestlik söödatootmine turvasmuldadelt
DESCRIPTION:Päevakava \n9.45 osalejate kogunemine\, AS Laatre Piim  kontoris\, Laatre \n10.00-10.20  Ülevaade ettevõttest AS Laatre Piim  Kalmer Kongo \n10.20-10.40 Söödatootmisest ja loomade heaolust Edda Vahtramäe AS Laatre Piim \n10.40-11.10 Rohumaade rajamine\, kasutamine ja keskkonnahoid turvasmuldadel. Rein Viiralt Eesti Maaülikool \n11.10-11.40 Rohusöötade toiteväärtusest turvasmuldadel Uno Tamm Eesti Taimekasvatuse Instituut \n11.40-11.50  Paus \n11.50-12.20 Rohumaade uuendamisest ja põllukultuuride kasvatamisest turvasmuldadel. Peeter Viil Eesti Taimekasvatuse Instituut \n12.20-12.50  Kõrreliste puhas- ja segukülvid madalsoomullal Rene Aavola Eesti Taimekasvatuse Instituut \n12.50-13.00 ERÜ 2016 aastaaruande kinnitamine Heli Meripõld Eesti Taimekasvatuse Instituut \n13.00-14.30 Rohumaade tutvustus Edda Vahtramäe\, Rita Mälton AS Laatre Piim\, Tiiu Annuk  Scandagra Eesti \n14.40-15.30 Farmi külastamine Kalmer Kongo\, Edda Vahtramäe AS Laatre Piim \n15.00-16.00  Lõuna ja kokkuvõte infopäevast "Rukki maja" – Sangastes \n\n  \nOsalemisest teatada (5.juuniks) e-post: heli.meripold@eria.ee  või telefonidel: 6630939\, 5101685
URL:https://www.pikk.ee/sundmus/kestlik-soodatootmine-turvasmuldadelt/
LOCATION:Muu\, Eesti
GEO:58.595272;25.0136071
END:VEVENT
BEGIN:VEVENT
DTSTART;VALUE=DATE:20170607
DTEND;VALUE=DATE:20170608
DTSTAMP:20260423T122447
CREATED:20171231T220000Z
LAST-MODIFIED:20171231T220000Z
UID:10008198-1496793600-1496879999@www.pikk.ee
SUMMARY:Täienduskoolitus: Piimakvaliteedi parandamine veisekarjas NB!  Jääb ära
DESCRIPTION:Koolituse sihtrühm on Pärnumaa põllumajandustootjad ja töötlejad\n	NB! Tegemist on Eesti maaelu arengukava 2014 – 2020 ühise põllumajanduspoliitika kohase maaelu arengu teadmussiirde ja teavituse toetusega (meede 1) Pärnu maakonnas – see tähendab\, et koolituse lõppkasusaajad peavad olema Pärnumaa põllumajandustootjad ja töötlejad.\n	  \n\n	Sisu:\n	 \n\n	* Lüpsmise ja lüpsihügieeni praktiline hindamine ja analüüs veisekarjas;\n	* Karja piimakvaliteedi näitajate hindamine ja analüüs;\n	* Udaratervist mõjutavate riskitegurite väljaselgitamine ja udarapõletike vältimine. \n	Ajakava:\n	10.00 – 11.30 õppetöö\n	11.30 – 12.00 paus\n	12.00 – 13.30 õppetöö\n	13.30 – 13.45 paus\n	13.45 – 15.15 õppetöö\n	15.15 – 15.30 paus\n	15.30 – 17.00 õppetöö\n	  \n\n	Koolitus on sihtrühma kuulujale tasuta. \n\n	 Registreerumine ja lähem info maaülikooli avatud ülikooli kodulehel:\n	http://avatudylikool.emu.ee/taiendope/priamaakondlik2016/ \n\n	Koolituse korraldaja:\n	Eesti Maaülikooli avatud ülikool\n	Fr. R. Kreutzwaldi 56 (III korrus\, ruumid 303-306)\, 51014 Tartu\, tel 731 3174\, 731 3175\, 731 3275\, 534 41844  või e-post: avayl[A]emu.ee \n\n	 
URL:https://www.pikk.ee/sundmus/taienduskoolitus-piimakvaliteedi-parandamine-veisekarjas-nb-jaab-ara/
LOCATION:Muu\, Eesti
CATEGORIES:Loomakasvatus
GEO:58.595272;25.0136071
END:VEVENT
BEGIN:VEVENT
DTSTART;VALUE=DATE:20170607
DTEND;VALUE=DATE:20170608
DTSTAMP:20260423T122447
CREATED:20171231T220000Z
LAST-MODIFIED:20171231T220000Z
UID:10008469-1496793600-1496879999@www.pikk.ee
SUMMARY:EPKK konverents “Sealiha tootmise jätkusuutlikkusest Eestis”
DESCRIPTION:EPKK konverents “Sealiha tootmise jätkusuutlikkusest Eestis” toimub 7. juunil 2017 algusega kell 10 Rakvere Aqva konverentsikeskuse ruumis Rooma II (Parkali 4\, 44308 Rakvere). \nEESMÄRK: Analüüsida sealihasektori olukorda ja võimalikke arengustsenaariume\, mis tagaksid sealihasektori jätkusuutliku arengu.            \nModeraator: Rando Värnik\, PhD\, Eesti Maaülikool \nKonverentsi programm: \n09.30 – 10.00 Registreerimine ja tervituskohv\n10.00 – 10.10 Avasõnad ja tervitus Anu Hellenurme\, EPKK Nõukogu aseesinaine\, lihatoimkonna esinaine\n10.10 – 10.40 Eesti seakasvatuse areng Maaeluministeeriumi pilgu läbi Tarmo Tamm\, maaeluminister (kinnitamisel)\n10.40 – 11.10 Sealihaturu ülevaade ja prognoosid Kai-Uwe Sprenger\, Euroopa Komisjon\, DG Agri Unit G3\, lihasektsiooni juht\n11.10 – 11.40 Seakasvatuse arengusuunad Euroopas Antonio Tavares\,  Copa-Cogeca sealiha töögrupi esimees\n11.40 – 11.50 Küsimused/vastused\n11.50 – 12.15 Kohvipaus\n12.15 – 12.35 Eesti seakasvatuse jätkusuutlikkus tootja pilgu läbi Urmas Laht\, Eesti Seakasvatajate Liit\n12.35 – 12.55 Seakasvatusest bränditud toote ekspordini – HKScan näite varal Anne Mere\, HKScan Estonia juhatuse esimees\n12.55 – 13.00 Küsimused/vastused/diskussioon\n13.00 – 14.00 Lõuna\n14.00 – 14.20 Sealiha ja -toodete eksport ning turulepääsu tingimused Veterinaar- ja Toiduamet\, esineja täpsustamisel\n14.20 – 15.00 Riigipiire ületavad loomahaigused ja nende majanduslik mõju Arvo Viltrop\, PhD\, Eesti Maaülikool\n15.00 – 15.20 Eesti siga Põhjamaa köögis Eesti Kulinaariainstituut (kinnitamisel)\n15.20 – 16.00 Küsimused/vastused/diskussioon/konverentsi kokkuvõte \nTagatakse tõlge eesti keelde. \nKonverentsil osalemiseks palume kindlasti REGISTREERIDA SIIN või EPKK kodulehel www.epkk.ee  \nLisainformatsioon ja küsimused info@epkk.ee või 600 9349\, EPKK juhatuse liige Tiina Saron \nTegevus toimub MAK 2014-2020 teadmussiirde ja teavituse meetme üleriigilise ulatusega tegevuse toetuse abil. \nInfopäevade korraldamist toetab Euroopa Liit                       \n  \n    
URL:https://www.pikk.ee/sundmus/epkk-konverents-sealiha-tootmise-jatkusuutlikkusest-eestis/
LOCATION:Muu\, Eesti
CATEGORIES:Loomakasvatus,Maaettevõtlus
GEO:58.595272;25.0136071
END:VEVENT
END:VCALENDAR