BEGIN:VCALENDAR
VERSION:2.0
PRODID:-//PIKK.ee - ECPv6.13.2.1//NONSGML v1.0//EN
CALSCALE:GREGORIAN
METHOD:PUBLISH
X-WR-CALNAME:PIKK.ee
X-ORIGINAL-URL:https://www.pikk.ee
X-WR-CALDESC:Events for PIKK.ee
REFRESH-INTERVAL;VALUE=DURATION:PT1H
X-Robots-Tag:noindex
X-PUBLISHED-TTL:PT1H
BEGIN:VTIMEZONE
TZID:Europe/Tallinn
BEGIN:DAYLIGHT
TZOFFSETFROM:+0200
TZOFFSETTO:+0300
TZNAME:EEST
DTSTART:20170326T010000
END:DAYLIGHT
BEGIN:STANDARD
TZOFFSETFROM:+0300
TZOFFSETTO:+0200
TZNAME:EET
DTSTART:20171029T010000
END:STANDARD
END:VTIMEZONE
BEGIN:VEVENT
DTSTART;VALUE=DATE:20170706
DTEND;VALUE=DATE:20170707
DTSTAMP:20260423T041346
CREATED:20171231T220000Z
LAST-MODIFIED:20171231T220000Z
UID:10008476-1499299200-1499385599@www.pikk.ee
SUMMARY:Teraviljasortide ja agrotehnika esitluspäev mahetootjatele
DESCRIPTION:Teraviljasortide ja agrotehnika esitluspäevad\n	Eesti Taimekasvatuse Instituudis 6. juulil ja 13. juulil 2017  \n\n	  \n\n	Päevakava: \n\n	9.30-10.00      Kogunemine ETKI peahoones\, tervituskohv \n\n	10.10-10.35    Ökokultivaatori Kvick Finn demonstratsioon ja tutvustus (Sander Sarap) \n\n	10.35-10.55    Suvinisu sordid maheviljeluses (Anne Ingver) \n\n	10.55-11.15    Odra sordid maheviljeluses (Ülle Tamm) \n\n	11.15-11.35    Kaera sordid maheviljeluses (Ilmar Tamm) \n\n	11.35-11.55    Biopreparaatide kasutamine talirüpsi kasvatamisel maheviljeluses (Lea Narits) \n\n	11.55-12.15    Talirukki sortide tutvustus (Ilme Tupits) \n\n	12.15-12.30    Talinisu ja -spelta sortide tutvustus (Reine Koppel) \n\n	12.30-12.40    Puhkepaus \n\n	12.40-13.10    Peakapsa kasvatamine talviste vahekultuuride järel rullimis-muljumistehnoloogiaga\n	(EL CORE ORGANIC programmi SOLVEG katse) (Ingrid Bender\, Kalvi Tamm) \n\n	13.10-13.35    Taliteraviljade ja -rüpsi kasvatamine vahekultuuride segude järel erinevate\n	mükoriisade\, biosöe normide ja maheväetiste kasutamisel (Margus Ess\, Ilmar Tamm) \n\n	13.35-14.00   Perspektiivsed oa- ja hernesordid EL 7 rp projekti Eurolegume kaunviljade katses (Margit Olle) \n\n	14.00-14.30   Biopreparaatide kasutamine suviteraviljade kasvatamisel maheviljeluses (Tiia Kangor) \n\n	14.30- 15.00   Arutelu ja lõuna \n\n	  \n\n	Üritus vajab eelregistreerimist. \n\n	6. juuli registreerimine: https://goo.gl/forms/RLjsIeQ6XiDeHWNW2 \n\n	13. juuli registreerimine: https://goo.gl/forms/mCFa01ewClhi9Gmi2 \n\n	  \n\n	Esitluspäev läheb arvesse mahepõllumajandusliku tootmise toetuse saamise kohustusliku koolitusena (6 tundi). \n\n	Lisainfo:\n	Ilmar Tamm\, ilmar.tamm[A]etki.ee\n	tel: 53472119 \n\n	 
URL:https://www.pikk.ee/sundmus/teraviljasortide-ja-agrotehnika-esitluspaev-mahetootjatele-3/
LOCATION:Muu\, Eesti
CATEGORIES:Taimekasvatus
GEO:58.595272;25.0136071
END:VEVENT
END:VCALENDAR