BEGIN:VCALENDAR
VERSION:2.0
PRODID:-//PIKK.ee - ECPv6.13.2.1//NONSGML v1.0//EN
CALSCALE:GREGORIAN
METHOD:PUBLISH
X-WR-CALNAME:PIKK.ee
X-ORIGINAL-URL:https://www.pikk.ee
X-WR-CALDESC:Events for PIKK.ee
REFRESH-INTERVAL;VALUE=DURATION:PT1H
X-Robots-Tag:noindex
X-PUBLISHED-TTL:PT1H
BEGIN:VTIMEZONE
TZID:Europe/Tallinn
BEGIN:DAYLIGHT
TZOFFSETFROM:+0200
TZOFFSETTO:+0300
TZNAME:EEST
DTSTART:20170326T010000
END:DAYLIGHT
BEGIN:STANDARD
TZOFFSETFROM:+0300
TZOFFSETTO:+0200
TZNAME:EET
DTSTART:20171029T010000
END:STANDARD
END:VTIMEZONE
BEGIN:VEVENT
DTSTART;VALUE=DATE:20170913
DTEND;VALUE=DATE:20170914
DTSTAMP:20260422T144640
CREATED:20171231T220000Z
LAST-MODIFIED:20171231T220000Z
UID:10006628-1505260800-1505347199@www.pikk.ee
SUMMARY:Tasuta ühistegevuse koolitus: “Ühistu kasvatamine läbi finantsjuhtimise ja kapitali kaasamise”
DESCRIPTION:Eesti Maaülikool korraldab “Teadmussiirde pikaajaline programm ühistegevuse tegevusvaldkonnas” raames tasuta koolituse teemal: “Ühistu kasvatamine läbi finantsjuhtimise ja kapitali kaasamise”. Antud programm kestab 4 aastat ja selle raames toimub mitmeid infopäevi\, täienduskoolitusi\, õpiringe\, konverentse ning ettevõtete külastusi nii Eestis kui ka välisriikides. \n13.09.-14.09.2017 täienduskoolitusest võib osa võtta põllumajandustoodete tootmise ja töötlemise\, põllumajandusmaa hooldamise\, põllumajandustoodetest mittepõllumajandustoodete töötlemise või metsa majandamisega tegelev füüsilisest isikust ettevõtja ja tema töötaja ning eraõigusliku juriidilise isiku osanik\, aktsionär\, liige\, juhtorgani liige ja tema töötaja. Koolituse tulemusel suurenevad õppija teadmised ühistu kasvatamise protsessist läbi finantsjuhtimise ja kapitaliseerimise. Eriti ootame osalema tegutsevate ühistute juhtkonda ja nõukogu. \n13.09.2017 koolituse ajakava: \n10:00 – 10:15 Registreerimine ja tervituskohvi \n10:15 – 12:30 Finantsjuhtimine Wiru Vili TÜ näitel \n12:30 – 13:15 Lõunapaus \n13:15 – 15:30 Võõrkapitali kaasamine ühistu arenguks Põllumeeste Ühistu KEVILI näitel \n14.09.2017 koolituse ajakava: \n10:00 – 10:15 Registreerimine ja tervituskohvi \n10:15 – 12:30 Võõrkapitali kaasamine ühistu arenguks TÜ Farm In näitel \n12:30 – 13:15 Lõunapaus \n13:15 – 15:30 Panga kui kreeditori vaade esitatud taotlusele \n15:30 – 15:45 Tagasiside \nLektoriteks on TÜ Wiru Vili juhataja Meelis Maks\, Põllumeeste Ühistu KEVILI juhataja Meelis Annus\, TÜ Farm In juhatuse liige Margo Kuusk ja Swedbank põllumajandussektori juht Brit Padjus. \n\nÕppekavaga on võimalik tutvuda järgmisel lingil: https://ois.emu.ee/pls/ois/!tere.tulemast?leht=OK.AY.VP&id_ay_programm=8143&id_ay_toimumine=10486&systeemi_seaded=3\,1\,12\,1 \nEelregistreerimine toimub kuni 11.09.2017\, osalejate arv on piiratud. Lisainfo saamiseks ja eelregistreerimiseks palume saata e-mail programmi assistendile: liis.volli[A]emu.ee. Eelregistreerimiseks palume osalejatel saata järgnev informatsioon: ettevõtlusvorm ja nimi; ettevõtlusvaldkond; reg. number; osaleja nimi; osaleja ametikoht; osaleja isikukood; osaleja telefoninumber. \nNB! Eelregistreerimine on tingimata vajalik! \n\nLisainformatsioon ja küsimused: liis.volli[A]emu.ee või tel: +372 51 92 9840 (programmi assistent Liis Võlli). \nKoolituse korraldamist toetab Euroopa Maaelu Arengu Põllumajandusfond. \n  \nKoostöös teeme paremini!
URL:https://www.pikk.ee/sundmus/tasuta-uhistegevuse-koolitus-uhistu-kasvatamine-labi-finantsjuhtimise-ja-kapitali-kaasamise/
LOCATION:Muu\, Eesti
CATEGORIES:Aiandus,Bioenergia ja biomajandus,Finantsmajandus,Keskkond,Loomakasvatus,Maaettevõtlus,Metsandus,Taimekaitse,Taimekasvatus,Toiduainete tootmine,Turundus,Ühistegevus
GEO:58.595272;25.0136071
END:VEVENT
END:VCALENDAR