BEGIN:VCALENDAR
VERSION:2.0
PRODID:-//PIKK.ee - ECPv6.13.2.1//NONSGML v1.0//EN
CALSCALE:GREGORIAN
METHOD:PUBLISH
X-WR-CALNAME:PIKK.ee
X-ORIGINAL-URL:https://www.pikk.ee
X-WR-CALDESC:Events for PIKK.ee
REFRESH-INTERVAL;VALUE=DURATION:PT1H
X-Robots-Tag:noindex
X-PUBLISHED-TTL:PT1H
BEGIN:VTIMEZONE
TZID:Europe/Tallinn
BEGIN:DAYLIGHT
TZOFFSETFROM:+0200
TZOFFSETTO:+0300
TZNAME:EEST
DTSTART:20170326T010000
END:DAYLIGHT
BEGIN:STANDARD
TZOFFSETFROM:+0300
TZOFFSETTO:+0200
TZNAME:EET
DTSTART:20171029T010000
END:STANDARD
END:VTIMEZONE
BEGIN:VEVENT
DTSTART;VALUE=DATE:20170921
DTEND;VALUE=DATE:20170922
DTSTAMP:20260422T103653
CREATED:20171231T220000Z
LAST-MODIFIED:20171231T220000Z
UID:10006675-1505952000-1506038399@www.pikk.ee
SUMMARY:Infopäev "Mahepõllumajanduslik loomakasvatus alustajatele"
DESCRIPTION:Eesti Mahepõllumajanduse Sihtasutus korraldab infopäeva \n	"Mahepõllumajanduslik loomakasvatus alustajatele" \n	21.09.2017 kell 10:00-14:45 Niine külalistemajas\, Niine 4\, Rakvere \n	Kava \n	10:00 Mahepõllumajandusliku loomakasvatuse nõuded ja põhimõtted\n	Pidamistingimused. Loomade sissetoomine ettevõttesse\, Loomatervishoid\,\n	veterinaarsed jm toimingud\n	12:15 Kohvipaus\n	12:35 Loomade söötmine\, erinevad ratsioonid\n	Kuidas saada hakkama 100% mahesöödaga\, söödatootmine maheettevõttes\n	14:50 Lõpp \n	Lektorid Ragnar Leming ja Margo Mansberg \n\n	Ettekanne\, ettekanne \n	Osalemine on tasuta\, osalejate arv on piiratud. Osalemiseks on\n	kindlasti vajalik registreerimine hiljemalt 2 päeva enne toimumist : https://goo.gl/forms/jNYc7LdJa1gxYH333 (eelistatult) või mahepm[A]gmail.com \n	Võimalik on registreeruda ka telefonil 5662 0955 \n	Infopäevad toimuvad "Teadmussiirde pikaajaline programm\n	põllumajanduspoliitika abinõude tegevusvaldkonnas" raames\, toetab\n	Euroopa Liit. Korraldab Eesti Mahepõllumajanduse Sihtasutus \n	Infopäevad lähevad arvesse mahetoetuse raames nõutava kohustusliku koolitusena.
URL:https://www.pikk.ee/sundmus/infopaev-mahepollumajanduslik-loomakasvatus-alustajatele-2/
LOCATION:Muu\, Eesti
CATEGORIES:Loomakasvatus
GEO:58.595272;25.0136071
END:VEVENT
END:VCALENDAR