BEGIN:VCALENDAR
VERSION:2.0
PRODID:-//PIKK.ee - ECPv6.13.2.1//NONSGML v1.0//EN
CALSCALE:GREGORIAN
METHOD:PUBLISH
X-WR-CALNAME:PIKK.ee
X-ORIGINAL-URL:https://www.pikk.ee
X-WR-CALDESC:Events for PIKK.ee
REFRESH-INTERVAL;VALUE=DURATION:PT1H
X-Robots-Tag:noindex
X-PUBLISHED-TTL:PT1H
BEGIN:VTIMEZONE
TZID:Europe/Tallinn
BEGIN:DAYLIGHT
TZOFFSETFROM:+0200
TZOFFSETTO:+0300
TZNAME:EEST
DTSTART:20170326T010000
END:DAYLIGHT
BEGIN:STANDARD
TZOFFSETFROM:+0300
TZOFFSETTO:+0200
TZNAME:EET
DTSTART:20171029T010000
END:STANDARD
END:VTIMEZONE
BEGIN:VEVENT
DTSTART;VALUE=DATE:20170928
DTEND;VALUE=DATE:20170929
DTSTAMP:20260420T191513
CREATED:20171231T220000Z
LAST-MODIFIED:20171231T220000Z
UID:10006679-1506556800-1506643199@www.pikk.ee
SUMMARY:Infopäev "Mahepõllumajandus alustajatele"
DESCRIPTION:Eesti Mahepõllumajanduse Sihtasutus korraldab infopäeva \n	"Mahepõllumajandus alustajatele" \n\n	28.09.2017 kell 10:00-15:00 Jõgeva Sordiaretuse Instituudis\, J.Aamisepa 1 \, Jõgeva\, 48309 Jõgeva maakond \n	Kava\n	10:00 Ülevaade mahepõllumajandusest Eestis ja mujal. Miks toota mahepõllumajanduslikult ja tarbida mahetoitu. Mahepõllumajanduse õiguslik raamistik ja järelevalve\n	11:30 Kohvipaus\n	11:45 Peamised mahepõllumajanduse nõuded\n	13:15 Paus\n	13:30 Peamised mahepõllumajanduse nõuded ja taimekasvatuse põhimõtted\n	15:00 Lõpp \n\n	Lektorid Airi Vetemaa ja Margo Mansberg \n\n	Ettekanded: Mahepõllumajandusest üldiselt \n\n	                    Mahepõllumajandusliku taimekasvatuse peamised nõuded ja põhimõtted \n\n	Osalemine on tasuta. Osalemiseks on kindlasti vajalik registreerimine hiljemalt 2 päeva enne toimumist: \n	https://goo.gl/forms/7Fm3K6X9iDAa8alR2 (soovituslik)  \n	Võimalik on registreeruda ka mahepm[A]gmail.com või telefonil 5662 0955 \n\n	\n	Infopäevad toimuvad " Teadmussiirde pikaajaline programm põllumajanduspoliitika abinõude tegevusvaldkonnas" raames\, toetab Euroopa Liit. Korraldab Eesti Mahepõllumajanduse Sihtasutus \n	Infopäevad lähevad arvesse mahetoetuse raames nõutava kohustusliku koolitusena.
URL:https://www.pikk.ee/sundmus/infopaev-mahepollumajandus-alustajatele/
LOCATION:Muu\, Eesti
CATEGORIES:Taimekasvatus
GEO:58.595272;25.0136071
END:VEVENT
BEGIN:VEVENT
DTSTART;VALUE=DATE:20170928
DTEND;VALUE=DATE:20170929
DTSTAMP:20260420T191513
CREATED:20171231T220000Z
LAST-MODIFIED:20171231T220000Z
UID:10008243-1506556800-1506643199@www.pikk.ee
SUMMARY:„Keskkonnakaitse ja loodushoiu täienduskoolitus“ 100h konsulendile 2. õppegrupiga. II moodul
DESCRIPTION:Koolitus koosneb 6.moodulist ajavahemikus 22.märts 2017 – 31.august 2019\, mis tulevad läbida alljärgnevaks ajaks:\nI mooduli teine koolitus 1. septembriks 2017;\nII mooduli teine koolitus 1. detsembriks 2017;\nIII mooduli teine koolitus 1. märtsiks 2018;\nIV mooduli teine koolitus 1. novembriks 2018;\nV mooduli teine koolitus 1. märtsiks 2019;\nVI mooduli teine koolitus 1. septembriks 2019 \nKoolitus sisaldab auditoorset ja praktilist õpet (väliõpe) ning kodutööd (6). Koolituse lõpuks valmib igal osalejal õpimapp. \nII mooduli õppepäevad on: 28.-29.september 2017\n18.-19.oktoober 2017\n6.-17.november 2017 \nTäiendav info mooduli kohta SIIN. \nKursuse kontaktisik:\nEda Gross\nRäpina Aianduskooli täienduskoolituse metoodik\nTel. 7961 549; 5346 1209\neda.gross@aianduskool.ee
URL:https://www.pikk.ee/sundmus/keskkonnakaitse-ja-loodushoiu-taienduskoolitus-100h-konsulendile-2-oppegrupiga-ii-moodul/
LOCATION:Muu\, Eesti
CATEGORIES:Keskkond
GEO:58.595272;25.0136071
END:VEVENT
BEGIN:VEVENT
DTSTART;VALUE=DATE:20170928
DTEND;VALUE=DATE:20170929
DTSTAMP:20260420T191513
CREATED:20171231T220000Z
LAST-MODIFIED:20171231T220000Z
UID:10008362-1506556800-1506643199@www.pikk.ee
SUMMARY:Koolitus Põllumajandusloomade heaolunõuete tagamine
DESCRIPTION:NB! Koolitus läheb arvesse loomade heaolu toetuse taotlemisel. \n\n\n		Sihtrühm:\n		Põllumajandustoodete tootmise või töötlemise\, põllumajandusmaa hooldamise\, põllumajandustoodetest mittepõllumajandustoodete töötlemise või metsa majandamisega tegelev füüsilisest isikust ettevõtja ja tema töötaja ning eraõigusliku juriidilise isiku osanik\, aktsionär\, liige\, juhtorgani liige ja tema töötaja.\n		  \n\n		Sisu:\n		 \n	– Farmist tapamajani põllumajandusloomadega kohalduv seadusandlus;\n	– Erinevate põllumajandusloomade pidamise nõuded farmis;\n	– Transpordisobivus;\n	– Põllumajandusloomade transport tapamajja;\n	– Loomade heaolu tagamine farmis\, veokis ja tapamajas. \n	Ajakava: \n\n		 \n\n		10.00 – 11.30 õppetöö\n		11.30 – 12.00 toidupaus tehnikamaja kohvikus\n		12.00 – 13.30 õppetöö\n		13.30 – 13.40 paus\n		13.40 – 15.10 õppetöö\n		15.10 – 15.15 paus\n		15.15 – 16.00 õppetöö\n \n\n		Koolitus on sihtrühma kuulujale tasuta. Vajalik eelregistreerumine.  \n\n		Registreerumine ja lähem info maaülikooli avatud ülikooli kodulehel:\n		http://avatudylikool.emu.ee/taiendope/priauler2016/ \n\n		Koolituse korraldaja:\n		Eesti Maaülikooli avatud ülikool\n		Fr. R. Kreutzwaldi 56 (III korrus\, ruumid 303-306)\, 51014 Tartu\, tel 731 3174\, 731 3175\, 731 3275\, 534 41844  või e-post: avayl[A]emu.ee \n\n\n	 
URL:https://www.pikk.ee/sundmus/koolitus-pollumajandusloomade-heaolunouete-tagamine/
LOCATION:Muu\, Eesti
CATEGORIES:Loomakasvatus
GEO:58.595272;25.0136071
END:VEVENT
END:VCALENDAR