BEGIN:VCALENDAR
VERSION:2.0
PRODID:-//PIKK.ee - ECPv6.13.2.1//NONSGML v1.0//EN
CALSCALE:GREGORIAN
METHOD:PUBLISH
X-ORIGINAL-URL:https://www.pikk.ee
X-WR-CALDESC:Events for PIKK.ee
REFRESH-INTERVAL;VALUE=DURATION:PT1H
X-Robots-Tag:noindex
X-PUBLISHED-TTL:PT1H
BEGIN:VTIMEZONE
TZID:Europe/Tallinn
BEGIN:DAYLIGHT
TZOFFSETFROM:+0200
TZOFFSETTO:+0300
TZNAME:EEST
DTSTART:20170326T010000
END:DAYLIGHT
BEGIN:STANDARD
TZOFFSETFROM:+0300
TZOFFSETTO:+0200
TZNAME:EET
DTSTART:20171029T010000
END:STANDARD
END:VTIMEZONE
BEGIN:VEVENT
DTSTART;VALUE=DATE:20171010
DTEND;VALUE=DATE:20171011
DTSTAMP:20260425T222929
CREATED:20171231T220000Z
LAST-MODIFIED:20171231T220000Z
UID:10008569-1507593600-1507679999@www.pikk.ee
SUMMARY:Veeseadusest põllumehele
DESCRIPTION:Õppepäeva lektorid Keskkonnaministeeriumi veeosakonnast\, Keskkonnainspektsioonist ja Keskkonnaametist \n\n\n\n\n9:30 – 10:00 \n\n\nRegistreerimine\, tervituskohv \n\n\n\n\n10:00 – 10:05 \n\n\nSissejuhatus – Ann Riisenberg\, EPKK keskkonnavaldkonna juht \n\n\n\n\n10:00 – 12:00 \n\n\nSõnniku liigid\, sõnnikuhoidla ja sõnniku aunas hoidmise nõuded sh sõnnikuhoidla mahutavuse arvutamine \n\n\n\n\nVäetamise nõuded ja piirangud  sh väetamine kaldega\, kaitsmata põhjaveega ja nitraaditundlikel aladel\, sõnnikuga antavad N ja P piirangud\, vedelsõnniku laotusplaani nõude olemus \n\n\n\n\n12:00 – 13:00 \n\n\nLõuna \n\n\n\n\n13:00 – 15:00 \n\n\nNõuded silo ladustamiskohtadele sh silomahla kogumiskaevudele \n\n\n\n\nPõlluraamatu pidamise ja väetusplaani koostamise nõuded \n\n\n\n\n15:00 – 15:30 \n\n\nKohvipaus \n\n\n\n\n15:30 – 16:30 \n\n\nVeekaitsevöönd: piirangud\, karjatamine veekaitsevööndis \n\n\n\n\nÕppepäeva kõiki teemasid selgitab esimesena Keskkonnaministeeriumi esindaja ja sellele järgnevad Keskkonnainspektsiooni ja Keskkonnaameti kommentaarid järelvalve seisukohast. \nNB! Palume varakult ette registreerida SIIN või EPKK kodulehel\, sest kohtade arv on piiratud! \nLisainfo Ann Riisenberg – tel 52 45 875 \nÕppepäevad on organiseeritud projekti “GreenAgri” CB272 raames ja finantseeritud Kesk-Läänemere programmist 2014-2020  ning Eesti Põllumajandus-Kaubanduskoja poolt.
URL:https://www.pikk.ee/sundmus/veeseadusest-pollumehele/
LOCATION:Muu\, Eesti
GEO:58.595272;25.0136071
END:VEVENT
BEGIN:VEVENT
DTSTART;VALUE=DATE:20171010
DTEND;VALUE=DATE:20171011
DTSTAMP:20260425T222929
CREATED:20171231T220000Z
LAST-MODIFIED:20171231T220000Z
UID:10006698-1507593600-1507679999@www.pikk.ee
SUMMARY:Maheköögiviljakasvatuse infopäev
DESCRIPTION:Ökoloogiliste Tehnoloogiate Keskus korraldab infopäeva teemal \n\n	Maheköögiviljakasvatus\, mis toimub 10. oktoobril 2017 Mallaveres (Raasiku vald\, Harjumaa). \n\n	Aeg: 10.10.2017 k 11.00-16.00 \n\n	Koht: Pikavere Mõisakool\, Pikavere küla\, Raasiku vald\, Harjumaa (päeva esimene osa)\, Kiltsimäe talu\, Mallavere\, Raasiku vald\, Harjumaa (päeva teine osa) \n\n	Päevakava \n\n	11:00   Vahekultuurid maheköögiviljakasvatuses. Merili Toom (Eesti Taimekasvatuse Instituut)\n	13:00   Lõuna\n	13:30   Tutvumine Kiltsimäe talu maheköögviljakasvatusega (Margus Lille). Peamised teemad: Umbrohutõrje\, vahekultuuride kasvatamine\, tehnika tutvustus\n	15:30   Arutelu aktuaalsetel maheköögiviljakasvatust puudutavatel teemadel\n	16:00   Lõpp \n\n	Infopäev on tasuta\, osalemiseks on vajalik eelregistreerumine lingil https://goo.gl/forms/SMrzC3kdmhsewDqj1 (eelistatult) või e-maili teel maheteave@gmail.com hiljemalt 30.09.2017.  \n\n	Kohtade arv on piiratud\, registreerumine lõpetatakse kohtade täitumisel. \n\n	Infopäev läheb arvesse mahepõllumajandusliku tootmise toetuse saamise kohustusliku koolitusena (6 tundi). \n\n	Infopäev toimub "Teadmussiirde pikaajaline programm mahepõllumajanduse tegevusvaldkonnas" raames\, toetab Euroopa Liit.
URL:https://www.pikk.ee/sundmus/mahekoogiviljakasvatuse-infopaev/
LOCATION:Muu\, Eesti
CATEGORIES:Aiandus,Taimekaitse,Taimekasvatus
GEO:58.595272;25.0136071
END:VEVENT
BEGIN:VEVENT
DTSTART;VALUE=DATE:20171010
DTEND;VALUE=DATE:20171011
DTSTAMP:20260425T222929
CREATED:20171231T220000Z
LAST-MODIFIED:20171231T220000Z
UID:10006700-1507593600-1507679999@www.pikk.ee
SUMMARY:Mahepõllumajandusliku lihaveisekasvatuse esitluspäev
DESCRIPTION:Mahepõllumajandusliku lihaveisekasvatuse esitluspäev \n\n	10. oktoober 2017 k 10:00-14:00 \n\n	Annomere OÜ (Utu küla\, Käina vald\, Hiiumaa) \n\n	\n	Päevakava: \n\n\n		Ettevõtte mahelihaveisekasvatuse tutvustus\, ringkäik ettevõttes\n\n		Lihaveiste heaolu. Arutelu\n\n		Lihaveiste turustamine. Arutelu\n\n		Energiapaus\n\n\n	Esitlustegevuse läbiviija: Gunnar Aug\, Annomere OÜ\n	Korraldaja: MTÜ Ökoloogiliste Tehnoloogiate Keskus \n\n	Esitluspäev on tasuta\, osalemiseks on vajalik eelregistreerumine lingil https://goo.gl/forms/K61qhXHJqW6l6CO83 (eelistatult) või e-maili teel maheteave@gmail.com hiljemalt 30.09.2017. Kohtade arv on piiratud! \n\n	Esitluspäev läheb arvesse mahepõllumajandusliku tootmise toetuse saamise kohustusliku koolitusena (5 tundi). \n\n	Lisainfo:\n	tel: 56473322 \n\n	Esitlustegevus toimub programmi "Teadmussiirde pikaajaline programm mahepõllumajanduse tegevusvaldkonnas" raames\, toetab Euroopa Liit. \n\n	 
URL:https://www.pikk.ee/sundmus/mahepollumajandusliku-lihaveisekasvatuse-esitluspaev-3/
LOCATION:Muu\, Eesti
CATEGORIES:Loomakasvatus
GEO:58.595272;25.0136071
END:VEVENT
END:VCALENDAR