BEGIN:VCALENDAR
VERSION:2.0
PRODID:-//PIKK.ee - ECPv6.13.2.1//NONSGML v1.0//EN
CALSCALE:GREGORIAN
METHOD:PUBLISH
X-WR-CALNAME:PIKK.ee
X-ORIGINAL-URL:https://www.pikk.ee
X-WR-CALDESC:Events for PIKK.ee
REFRESH-INTERVAL;VALUE=DURATION:PT1H
X-Robots-Tag:noindex
X-PUBLISHED-TTL:PT1H
BEGIN:VTIMEZONE
TZID:Europe/Tallinn
BEGIN:DAYLIGHT
TZOFFSETFROM:+0200
TZOFFSETTO:+0300
TZNAME:EEST
DTSTART:20170326T010000
END:DAYLIGHT
BEGIN:STANDARD
TZOFFSETFROM:+0300
TZOFFSETTO:+0200
TZNAME:EET
DTSTART:20171029T010000
END:STANDARD
END:VTIMEZONE
BEGIN:VEVENT
DTSTART;VALUE=DATE:20171016
DTEND;VALUE=DATE:20171017
DTSTAMP:20260419T155316
CREATED:20171231T220000Z
LAST-MODIFIED:20171231T220000Z
UID:10006723-1508112000-1508198399@www.pikk.ee
SUMMARY:Marjakasvatus
DESCRIPTION:Sõstrakasvatuse pind on viimastel aastatel oluliselt suurenenud. Samuti kasvatatakse järjest rohkem kultuurmustikat. \n\n	Nii sõstra- kui ka mustikakasvatus ei vaja suuri kasvupindasid\, need on kultuurid\, mida võiks kasvatada tootja (või ka hobiaednik)\, kelle soov on oma sissetuleku suurendamine. \n\n	Tartumaa Põllumeeste Liit korraldab marjakasvatuse infopäevad: \n\n	12 oktoobril Sangaste Rukkimajas\, Sangastes\, Valgamaal \n\n	16 oktoobril Võru Vallavalitsuse saalis\, Võrumõisa tee 4a\, Võrus \n\n	20 oktoobril Viljandi PMA õppeklassis\, Vabaduse plats 4\, Viljandis \n\n	Infopäevad algavad kell 10.00 ja kestavad 4 akadeemilist tundi. \n\n	Käsitletavateks teemadeks on: erinevate sortide tutvustus\, mullaproovi tulemuste analüüs ja mullaviljakuse tõestmine agrotehniliste võtetega\, istandiku hooldamine (sh tolmeldamine\, öökülmade tõrje)\, saagikoristus\, toetusvõimalused marjakasvatajatele. Tuuakse näited teiste riikide praktikatest. \n\n	Lektoriks on konsulent ja praktik Margus Kopp \n\n	Registreerimine  https://goo.gl/forms/t0xaA9ly0WlownLE3. Registreerida saab ka merry[A]kodu.ee ja 736 6955 \n\n	Infopäeva toetab EL EAFRD programm. \n\n	 
URL:https://www.pikk.ee/sundmus/marjakasvatus-2/
LOCATION:Muu\, Eesti
CATEGORIES:Taimekasvatus
GEO:58.595272;25.0136071
END:VEVENT
END:VCALENDAR