BEGIN:VCALENDAR
VERSION:2.0
PRODID:-//PIKK.ee - ECPv6.13.2.1//NONSGML v1.0//EN
CALSCALE:GREGORIAN
METHOD:PUBLISH
X-WR-CALNAME:PIKK.ee
X-ORIGINAL-URL:https://www.pikk.ee
X-WR-CALDESC:Events for PIKK.ee
REFRESH-INTERVAL;VALUE=DURATION:PT1H
X-Robots-Tag:noindex
X-PUBLISHED-TTL:PT1H
BEGIN:VTIMEZONE
TZID:Europe/Tallinn
BEGIN:DAYLIGHT
TZOFFSETFROM:+0200
TZOFFSETTO:+0300
TZNAME:EEST
DTSTART:20170326T010000
END:DAYLIGHT
BEGIN:STANDARD
TZOFFSETFROM:+0300
TZOFFSETTO:+0200
TZNAME:EET
DTSTART:20171029T010000
END:STANDARD
END:VTIMEZONE
BEGIN:VEVENT
DTSTART;VALUE=DATE:20171030
DTEND;VALUE=DATE:20171031
DTSTAMP:20260419T155359
CREATED:20171231T220000Z
LAST-MODIFIED:20171231T220000Z
UID:10008626-1509321600-1509407999@www.pikk.ee
SUMMARY:Uuemaid suundi lambakasvatuses
DESCRIPTION:Tartumaa Põllumeeste Liit korraldab 30. oktoobril algusega 10.00 Pärnus\, Pärnu Nooruse Maja\, Roheline 1\, tasuta infopäeva „Uuemaid suundi lambakasvatuses“. \n\n	Konsulent Hillar Kalda käsitleb teemasid: lambakasvatus Eestis ja aretatavate lambatõugude iseloomustus; lammaste jõudluskontroll; lambatõugude aretusprogrammidest lammaste lihakuse\, varavalmivuse\, piimakuse ja emaomaduste parandamise võimaluste osas; söödatootmine\, lammaste söötmine\, lõppnuum ja paarituseelne nuumamine\, lammaste veevajadus ja jootmine\, lammastele sobivad mineraalsöödad; lammaste karjamaade vajadus\, karjatamine\, karjamaade rajamine ja karjaaedade ehitamine\, erinevate tarastusmaterjalide valik; tervishoid ja haigused; lammaste paaritusperiood\, uttede paarituseks ettevalmistamine\, sugujäärade valik\, „õrritaja“jäärade kasutamine\, uttede paarituskava koostamine ja paaritamine; lammaste poegimisperiood\, selleks ettevalmistumine ja edukas läbiviimine; lambakasvatushooned ja lammaste pidamistehnoloogiad. \n\n	Registreerimine https://goo.gl/forms/sZ7T27JyM1P1j0Kx2 \n\n	Registreerida saab ka merry[A]kodu.ee ja 736 6955. \n\n	Infopäeva toetab EL EAFRD programm
URL:https://www.pikk.ee/sundmus/uuemaid-suundi-lambakasvatuses-4/
LOCATION:Muu\, Eesti
CATEGORIES:Loomakasvatus
GEO:58.595272;25.0136071
END:VEVENT
END:VCALENDAR