BEGIN:VCALENDAR
VERSION:2.0
PRODID:-//PIKK.ee - ECPv6.13.2.1//NONSGML v1.0//EN
CALSCALE:GREGORIAN
METHOD:PUBLISH
X-WR-CALNAME:PIKK.ee
X-ORIGINAL-URL:https://www.pikk.ee
X-WR-CALDESC:Events for PIKK.ee
REFRESH-INTERVAL;VALUE=DURATION:PT1H
X-Robots-Tag:noindex
X-PUBLISHED-TTL:PT1H
BEGIN:VTIMEZONE
TZID:Europe/Tallinn
BEGIN:DAYLIGHT
TZOFFSETFROM:+0200
TZOFFSETTO:+0300
TZNAME:EEST
DTSTART:20170326T010000
END:DAYLIGHT
BEGIN:STANDARD
TZOFFSETFROM:+0300
TZOFFSETTO:+0200
TZNAME:EET
DTSTART:20171029T010000
END:STANDARD
END:VTIMEZONE
BEGIN:VEVENT
DTSTART;VALUE=DATE:20171101
DTEND;VALUE=DATE:20171102
DTSTAMP:20260422T200300
CREATED:20171231T220000Z
LAST-MODIFIED:20171231T220000Z
UID:10008608-1509494400-1509580799@www.pikk.ee
SUMMARY:KESKKONNASÕBRALIKU MAJANDAMISE TOETUSE (KSM) (MAK 2014-2020) TÄIENDUSKOOLITUS
DESCRIPTION:  \nKESKKONNASÕBRALIKU MAJANDAMISE TOETUSE (KSM) (MAK 2014-2020) TÄIENDUSKOOLITUSED 2017. aastal \nPÄEVAKAVA: \n9.30 – 10.00  Kogunemine\, osalejate registreerimine\n10.00 – 11.30 Muld kui põllumehe tootmisvahend (muldade kaitse\, kasutussobivus ja väetustarbe kaardistamine)\n11.30 – 12.30 Vahe- ja haljasväetiskultuurid ja nende tähtsus\, huumuse kalkulaator\n12.30 – 13.10 Lõunapaus\n13.10 – 14.20 Praktiline ülesanne\n14.20 – 15.50 Mesilased – kasulikud\, kuid haavatavad putukad. QuESSA projekti tulemused\n15.50  Arutelu\, kokkuvõte \nKoolitused on tasuta ning lähevad arvesse KSM toetuse raames nõutava täienduskoolitusena.\nKoolitused korraldab Põllumajandusuuringute Keskus Maaeluministeeriumi tellimusel\, läbiviimist toetab Euroopa Liit.\nKoolitusel osalejad kinnitavad oma osalemise kohapeal allkirjaga koolituse alguses ja lõpus\, mille alusel PMK esindaja teeb kande e-priasse. \nOsaleda saavad vaid eelregistreerunud isikud!  \nRegistreerumine: goo.gl/GZ7RSJ või telefonil 55630001 (Maris Kruuse).\nRegistreerimine lõpeb 3 tööpäeva enne koolituse toimumist või kohtade täitumisel.\nJärgmised samasisulised KSM täienduskoolitused toimuvad aastatel 2018 kuni 2020. \n  \nKoolitused toimuvad 2017. aastal järgnevates kohtades: \n31.10 Järvamaa – Väätsa Mõisa suur saal\, Kooli 1\, Väätsa http://mois.vaatsa.ee/\n01.11 Lääne-Virumaa – Hotell Wesenbergh\, Tallinna 25\, Rakvere http://www.wesenbergh.ee/\n01.11 Tartumaa – Waide motell\, Käo küla\, Rõngu vald http://www.waide.ee/\n01.11 Saaremaa – Suure Tõllu Puhkeküla\, Lilbi küla\, Lääne-Saare vald  http://www.suurtoll.ee/\n02.11 Jõgevamaa – Kuremaa loss\, Lossi 1\, Kuremaa http://www.kuremaaloss.ee/\n02.11 Läänemaa – Fra Mare Thalasso SPA panoraamsaal\, Ranna tee 2\, Haapsalu  http://framare.ee/\n14.11 Viljandimaa – Hotell Centrum\, Tallinna 24\, Viljandi  http://centrum.ee/\n15.11 Harjumaa –  Põllumajandusuuringute Keskuse saal\, Teaduse 4/6\, Saku http://pmk.agri.ee/\n15.11 Võrumaa – Hotell-loodusspaa Kubija saal\, Männiku 43a\, Võru https://www.kubija.ee/
URL:https://www.pikk.ee/sundmus/keskkonnasobraliku-majandamise-toetuse-ksm-mak-2014-2020-taienduskoolitus-3/
LOCATION:Muu\, Eesti
CATEGORIES:Taimekasvatus
GEO:58.595272;25.0136071
END:VEVENT
BEGIN:VEVENT
DTSTART;VALUE=DATE:20171101
DTEND;VALUE=DATE:20171102
DTSTAMP:20260422T200300
CREATED:20171231T220000Z
LAST-MODIFIED:20200106T095701Z
UID:10008617-1509494400-1509580799@www.pikk.ee
SUMMARY:Farmide bioturvalisus ja karja tervis
DESCRIPTION:AU.553 Farmide bioturvalisus ja karja tervis \nToimumisaeg \n01.11.2017 \nMaht\n4 akadeemilist tundi \nToimumiskoht\nTartu linn\nEesti Maaülikool Kreutzwaldi 56/1 auditoorium A 305 \nToimumise ajakava \n9.15 – 10.45 õppetöö\n10.45 – 11.00 kohvipaus\n11.00 – 12.30 õppetöö \nÕppekeel\neesti keel \nÕppejõud\nJulia Jeremejeva\, PhD\, EMÜ Veterinaarmeditsiini ja loomakasvatuse õppetooli lektor \nHinnainfo\nInfopäev toimub programmi\n“Teadmussiirde pikaajaline programm loomakasvatuse valdkonnas” raames ja on sihtrühma kuulujatele tasuta. \nSihtrühm\nPõllumajandustoodete tootmise\, töötlemise või turustamisega\, põllumajandusmaa hooldamisega\, põllumajandustoodetest mittepõllumajandustoodete töötlemisega\, sealhulgas toidu valmistamise või töötlemisega\, või metsa majandamisega seotud või nimetatud tegevusega tegelev füüsilisest isikust ettevõtja ja tema töötaja\, eraõigusliku juriidilise isiku osanik\, aktsionär\, liige\, juhtorgani liige ja tema töötaja\, metsa majandamisega tegelev füüsiline isik ja toidu valmistamise või töötlemisega tegelev avalik-õiguslik juriidilise isiku juhtorgani liige või töötaja.\nLisaks valdkonna teenindamisega tegelejad (nt loomasööda\, veterinaarravimite müüjad)\, oma ettevõtte tegevusvaldkonda laiendada soovijad\, põllumajanduslike esindus- ja erialaorganisatsioonide juhatuse liikmed ja töötajad ning kõik teemast huvitatud isikud. \nInfopäev toimub programmi “Teadmussiirde pikaajaline programm loomakasvatuse valdkonnas” raames. \nProgrammi eesmärk on tõsta loomakasvatussektoris (v.a. vesiviljelus) tegelevate ettevõtjate ja töötajate teadmiste taset teemadel\, mis on seotud põllumajandusloomade pidamise\, söötmise\, heaolu\, tervise\, taudiennetuse\, aretuse ja geneetiliste ressursside säilitamise\, ohutu ja kvaliteetse sööda\, ning esmase töötlemise kaudu lisandväärtuse loomisega. \nÕpiväljundid\nOsaleja teab\, millised on peamised nakkuste karjatoomise viisid ja kuidas neid ennetada. Teab\, kuidas hinnata seakarja tervishoiu ja rakendada neid teadmisi. \nVt. materjal SIIT \nRegistreerumise tähtaeg\n24.10.2017 \nRegistreerumise lisainfo\nRegistreerumisega avaldate soovi antud infopäeval osaleda. Enne kui registreerute\, palun veenduge\, et kuulute sihtrühma (vt. infot eespool).\nRegistreerumine on avatud kuni registreerumistähtaja lõpuni või kuni grupi täitumiseni.\nInfopäev toimub programmi “Teadmussiirde pikaajaline programm loomakasvatuse valdkonnas” raames ning on sihtrühmale tasuta. \nInfopäev toimub\, kui grupp komplekteerub\, st. koolitusel osalejaid peab olema vähemalt 10.\nKui grupp ei komplekteeru\, siis infopäeva ei toimu\, registreerunud osaleda soovijaid teavitatakse. \nRegistreeru: https://ois.emu.ee/pls/ois/!tere.tulemast?leht=OK.AY.VP&id_ay_programm=8262&id_ay_toimumine=10764&systeemi_seaded=3\,1\,12\,1\, \nLähem info koolituse korraldajalt:\nEesti Maaülikooli avatud ülikool\nFr. R. Kreutzwaldi 56 (III korrus\, ruumid 303-306)\, 51014 Tartu\,\ntel 731 3174\, 731 3175\, 731 3275\, 534 41844\ne-post: avayl@emu.ee\nhttp://avatudylikool.emu.ee/
URL:https://www.pikk.ee/sundmus/farmide-bioturvalisus-ja-karja-tervis-2/
LOCATION:Muu\, Eesti
CATEGORIES:Loomakasvatus
GEO:58.595272;25.0136071
END:VEVENT
BEGIN:VEVENT
DTSTART;VALUE=DATE:20171101
DTEND;VALUE=DATE:20171102
DTSTAMP:20260422T200300
CREATED:20171231T220000Z
LAST-MODIFIED:20171231T220000Z
UID:10006696-1509494400-1509580799@www.pikk.ee
SUMMARY:Hea ammlehm – tulus lihaveisekasvatus
DESCRIPTION:Tartumaa Põllumeeste Liit korraldab Viljandimaal 1. novembril algusega 10.00 tasuta infopäeva „Hea ammlehm – tulus lihaveisekasvatus“. Teoreetiline osa kuni 14.00 Kolga-Jaani Kultuurimajas (Viljandi mnt 2\, 528 9599). Praktiline osa kuni 16.00 Talviku OÜs (Oorgu küla\, Kolga-Jaani vald\, 5344 0772). \n\n	Lektor on Aigar Suurmaa (530 1024). \n\n	Teemad: Lihaveisetõugude arvukus ja paiknemine Eestis; millal ammlehmi võib pidada headeks; Eesti tiinete lehmikute esmaspoegimisiga ja kehakaal võrrelduna Soome ja teiste põhjamaadega; miks on otstarbekas ise ammlehmi üles kasvatada; milliseid abinõusid tuleks kasutusele võtta\, et lühendada esmaspoegimisiga (söötmine\, pidamine\, tõuaretus jne); milline peaks olema esmaspoegijate sobiv vanus\, miks; milline on kõige sobivam aastaaeg ammlehmade poegimiseks ja selle majanduslik põhjendus. \n\n	Registreerimisvorm  https://goo.gl/forms/DO1Jq5c90lAENOF63\, registreerida saab ka merry@kodu.ee ja 736 6955
URL:https://www.pikk.ee/sundmus/hea-ammlehm-tulus-lihaveisekasvatus-4/
LOCATION:Muu\, Eesti
CATEGORIES:Loomakasvatus
GEO:58.595272;25.0136071
END:VEVENT
BEGIN:VEVENT
DTSTART;VALUE=DATE:20171101
DTEND;VALUE=DATE:20171102
DTSTAMP:20260422T200300
CREATED:20171231T220000Z
LAST-MODIFIED:20171231T220000Z
UID:10008606-1509494400-1509580799@www.pikk.ee
SUMMARY:KESKKONNASÕBRALIKU MAJANDAMISE TOETUSE (KSM) (MAK 2014-2020) TÄIENDUSKOOLITUS
DESCRIPTION:  \nKESKKONNASÕBRALIKU MAJANDAMISE TOETUSE (KSM) (MAK 2014-2020) TÄIENDUSKOOLITUSED 2017. aastal \nPÄEVAKAVA: \n9.30 – 10.00  Kogunemine\, osalejate registreerimine\n10.00 – 11.30 Muld kui põllumehe tootmisvahend (muldade kaitse\, kasutussobivus ja väetustarbe kaardistamine)\n11.30 – 12.30 Vahe- ja haljasväetiskultuurid ja nende tähtsus\, huumuse kalkulaator\n12.30 – 13.10 Lõunapaus\n13.10 – 14.20 Praktiline ülesanne\n14.20 – 15.50 Mesilased – kasulikud\, kuid haavatavad putukad. QuESSA projekti tulemused\n15.50  Arutelu\, kokkuvõte \nKoolitused on tasuta ning lähevad arvesse KSM toetuse raames nõutava täienduskoolitusena.\nKoolitused korraldab Põllumajandusuuringute Keskus Maaeluministeeriumi tellimusel\, läbiviimist toetab Euroopa Liit.\nKoolitusel osalejad kinnitavad oma osalemise kohapeal allkirjaga koolituse alguses ja lõpus\, mille alusel PMK esindaja teeb kande e-priasse. \nOsaleda saavad vaid eelregistreerunud isikud!  \nRegistreerumine: goo.gl/GZ7RSJ või telefonil 55630001 (Maris Kruuse).\nRegistreerimine lõpeb 3 tööpäeva enne koolituse toimumist või kohtade täitumisel.\nJärgmised samasisulised KSM täienduskoolitused toimuvad aastatel 2018 kuni 2020. \n  \nKoolitused toimuvad 2017. aastal järgnevates kohtades: \n31.10 Järvamaa – Väätsa Mõisa suur saal\, Kooli 1\, Väätsa http://mois.vaatsa.ee/\n01.11 Lääne-Virumaa – Hotell Wesenbergh\, Tallinna 25\, Rakvere http://www.wesenbergh.ee/\n01.11 Tartumaa – Waide motell\, Käo küla\, Rõngu vald http://www.waide.ee/\n01.11 Saaremaa – Suure Tõllu Puhkeküla\, Lilbi küla\, Lääne-Saare vald  http://www.suurtoll.ee/\n02.11 Jõgevamaa – Kuremaa loss\, Lossi 1\, Kuremaa http://www.kuremaaloss.ee/\n02.11 Läänemaa – Fra Mare Thalasso SPA panoraamsaal\, Ranna tee 2\, Haapsalu  http://framare.ee/\n14.11 Viljandimaa – Hotell Centrum\, Tallinna 24\, Viljandi  http://centrum.ee/\n15.11 Harjumaa –  Põllumajandusuuringute Keskuse saal\, Teaduse 4/6\, Saku http://pmk.agri.ee/\n15.11 Võrumaa – Hotell-loodusspaa Kubija saal\, Männiku 43a\, Võru https://www.kubija.ee/
URL:https://www.pikk.ee/sundmus/keskkonnasobraliku-majandamise-toetuse-ksm-mak-2014-2020-taienduskoolitus-2/
LOCATION:Muu\, Eesti
CATEGORIES:Taimekasvatus
GEO:58.595272;25.0136071
END:VEVENT
BEGIN:VEVENT
DTSTART;VALUE=DATE:20171101
DTEND;VALUE=DATE:20171102
DTSTAMP:20260422T200300
CREATED:20171231T220000Z
LAST-MODIFIED:20171231T220000Z
UID:10008607-1509494400-1509580799@www.pikk.ee
SUMMARY:KESKKONNASÕBRALIKU MAJANDAMISE TOETUSE (KSM) (MAK 2014-2020) TÄIENDUSKOOLITUS
DESCRIPTION:  \nKESKKONNASÕBRALIKU MAJANDAMISE TOETUSE (KSM) (MAK 2014-2020) TÄIENDUSKOOLITUSED 2017. aastal \nPÄEVAKAVA: \n9.30 – 10.00  Kogunemine\, osalejate registreerimine\n10.00 – 11.30 Muld kui põllumehe tootmisvahend (muldade kaitse\, kasutussobivus ja väetustarbe kaardistamine)\n11.30 – 12.30 Vahe- ja haljasväetiskultuurid ja nende tähtsus\, huumuse kalkulaator\n12.30 – 13.10 Lõunapaus\n13.10 – 14.20 Praktiline ülesanne\n14.20 – 15.50 Mesilased – kasulikud\, kuid haavatavad putukad. QuESSA projekti tulemused\n15.50  Arutelu\, kokkuvõte \nKoolitused on tasuta ning lähevad arvesse KSM toetuse raames nõutava täienduskoolitusena.\nKoolitused korraldab Põllumajandusuuringute Keskus Maaeluministeeriumi tellimusel\, läbiviimist toetab Euroopa Liit.\nKoolitusel osalejad kinnitavad oma osalemise kohapeal allkirjaga koolituse alguses ja lõpus\, mille alusel PMK esindaja teeb kande e-priasse. \nOsaleda saavad vaid eelregistreerunud isikud!  \nRegistreerumine: goo.gl/GZ7RSJ või telefonil 55630001 (Maris Kruuse).\nRegistreerimine lõpeb 3 tööpäeva enne koolituse toimumist või kohtade täitumisel.\nJärgmised samasisulised KSM täienduskoolitused toimuvad aastatel 2018 kuni 2020. \n  \nKoolitused toimuvad 2017. aastal järgnevates kohtades: \n31.10 Järvamaa – Väätsa Mõisa suur saal\, Kooli 1\, Väätsa http://mois.vaatsa.ee/\n01.11 Lääne-Virumaa – Hotell Wesenbergh\, Tallinna 25\, Rakvere http://www.wesenbergh.ee/\n01.11 Tartumaa – Waide motell\, Käo küla\, Rõngu vald http://www.waide.ee/\n01.11 Saaremaa – Suure Tõllu Puhkeküla\, Lilbi küla\, Lääne-Saare vald  http://www.suurtoll.ee/\n02.11 Jõgevamaa – Kuremaa loss\, Lossi 1\, Kuremaa http://www.kuremaaloss.ee/\n02.11 Läänemaa – Fra Mare Thalasso SPA panoraamsaal\, Ranna tee 2\, Haapsalu  http://framare.ee/\n14.11 Viljandimaa – Hotell Centrum\, Tallinna 24\, Viljandi  http://centrum.ee/\n15.11 Harjumaa –  Põllumajandusuuringute Keskuse saal\, Teaduse 4/6\, Saku http://pmk.agri.ee/\n15.11 Võrumaa – Hotell-loodusspaa Kubija saal\, Männiku 43a\, Võru https://www.kubija.ee/
URL:https://www.pikk.ee/sundmus/keskkonnasobraliku-majandamise-toetuse-ksm-mak-2014-2020-taienduskoolitus-4/
LOCATION:Muu\, Eesti
CATEGORIES:Taimekasvatus
GEO:58.595272;25.0136071
END:VEVENT
END:VCALENDAR