BEGIN:VCALENDAR
VERSION:2.0
PRODID:-//PIKK.ee - ECPv6.13.2.1//NONSGML v1.0//EN
CALSCALE:GREGORIAN
METHOD:PUBLISH
X-WR-CALNAME:PIKK.ee
X-ORIGINAL-URL:https://www.pikk.ee
X-WR-CALDESC:Events for PIKK.ee
REFRESH-INTERVAL;VALUE=DURATION:PT1H
X-Robots-Tag:noindex
X-PUBLISHED-TTL:PT1H
BEGIN:VTIMEZONE
TZID:Europe/Tallinn
BEGIN:DAYLIGHT
TZOFFSETFROM:+0200
TZOFFSETTO:+0300
TZNAME:EEST
DTSTART:20170326T010000
END:DAYLIGHT
BEGIN:STANDARD
TZOFFSETFROM:+0300
TZOFFSETTO:+0200
TZNAME:EET
DTSTART:20171029T010000
END:STANDARD
END:VTIMEZONE
BEGIN:VEVENT
DTSTART;VALUE=DATE:20171102
DTEND;VALUE=DATE:20171103
DTSTAMP:20260419T195109
CREATED:20171231T220000Z
LAST-MODIFIED:20171231T220000Z
UID:10006697-1509580800-1509667199@www.pikk.ee
SUMMARY:Hea ammlehm – tulus lihaveisekasvatus
DESCRIPTION:Tartumaa Põllumeeste Liit korraldab Lääne-Virumaal 2. novembril algusega 10.00-16.00 tasuta infopäeva „Hea ammlehm – tulus lihaveisekasvatus“. Infopäev toimub OÜ Küti mõisas (Küti küla\, Vinni vald\, 5197 2091). \n\n	Lektor on Aigar Suurmaa (530 1024). \n\n	Teemad: Lihaveisetõugude arvukus ja paiknemine Eestis; millal ammlehmi võib pidada headeks; Eesti tiinete lehmikute esmaspoegimisiga ja kehakaal võrrelduna Soome ja teiste põhjamaadega; miks on otstarbekas ise ammlehmi üles kasvatada; milliseid abinõusid tuleks kasutusele võtta\, et lühendada esmaspoegimisiga (söötmine\, pidamine\, tõuaretus jne); milline peaks olema esmaspoegijate sobiv vanus\, miks; milline on kõige sobivam aastaaeg ammlehmade poegimiseks ja selle majanduslik põhjendus. \n\n	Registreerimisvorm https://goo.gl/forms/264HNaNqM8kqB5qp1 \, registreerida saab ka merry@kodu.ee ja 736 6955.
URL:https://www.pikk.ee/sundmus/hea-ammlehm-tulus-lihaveisekasvatus-5/
LOCATION:Muu\, Eesti
CATEGORIES:Loomakasvatus
GEO:58.595272;25.0136071
END:VEVENT
BEGIN:VEVENT
DTSTART;VALUE=DATE:20171102
DTEND;VALUE=DATE:20171103
DTSTAMP:20260419T195109
CREATED:20171231T220000Z
LAST-MODIFIED:20171231T220000Z
UID:10006705-1509580800-1509667199@www.pikk.ee
SUMMARY:Täienduskoolitus Väikemäletsejaliste karja - ja heinamaade kasutamine (sh söötmine).
DESCRIPTION:Koolitus on kolme päevane! \nTäienduskoolitus toimub MAK 2014-2020 meetme „Teadmussiirde pikaajaline programm loomakasvatuse tegevusvaldkonnas II “ raames\, rahastamisallikas: riigieelarve\, Euroopa Maaelu Põllumajandusfond (EAFRD). \nKoolitus on sihtrühmale tasuta. Koolitusest võivad osa võtta põllumajandustoodete tootmise\, töötlemise või turustamisega\, põllumajandusmaa hooldamisega\, põllumajandustoodetest mittepõllumajandustoodete töötlemisega\, sealhulgas toidu valmistamise või töötlemisega\, või metsa majandamisega seotud või nimetatud tegevusega tegelevat füüsilisest isikust ettevõtjat ja tema töötajat\, eraõigusliku juriidilise isiku osanikku\, aktsionäri\, liiget\, juhtorgani liiget ja tema töötajat\, metsa majandamisega tegelevat füüsilist isikut ja toidu valmistamise või töötlemisega tegelevat avalik-õigusliku juriidilise isiku juhtorgani liiget või töötajat. (Teadmussiirde pikaajaliste programmide rakendamise toetus määruse 28.04.2016 nr.46  muutmine. Vastu võetud 24.08.2017 nr 59.RT I\, 30.08.2017\, 1 ) \n  \nAjakava: \nNeljapäev 12 oktoober. Lektor Miralda Paivel \n9.00 – 9.15       Kogunemine\, registreerimine\n09.15 – 10.45  Karja- ja heinamaade rajamine.\n10.45 – 11:00  Paus\n11.00 – 12:30  Karja- ja heinamaade hooldamine.\nLõuna\n13.30 –  15.00  Rohumaade kasutamine.\n15.00 – 15.15 Paus\n15:15 – 16.35  Rohumaade kasutamine. \n  \nKolmapäev 25 oktoober. Lektorid M. Oeselg\, K. Tähepõld \n9.00 – 9.15       Kogunemine\,  registreerimine\n09.15 – 10.45  Rohusöötade toiteväärtused ja seda mõjutavad tegurid.\n10.45 – 11:00  Paus\n11.00 – 12:30  Söömust mõjutavad tegurid.\nLõuna\n13.30 –  15.00 Väikemäletsejaliste seedehaigused.\n15.00 – 15.15 Paus\n15:15 – 16.35 Väikemäletsejaliste ainevahetushaigused. \n  \nNeljapäev 02.november Lektor Liila Tali \n9.00 – 9.15       Kogunemine\,  registreerimine\n09.15 – 10.45  Lammaste söötmine lähtuvalt vanusrühmast ja tootmisetapist.\n10.45 – 11:00  Paus\n11.00 – 12:30   Lammaste söötmine lähtuvalt vanusrühmast ja tootmisetapist.\nLõuna\n13.30 –  15.00 Lammaste söötmine lähtuvalt vanusrühmast ja tootmisetapist.\n15.00 – 15.15 Paus\n15:15 – 16.35 Lammaste söötmine lähtuvalt vanusrühmast ja tootmisetapist. \n  \nKoolitusel osalemiseks vajalik eelregistreerimine (nimi\, ettevõtte registrinumber\, isikukood). Registreerimine toimub kuni 09. oktoober  koolitus[A]olustvere.edu.ee  või tel.4374290. Info koolituse koha tel 513 6242 \nLektorid \nLiilia Tali – Lambakasvataja. Konsulent. Loomaarst\nKatrin Tähepõld – EMÜ Väikemäletsejaliste sisehaiguste ja  karjatervise lektor. Konsulent. Loomaarst.\nMiralda Paivel – MSc\, Rohumaaviljelus ja söödatootmine.  Olustvere TMK taimekasvatusõpetaja.\nMarika Oeselg – Konsulent. Olustvere TMK loomakasvatusõpetaja.
URL:https://www.pikk.ee/sundmus/taienduskoolitus-vaikemaletsejaliste-karja-ja-heinamaade-kasutamine-sh-sootmine-3/
LOCATION:Muu\, Eesti
CATEGORIES:Loomakasvatus
GEO:58.595272;25.0136071
END:VEVENT
BEGIN:VEVENT
DTSTART;VALUE=DATE:20171102
DTEND;VALUE=DATE:20171103
DTSTAMP:20260419T195109
CREATED:20171231T220000Z
LAST-MODIFIED:20171231T220000Z
UID:10006753-1509580800-1509667199@www.pikk.ee
SUMMARY:EESTI AIANDUSLIIDU IV VISIOONIKONVERENTS
DESCRIPTION:Eesti Aiandusliidu IV Visioonikonverentsi PROGRAMM \nModeraator: Raimond Strastin\, Eesti Aiandusliit\, tegevjuht \n  \n\n	9.30 – 10.00 Registreerimine\, tervituskohv \n	 \nSessioon 1  \n\n	10.00 – 10.15 Konverentsi avamine\n\n	Raivo Külasepp\, Eesti Aiandusliit\, Grüne Fee Eesti AS juhatuse esimees \n\n	Marko Laine\, Soome Suursaatkonna minis\n\n	10.15 – 10.30 Ülevaade aiandusliidu tegevusest \n\n	Raivo Külasepp\, Eesti Aiandusliit\, Grüne Fee Eesti AS juhatuse esimees \n\n	10.30 – 11.00 Aianduse hetkeolukorrast Eestis numbrites \n\n	Illar Lemetti\, Maaeluministeeriumi kantsler\n\n	11.00 – 11.30 Aianduse hetkeolukorrast Soomes\, väljakutsed lähitulevikus\n\n	Timo Taulavuori\, Soome aianduse keskorganisatsioon tegevjuht/ CEO\, Puutarhaliito Finland\n\n	11.30 – 12.00 Kuidas me alustasime revolutsiooni Põhjamaa mahemahladega\n\n	Janno Veskimäe\, HeyDay Organic OÜ tegevjuht ja kaasomanik\n\n	Moderaatori kokkuvõte blokist\n\n	 \n\n	12.15 – 13.30 Lõunapaus \n\n		13.30 – 15.00 Sessioon 2  Praktikult praktikule – töötoad 2x45min.                                Töökeel inglise keel\, tõlge moderaatoritelt.  TÖÖTUBA 1 – Puukoolimajandus Soomes\, hetkeseis ja tulevikuvaade\n		Tomi Tahvonen\, Puutarha Tahvoset Oy puukooli omanik ja tegevjuht. Moderaator Raimond Strastin\, Eesti Aiandusliit\n		TÖÖTUBA 2 – Köögiviljakasvatus avamaal ja katmikalal\, hetkeseis ja tulevikuvaade\n		Fredrik Björklund\, köögiviljakasvatuse konsulent\, Finnish Economic Association. Moderaator Ene Kiudsoo\, Baltic Agro AS                                                                                                                               \n\n		TÖÖTUBA 3 – Õuna- ja marjakasvatus Soomes\, hetkeseis ja tulevikuvaade\n		Paula Achren\, Paulan Puutarhat Oy farmi omanik ja tegevjuht. Moderaator Ulvi Moor\, EMÜ\n		 \n\n\n\n		15.00 – 15.30 Kohvipaus \n\n			15.30 – 17.30 Sessioon 3\n\n			15.30 – 15.45 Töötubade moderaatorite kokkuvõtted\n\n			15:45 – 16.30 Soome aiandustootmise võimalused ja väljakutsed\, teaduslik tulevikuvaade –  Professor Saila Karhu\, Natural Resources Institute Finland (Luke)\n\n			16.30 – 17.15 Eduka läbirääkimise alused \n\n			Georg Merilo\, läbirääkimiste ekspert ja koolitaja \n\n			17.15 – 17.30 Moderaatori kokkuvõte päevast\n \n\n\nKõik ettekanded on leitavad SIIN.
URL:https://www.pikk.ee/sundmus/eesti-aiandusliidu-iv-visioonikonverents/
LOCATION:Muu\, Eesti
CATEGORIES:Aiandus
GEO:58.595272;25.0136071
END:VEVENT
BEGIN:VEVENT
DTSTART;VALUE=DATE:20171102
DTEND;VALUE=DATE:20171103
DTSTAMP:20260419T195109
CREATED:20171231T220000Z
LAST-MODIFIED:20200106T095852Z
UID:10008596-1509580800-1509667199@www.pikk.ee
SUMMARY:Ravimite vastutustundlik kasutamine
DESCRIPTION:AU.550 Ravimite vastutustundlik kasutamine\nToimumisaeg\n02.11.2017 \nMaht\n4 akadeemilist tundi \nToimumiskoht\nVõru\, Pikk tn 23 \nAjakava \n10.00 – 11.30 õppetöö\n11.30 – 12.00 kohvipaus\n12.00 – 13.30 õppetöö \nAntud koolitus läheb arvesse loomade heaolu toetuse taotlemisel. \nÕppekeel\neesti keel \nÕppejõud\nPiret Kalmus\nPhD\, EMÜ Veterinaarmeditsiini ja loomakasvatusinstituudi kliinilise veterinaarmeditsiini õppetooli dotsent \nHinnainfo\nInfopäev toimub programmi\n“Teadmussiirde pikaajaline programm loomakasvatuse valdkonnas” raames ja on sihtrühma kuulujatele tasuta. \nSihtrühm \nPõllumajandustoodete tootmise\, töötlemise või turustamisega\, põllumajandusmaa hooldamisega\, põllumajandustoodetest mittepõllumajandustoodete töötlemisega\, sealhulgas toidu valmistamise või töötlemisega\, või metsa majandamisega seotud või nimetatud tegevusega tegelev füüsilisest isikust ettevõtja ja tema töötaja\, eraõigusliku juriidilise isiku osanik\, aktsionär\, liige\, juhtorgani liige ja tema töötaja\, metsa majandamisega tegelev füüsiline isik ja toidu valmistamise või töötlemisega tegelev avalik-õiguslik juriidilise isiku juhtorgani liige või töötaja.\nLisaks valdkonna teenindamisega tegelejad (nt loomasööda\, veterinaarravimite müüjad)\, oma ettevõtte tegevusvaldkonda laiendada soovijad\, põllumajanduslike esindus- ja erialaorganisatsioonide juhatuse liikmed ja töötajad ning kõik teemast huvitatud isikud. \nInfopäev toimub programmi “Teadmussiirde pikaajaline programm loomakasvatuse valdkonnas” raames. \nProgrammi eesmärk on tõsta loomakasvatussektoris (v.a. vesiviljelus) tegelevate ettevõtjate ja töötajate teadmiste taset teemadel\, mis on seotud põllumajandusloomade pidamise\, söötmise\, heaolu\, tervise\, taudiennetuse\, aretuse ja geneetiliste ressursside säilitamise\, ohutu ja kvaliteetse sööda\, ning esmase töötlemise kaudu lisandväärtuse loomisega. \nÕpiväljundid\n– oskab tõhusalt registreerida karjas esinevaid haiguseid ja\n– oskab läbi viia lihtsamat andmete analüüsi\n– teab vasikate haiguste ja udarapõletike tõrje ning ravivõtteid võtteid\n– oskab analüüsida kinnisperioodiaegse udararavi tõhusust \nVt. materjal SIIT \nRegistreerumise tähtaeg\n25.10.2017 \nRegistreerumise lisainfo Infopäev toimub\, kui grupp komplekteerub\, st. osalejaid peab olema vähemalt 10.\nKui grupp ei komplekteeru\, siis üritus ei toimu\, registreerunud osaleda soovijaid teavitatakse. \nVajalik eelregistreerumine lingi alt: https://ois.emu.ee/pls/ois/!tere.tulemast?leht=OK.AY.VP&id_ay_programm=8224&id_ay_toimumine=10647&systeemi_seaded=3\,1\,12\,1\,  \nLähem info koolituse korraldajalt:\nEesti Maaülikooli avatud ülikool\nFr. R. Kreutzwaldi 56 (III korrus\, ruumid 303-306)\, 51014 Tartu\,\ntel 731 3174\, 731 3175\, 731 3275\, 534 41844\ne-post: avayl@emu.ee\nhttp://avatudylikool.emu.ee/
URL:https://www.pikk.ee/sundmus/ravimite-vastutustundlik-kasutamine/
LOCATION:Muu\, Eesti
CATEGORIES:Loomakasvatus
GEO:58.595272;25.0136071
END:VEVENT
BEGIN:VEVENT
DTSTART;VALUE=DATE:20171102
DTEND;VALUE=DATE:20171103
DTSTAMP:20260419T195109
CREATED:20171231T220000Z
LAST-MODIFIED:20171231T220000Z
UID:10008609-1509580800-1509667199@www.pikk.ee
SUMMARY:KESKKONNASÕBRALIKU MAJANDAMISE TOETUSE (KSM) (MAK 2014-2020) TÄIENDUSKOOLITUS
DESCRIPTION:  \nKESKKONNASÕBRALIKU MAJANDAMISE TOETUSE (KSM) (MAK 2014-2020) TÄIENDUSKOOLITUSED 2017. aastal \nPÄEVAKAVA: \n9.30 – 10.00  Kogunemine\, osalejate registreerimine\n10.00 – 11.30 Muld kui põllumehe tootmisvahend (muldade kaitse\, kasutussobivus ja väetustarbe kaardistamine)\n11.30 – 12.30 Vahe- ja haljasväetiskultuurid ja nende tähtsus\, huumuse kalkulaator\n12.30 – 13.10 Lõunapaus\n13.10 – 14.20 Praktiline ülesanne\n14.20 – 15.50 Mesilased – kasulikud\, kuid haavatavad putukad. QuESSA projekti tulemused\n15.50  Arutelu\, kokkuvõte \nKoolitused on tasuta ning lähevad arvesse KSM toetuse raames nõutava täienduskoolitusena.\nKoolitused korraldab Põllumajandusuuringute Keskus Maaeluministeeriumi tellimusel\, läbiviimist toetab Euroopa Liit.\nKoolitusel osalejad kinnitavad oma osalemise kohapeal allkirjaga koolituse alguses ja lõpus\, mille alusel PMK esindaja teeb kande e-priasse. \nOsaleda saavad vaid eelregistreerunud isikud!  \nRegistreerumine: goo.gl/GZ7RSJ või telefonil 55630001 (Maris Kruuse).\nRegistreerimine lõpeb 3 tööpäeva enne koolituse toimumist või kohtade täitumisel.\nJärgmised samasisulised KSM täienduskoolitused toimuvad aastatel 2018 kuni 2020. \n  \nKoolitused toimuvad 2017. aastal järgnevates kohtades: \n31.10 Järvamaa – Väätsa Mõisa suur saal\, Kooli 1\, Väätsa http://mois.vaatsa.ee/\n01.11 Lääne-Virumaa – Hotell Wesenbergh\, Tallinna 25\, Rakvere http://www.wesenbergh.ee/\n01.11 Tartumaa – Waide motell\, Käo küla\, Rõngu vald http://www.waide.ee/\n01.11 Saaremaa – Suure Tõllu Puhkeküla\, Lilbi küla\, Lääne-Saare vald  http://www.suurtoll.ee/\n02.11 Jõgevamaa – Kuremaa loss\, Lossi 1\, Kuremaa http://www.kuremaaloss.ee/\n02.11 Läänemaa – Fra Mare Thalasso SPA panoraamsaal\, Ranna tee 2\, Haapsalu  http://framare.ee/\n14.11 Viljandimaa – Hotell Centrum\, Tallinna 24\, Viljandi  http://centrum.ee/\n15.11 Harjumaa –  Põllumajandusuuringute Keskuse saal\, Teaduse 4/6\, Saku http://pmk.agri.ee/\n15.11 Võrumaa – Hotell-loodusspaa Kubija saal\, Männiku 43a\, Võru https://www.kubija.ee/
URL:https://www.pikk.ee/sundmus/keskkonnasobraliku-majandamise-toetuse-ksm-mak-2014-2020-taienduskoolitus-5/
LOCATION:Muu\, Eesti
CATEGORIES:Taimekasvatus
GEO:58.595272;25.0136071
END:VEVENT
BEGIN:VEVENT
DTSTART;VALUE=DATE:20171102
DTEND;VALUE=DATE:20171103
DTSTAMP:20260419T195109
CREATED:20171231T220000Z
LAST-MODIFIED:20171231T220000Z
UID:10008611-1509580800-1509667199@www.pikk.ee
SUMMARY:KESKKONNASÕBRALIKU MAJANDAMISE TOETUSE (KSM) (MAK 2014-2020) TÄIENDUSKOOLITUS
DESCRIPTION:  \nKESKKONNASÕBRALIKU MAJANDAMISE TOETUSE (KSM) (MAK 2014-2020) TÄIENDUSKOOLITUSED 2017. aastal \nPÄEVAKAVA: \n9.30 – 10.00  Kogunemine\, osalejate registreerimine\n10.00 – 11.30 Muld kui põllumehe tootmisvahend (muldade kaitse\, kasutussobivus ja väetustarbe kaardistamine)\n11.30 – 12.30 Vahe- ja haljasväetiskultuurid ja nende tähtsus\, huumuse kalkulaator\n12.30 – 13.10 Lõunapaus\n13.10 – 14.20 Praktiline ülesanne\n14.20 – 15.50 Mesilased – kasulikud\, kuid haavatavad putukad. QuESSA projekti tulemused\n15.50  Arutelu\, kokkuvõte \nKoolitused on tasuta ning lähevad arvesse KSM toetuse raames nõutava täienduskoolitusena.\nKoolitused korraldab Põllumajandusuuringute Keskus Maaeluministeeriumi tellimusel\, läbiviimist toetab Euroopa Liit.\nKoolitusel osalejad kinnitavad oma osalemise kohapeal allkirjaga koolituse alguses ja lõpus\, mille alusel PMK esindaja teeb kande e-priasse. \nOsaleda saavad vaid eelregistreerunud isikud!  \nRegistreerumine: goo.gl/GZ7RSJ või telefonil 55630001 (Maris Kruuse).\nRegistreerimine lõpeb 3 tööpäeva enne koolituse toimumist või kohtade täitumisel.\nJärgmised samasisulised KSM täienduskoolitused toimuvad aastatel 2018 kuni 2020. \n  \nKoolitused toimuvad 2017. aastal järgnevates kohtades: \n31.10 Järvamaa – Väätsa Mõisa suur saal\, Kooli 1\, Väätsa http://mois.vaatsa.ee/\n01.11 Lääne-Virumaa – Hotell Wesenbergh\, Tallinna 25\, Rakvere http://www.wesenbergh.ee/\n01.11 Tartumaa – Waide motell\, Käo küla\, Rõngu vald http://www.waide.ee/\n01.11 Saaremaa – Suure Tõllu Puhkeküla\, Lilbi küla\, Lääne-Saare vald  http://www.suurtoll.ee/\n02.11 Jõgevamaa – Kuremaa loss\, Lossi 1\, Kuremaa http://www.kuremaaloss.ee/\n02.11 Läänemaa – Fra Mare Thalasso SPA panoraamsaal\, Ranna tee 2\, Haapsalu  http://framare.ee/\n14.11 Viljandimaa – Hotell Centrum\, Tallinna 24\, Viljandi  http://centrum.ee/\n15.11 Harjumaa –  Põllumajandusuuringute Keskuse saal\, Teaduse 4/6\, Saku http://pmk.agri.ee/\n15.11 Võrumaa – Hotell-loodusspaa Kubija saal\, Männiku 43a\, Võru https://www.kubija.ee/
URL:https://www.pikk.ee/sundmus/keskkonnasobraliku-majandamise-toetuse-ksm-mak-2014-2020-taienduskoolitus-6/
LOCATION:Muu\, Eesti
CATEGORIES:Taimekasvatus
GEO:58.595272;25.0136071
END:VEVENT
END:VCALENDAR