BEGIN:VCALENDAR
VERSION:2.0
PRODID:-//PIKK.ee - ECPv6.13.2.1//NONSGML v1.0//EN
CALSCALE:GREGORIAN
METHOD:PUBLISH
X-WR-CALNAME:PIKK.ee
X-ORIGINAL-URL:https://www.pikk.ee
X-WR-CALDESC:Events for PIKK.ee
REFRESH-INTERVAL;VALUE=DURATION:PT1H
X-Robots-Tag:noindex
X-PUBLISHED-TTL:PT1H
BEGIN:VTIMEZONE
TZID:Europe/Tallinn
BEGIN:DAYLIGHT
TZOFFSETFROM:+0200
TZOFFSETTO:+0300
TZNAME:EEST
DTSTART:20170326T010000
END:DAYLIGHT
BEGIN:STANDARD
TZOFFSETFROM:+0300
TZOFFSETTO:+0200
TZNAME:EET
DTSTART:20171029T010000
END:STANDARD
END:VTIMEZONE
BEGIN:VEVENT
DTSTART;VALUE=DATE:20171108
DTEND;VALUE=DATE:20171109
DTSTAMP:20260423T181247
CREATED:20171231T220000Z
LAST-MODIFIED:20200106T100004Z
UID:10008597-1510099200-1510185599@www.pikk.ee
SUMMARY:Ravimite vastutustundlik kasutamine
DESCRIPTION:AU.550 Ravimite vastutustundlik kasutamine\nToimumisaeg\n08.11.2017 \nMaht\n4 akadeemilist tundi \nToimumiskoht\nJõgevamaa Adavere Kooli 2 \nAjakava \n10.00 – 11.30 õppetöö\n11.30 – 12.00 kohvipaus\n12.00 – 13.30 õppetöö \nAntud koolitus läheb arvesse loomade heaolu toetuse taotlemisel. \nÕppekeel\neesti keel \nÕppejõud\nPiret Kalmus\nPhD\, EMÜ Veterinaarmeditsiini ja loomakasvatusinstituudi kliinilise veterinaarmeditsiini õppetooli dotsent \nHinnainfo\nInfopäev toimub programmi\n“Teadmussiirde pikaajaline programm loomakasvatuse valdkonnas” raames ja on sihtrühma kuulujatele tasuta. \nSihtrühm \nPõllumajandustoodete tootmise\, töötlemise või turustamisega\, põllumajandusmaa hooldamisega\, põllumajandustoodetest mittepõllumajandustoodete töötlemisega\, sealhulgas toidu valmistamise või töötlemisega\, või metsa majandamisega seotud või nimetatud tegevusega tegelev füüsilisest isikust ettevõtja ja tema töötaja\, eraõigusliku juriidilise isiku osanik\, aktsionär\, liige\, juhtorgani liige ja tema töötaja\, metsa majandamisega tegelev füüsiline isik ja toidu valmistamise või töötlemisega tegelev avalik-õiguslik juriidilise isiku juhtorgani liige või töötaja.\nLisaks valdkonna teenindamisega tegelejad (nt loomasööda\, veterinaarravimite müüjad)\, oma ettevõtte tegevusvaldkonda laiendada soovijad\, põllumajanduslike esindus- ja erialaorganisatsioonide juhatuse liikmed ja töötajad ning kõik teemast huvitatud isikud. \nInfopäev toimub programmi “Teadmussiirde pikaajaline programm loomakasvatuse valdkonnas” raames. \nProgrammi eesmärk on tõsta loomakasvatussektoris (v.a. vesiviljelus) tegelevate ettevõtjate ja töötajate teadmiste taset teemadel\, mis on seotud põllumajandusloomade pidamise\, söötmise\, heaolu\, tervise\, taudiennetuse\, aretuse ja geneetiliste ressursside säilitamise\, ohutu ja kvaliteetse sööda\, ning esmase töötlemise kaudu lisandväärtuse loomisega. \nÕpiväljundid\n– oskab tõhusalt registreerida karjas esinevaid haiguseid ja\n– oskab läbi viia lihtsamat andmete analüüsi\n– teab vasikate haiguste ja udarapõletike tõrje ning ravivõtteid võtteid\n– oskab analüüsida kinnisperioodiaegse udararavi tõhusust \nVt. materjal SIIT \nRegistreerumise tähtaeg\n30.10.2017 \nRegistreerumise lisainfo Infopäev toimub\, kui grupp komplekteerub\, st. osalejaid peab olema vähemalt 10.\nKui grupp ei komplekteeru\, siis üritus ei toimu\, registreerunud osaleda soovijaid teavitatakse. \nVajalik eelregistreerumine lingi alt: https://ois.emu.ee/pls/ois/!tere.tulemast?leht=OK.AY.VP&id_ay_programm=8224&id_ay_toimumine=10648&systeemi_seaded=3\,1\,12\,1\, \nLähem info koolituse korraldajalt:\nEesti Maaülikooli avatud ülikool\nFr. R. Kreutzwaldi 56 (III korrus\, ruumid 303-306)\, 51014 Tartu\,\ntel 731 3174\, 731 3175\, 731 3275\, 534 41844\ne-post: avayl@emu.ee\nhttp://avatudylikool.emu.ee/
URL:https://www.pikk.ee/sundmus/ravimite-vastutustundlik-kasutamine-2/
LOCATION:Muu\, Eesti
CATEGORIES:Loomakasvatus
GEO:58.595272;25.0136071
END:VEVENT
BEGIN:VEVENT
DTSTART;VALUE=DATE:20171108
DTEND;VALUE=DATE:20171109
DTSTAMP:20260423T181247
CREATED:20171231T220000Z
LAST-MODIFIED:20171231T220000Z
UID:10006737-1510099200-1510185599@www.pikk.ee
SUMMARY:EPKK konverents "Eesti piimasektori ekspordiväljavaated"
DESCRIPTION:Moderaator: Ants-Hannes Viira\, PhD\, Eesti Maaülikool \nPÄEVAKAVA: \n09.30 Registreerumine ja hommikukohv \n10.00 Konverentsi avamine – Tiina Saron\, EPKK juhatuse liige \n10.10 Eesti piimasektori ekspordist Maaeluministeeriumi pilgu läbi – Tarmo Tamm\, maaeluminister (tbc) \n10.30 Globaalsed arengud maailmaturul  – Christophe Lafougere\, Gira \n11.00 Piimaturg Euroopas  – Carlos Martin Ovilo\, Euroopa Komisjon \n11.30 Küsimused\, arutelu \n12.00 Lõuna \n13.00 Eesti piimaeksport naabrite võrdluses – Ants-Hannes Viira\, Maaülikool \n13.20 Uued turud Eesti piimale – hetkeseis ja arengud – Marko Breivel\, Veterinaar- ja Toiduamet \n13.40 Elusloomade ekspordist – kuidas ja kas suudame täita uute turgude nõudeid? – Tanel-Taavi Bulitko\, Eesti Tõuloomakasvatuse Ühistu \n14.00 Küsimused/arutelu \n14.10 Kohvipaus \n14.20 Piimatoodete eksport Euroopa Liidus – Maido Solovjov\, Valio Eesti \n14.40 Piimaeksport kolmandatesse riikidesse – Jaanus Murakas\, E-Piim \n15.00 Küsimused/arutelu/ konverentsi kokkuvõte \n  \nÜritus on mõeldud piimandussektoris osalejatele: põllumeestele\, piimatööstuste esindajatele ja teistele sektoriga seotud ettevõtjatele ning huvilistele. \nOotame rohket osavõttu! \nNB!Konverentsidel osalemiseks on vajalik eelnev registreerimine\, mida palume teha hiljemalt 2. novembrini sellel vormil. \nLisainfo: EPKK juhatuse liige Tiina Saron\, tiina.saron@epkk.ee\, tel 51 31 535
URL:https://www.pikk.ee/sundmus/epkk-konverents-eesti-piimasektori-ekspordivaljavaated/
LOCATION:Muu\, Eesti
GEO:58.595272;25.0136071
END:VEVENT
BEGIN:VEVENT
DTSTART;VALUE=DATE:20171108
DTEND;VALUE=DATE:20171109
DTSTAMP:20260423T181247
CREATED:20171231T220000Z
LAST-MODIFIED:20171231T220000Z
UID:10006749-1510099200-1510185599@www.pikk.ee
SUMMARY:Infopäev mahesektori organisatsioonidele
DESCRIPTION:Eesti Maaülikooli Mahekeskus korraldab 8. novembril infopäeva mahesektori organisatsioonide esindajatele. \n\n	Aeg: 8. november\, kell 08.30-13.15\n	Koht:  Lammasmäe puhkekeskus\, Lääne-Virumaa \n\n	Programm \n\n\n		Eesti keskkonda ja toitu puudutavad seire tulemused. Arutelu.\n\n		Mahepõllumajanduse aktuaalsed arengusuunad. Arutelu ja grupitööd.\n\n		Energiapaus\n\n\n	Lektorid: Elen Peetsmann (Eesti Maaülikooli Mahekeskus) ja Merit Mikk (Ökoloogilite Tehnoloogiate Keskus).  \n\n	Registreerumine on lõppenud. \n\n	Lisainfo:\n	Elen Peetsmann\n	maheteave@gmail.com \n\n	Infopäev toimub  "Teadmussiirde pikaajaline programm mahepõllumajanduse tegevusvaldkonnas" raames\, toetab Euroopa Liit.
URL:https://www.pikk.ee/sundmus/infopaev-mahesektori-organisatsioonidele-3/
LOCATION:Muu\, Eesti
CATEGORIES:Muu
GEO:58.595272;25.0136071
END:VEVENT
BEGIN:VEVENT
DTSTART;VALUE=DATE:20171108
DTEND;VALUE=DATE:20171109
DTSTAMP:20260423T181247
CREATED:20171231T220000Z
LAST-MODIFIED:20171231T220000Z
UID:10006750-1510099200-1510185599@www.pikk.ee
SUMMARY:Piimakäitlemistehnoloogiate esitlustegevus
DESCRIPTION:Eesti Mahepõllumajanduse Sihtasutus korraldab 8. novembril esitlustegevuse Lääne-Virumaal ettevõttes Hõbeda Mõis OÜ. \n\n	Aeg: 8. november\, kell 13.00-16.00 \n\n	Koht: Hõbeda Mõis OÜ\, Hõbeda küla\, Kadrina vald\, Lääne-Virumaa \n\n	Kava:\n	Hõbeda Mõis OÜ tutvustus \n	Piimatöötlemistehnoloogiate ja kitsekasvatuse tutvustamine\n	Piimatoodete turustamine ja talumeiereide võimalused koostööks \n\n	Lektor on Kersti Lužkov (Hõbeda Mõis OÜ) \n\n	Registreerimine aadressil: mahepm@gmail.com või telefonil 5225936.\n	NB! Kohtade arv on piiratud! \n\n	Esitluspäev toimub MAK 2014-2020 "Teadmussiirde pikaajaline programm mahepõllumajanduse tegevusvaldkonnas" raames\, toetab Euroopa Liit. \n\n	  \n\n	 
URL:https://www.pikk.ee/sundmus/piimakaitlemistehnoloogiate-esitlustegevus/
LOCATION:Muu\, Eesti
CATEGORIES:Toiduainete tootmine
GEO:58.595272;25.0136071
END:VEVENT
END:VCALENDAR