BEGIN:VCALENDAR
VERSION:2.0
PRODID:-//PIKK.ee - ECPv6.13.2.1//NONSGML v1.0//EN
CALSCALE:GREGORIAN
METHOD:PUBLISH
X-WR-CALNAME:PIKK.ee
X-ORIGINAL-URL:https://www.pikk.ee
X-WR-CALDESC:Events for PIKK.ee
REFRESH-INTERVAL;VALUE=DURATION:PT1H
X-Robots-Tag:noindex
X-PUBLISHED-TTL:PT1H
BEGIN:VTIMEZONE
TZID:Europe/Tallinn
BEGIN:DAYLIGHT
TZOFFSETFROM:+0200
TZOFFSETTO:+0300
TZNAME:EEST
DTSTART:20170326T010000
END:DAYLIGHT
BEGIN:STANDARD
TZOFFSETFROM:+0300
TZOFFSETTO:+0200
TZNAME:EET
DTSTART:20171029T010000
END:STANDARD
END:VTIMEZONE
BEGIN:VEVENT
DTSTART;VALUE=DATE:20171109
DTEND;VALUE=DATE:20171110
DTSTAMP:20260420T200226
CREATED:20171231T220000Z
LAST-MODIFIED:20171231T220000Z
UID:10006740-1510185600-1510271999@www.pikk.ee
SUMMARY:Katmikala kliimakontrollisüsteemide infopäev
DESCRIPTION:Räpina Aianduskool korraldab 09. novembril Räpinas kasvuhoone kliimakontrollisüsteemi PRIVA tutvustava infopäeva.\nInfopäev toimub Aianduse teadmussiirde pikaajalise programmi  raames. \nAeg: 09. november 2017\, kell 10-16:30\nAsukoht: Põlvamaa\, Räpina\, Pargi 32 \nPäevakava\n9.30 – 10.00    Kogunemine\n10.00 – 10.50    Räpina Aianduskooli kasvuhoone külastamine\, kliimakontrollisüsteem PRIVA kooli kasvuhoones ja õppeklassis. Jano Narvik\n11.00 – 12.30    PRIVA kastmis ja väetamisprogrammid katmikalal. TaMi Automatic OÜ\, Tamar Nassar\n12.30 – 13.00    Lõunapaus\n13.00 – 14.00    PRIVA rakendamine suurettevõttes. AS Nurmiko (PRIVAsüsteemi demonstreerimine)\n14.00 – 15.15    PRIVA Katmikala juhtprogramm. Tõnis Soopere Horticom OÜ\n                         PRIVA kasvuhoone kliima- ja väetamiskontrollisüsteemide alternatiivid kasvuhoones. Roland Rool Hortinet OÜ\n15.15 – 15.30    Kohvipaus\n15.30 – 16.30    Riiklikud toetused ettevõtjatele katmiksüsteemide omandamiseks ja paigaldamiseks. Konsulent Triin Luksepp \nEsitluspäeval osalemine on tasuta. Osalemiseks on kindlasti vajalik registreerimine hiljemalt 06. novembriks  https://goo.gl/xocSTC\n \nKohtade arv on piiratud\, registreerumine lõpetatakse kohtade täitumisel.\nLisainfo:  Anu Käär\, Räpina Aianduskool\n   e-post: anu.kaar@aianduskool.ee\n  \nInfopäev toimub "Teadmussiirde pikaajaline programm aianduse tegevusvaldkonnas " raames\, toetab Euroopa Liit.
URL:https://www.pikk.ee/sundmus/katmikala-kliimakontrollisusteemide-infopaev/
LOCATION:Muu\, Eesti
CATEGORIES:Aiandus
GEO:58.595272;25.0136071
END:VEVENT
BEGIN:VEVENT
DTSTART;VALUE=DATE:20171109
DTEND;VALUE=DATE:20171110
DTSTAMP:20260420T200226
CREATED:20171231T220000Z
LAST-MODIFIED:20200106T095757Z
UID:10008602-1510185600-1510271999@www.pikk.ee
SUMMARY:Farmide bioturvalisus ja karja tervis
DESCRIPTION:AU.553 Farmide bioturvalisus ja karja tervis\nToimumisaeg \n09.11.2017 \nMaht\n4 akadeemilist tundi \nToimumiskoht\nTartu linn\nEesti Maaülikool Kreutzwaldi 56/1 auditoorium A 303 \nToimumiskoha info \nAjakava\n9.15 – 10.45 õppetöö\n10.45 – 11.00 kohvipaus\n11.00 – 12.30 õppetöö \nÕppekeel\neesti keel \nÕppejõud\nKerli Mõtus\, DVM\nEesti Maaülikool\, veterinaarmeditsiin\nkliinilise veterinaarmeditsiini õppetooli dotsent \nHinnainfo\nInfopäev toimub programmi\n“Teadmussiirde pikaajaline programm loomakasvatuse valdkonnas” raames ja on sihtrühma kuulujatele tasuta. \nSihtrühm \nPõllumajandustoodete tootmise\, töötlemise või turustamisega\, põllumajandusmaa hooldamisega\, põllumajandustoodetest mittepõllumajandustoodete töötlemisega\, sealhulgas toidu valmistamise või töötlemisega\, või metsa majandamisega seotud või nimetatud tegevusega tegelev füüsilisest isikust ettevõtja ja tema töötaja\, eraõigusliku juriidilise isiku osanik\, aktsionär\, liige\, juhtorgani liige ja tema töötaja\, metsa majandamisega tegelev füüsiline isik ja toidu valmistamise või töötlemisega tegelev avalik-õiguslik juriidilise isiku juhtorgani liige või töötaja.\nLisaks valdkonna teenindamisega tegelejad (nt loomasööda\, veterinaarravimite müüjad)\, oma ettevõtte tegevusvaldkonda laiendada soovijad\, põllumajanduslike esindus- ja erialaorganisatsioonide juhatuse liikmed ja töötajad ning kõik teemast huvitatud isikud. \nInfopäev toimub programmi “Teadmussiirde pikaajaline programm loomakasvatuse valdkonnas” raames. \nProgrammi eesmärk on tõsta loomakasvatussektoris (v.a. vesiviljelus) tegelevate ettevõtjate ja töötajate teadmiste taset teemadel\, mis on seotud põllumajandusloomade pidamise\, söötmise\, heaolu\, tervise\, taudiennetuse\, aretuse ja geneetiliste ressursside säilitamise\, ohutu ja kvaliteetse sööda\, ning esmase töötlemise kaudu lisandväärtuse loomisega. \nÕpiväljundid\nOsaleja teab\, millised on peamised nakkuste karjatoomise viisid ja kuidas neid ennetada. Omab teadmisi\, kuidas koostada veisekarjale bioturvalisuse programmi ning kuidas viia läbi karjatervise programmi. \nÕppematerjal\nVt. materjal SIIT ja SIIT \nRegistreerumise tähtaeg 01.11.2017 Registreerumine on avatud kuni registreerumistähtaja lõpuni või kuni grupi täitumiseni. \nInfopäev toimub\, kui grupp komplekteerub\, st. koolitusel osalejaid peab olema vähemalt 10.\nKui grupp ei komplekteeru\, siis infopäeva ei toimu\, registreerunud osaleda soovijaid teavitatakse. \nVajalik eelregistreerumine lingi alt: https://ois.emu.ee/pls/ois/!tere.tulemast?leht=OK.AY.VP&id_ay_programm=8262&id_ay_toimumine=10724&systeemi_seaded=3\,1\,12\,1\, \nLähem info koolituse korraldajalt:\nEesti Maaülikooli avatud ülikool\nFr. R. Kreutzwaldi 56 (III korrus\, ruumid 303-306)\, 51014 Tartu\,\ntel 731 3174\, 731 3175\, 731 3275\, 534 41844\ne-post: avayl@emu.ee\nhttp://avatudylikool.emu.ee/
URL:https://www.pikk.ee/sundmus/farmide-bioturvalisus-ja-karja-tervis/
LOCATION:Muu\, Eesti
CATEGORIES:Loomakasvatus
GEO:58.595272;25.0136071
END:VEVENT
BEGIN:VEVENT
DTSTART;VALUE=DATE:20171109
DTEND;VALUE=DATE:20171110
DTSTAMP:20260420T200226
CREATED:20171231T220000Z
LAST-MODIFIED:20171231T220000Z
UID:10008638-1510185600-1510271999@www.pikk.ee
SUMMARY:Investeeringud põllumajandusettevõtete tulemuslikkuse parandamiseks
DESCRIPTION:Tartumaa Põllumeeste Liit korraldab  infopäevad teemal \n„Investeeringud põllumajandusettevõtete tulemuslikkuse parandamiseks“ \nInfopäevad  on tasuta\, algavad kell 10.00  ning kestavad 4 akadeemilist tundi \nMuutunud on meede 4.1 raames antava toetuse hindamiskriteeriumid. \nInfopäevad toimuvad: \n 7.11.2017     Rapla Kultuurikeskuse suur saal\, Tallinna mnt 17a\, Rapla \n 9.11.2017     Kohvik „Aal“\, Tuglase 2\, Põlva \nInfopäeva teemad: \n\nPõllumajandusettevõtete tulemuslikkuse parandamise meetme tutvustus\, muudatused – Elar Neito ja Harry Pässa (MEM)\n\n\nToetuse taotlemine e-teenuse keskkonnas\, tähelepanekuid kuludokumentide täitmisel – Kadri Tõldsepp (PRIA)\n\nRegistreerimine: \nRapla  https://goo.gl/forms/R0agjn2InkxZYrH52 \nPõlva https://goo.gl/forms/uwPZb0475flhx4qc2 \n                                             Registreeerida võib ka  merry[A]kodu.ee ja 736 6955.
URL:https://www.pikk.ee/sundmus/investeeringud-pollumajandusettevotete-tulemuslikkuse-parandamiseks-2/
LOCATION:Muu\, Eesti
CATEGORIES:Maaettevõtlus
GEO:58.595272;25.0136071
END:VEVENT
BEGIN:VEVENT
DTSTART;VALUE=DATE:20171109
DTEND;VALUE=DATE:20171110
DTSTAMP:20260420T200226
CREATED:20171231T220000Z
LAST-MODIFIED:20171231T220000Z
UID:10008645-1510185600-1510271999@www.pikk.ee
SUMMARY:Uuemaid suundi lambakasvatuses
DESCRIPTION:Tartumaa Põllumeeste Liit korraldab 9. novembril algusega 10.00 Valgamaal Sangaste Rukkimajas tasuta infopäeva „Uuemaid suundi lambakasvatuses“. \n\n	Konsulent Hillar Kalda käsitleb teemasid: lambakasvatus Eestis ja aretatavate lambatõugude iseloomustus; lammaste jõudluskontroll; lambatõugude aretusprogrammidest lammaste lihakuse\, varavalmivuse\, piimakuse ja emaomaduste parandamise võimaluste osas; söödatootmine\, lammaste söötmine\, lõppnuum ja paarituseelne nuumamine\, lammaste veevajadus ja jootmine\, lammastele sobivad mineraalsöödad; lammaste karjamaade vajadus\, karjatamine\, karjamaade rajamine ja karjaaedade ehitamine\, erinevate tarastusmaterjalide valik; tervishoid ja haigused; lammaste paaritusperiood\, uttede paarituseks ettevalmistamine\, sugujäärade valik\, „õrritaja“jäärade kasutamine\, uttede paarituskava koostamine ja paaritamine; lammaste poegimisperiood\, selleks ettevalmistumine ja edukas läbiviimine; lambakasvatushooned ja lammaste pidamistehnoloogiad. \n\n	  \n\n	Registreerimine https://goo.gl/forms/0nan24ssn6qYrU0K2 \n\n	Registreerida saab ka merry[A]kodu.ee ja 736 6955. \n\n	Infopäeva toetab EL EAFRD programm
URL:https://www.pikk.ee/sundmus/uuemaid-suundi-lambakasvatuses-6/
LOCATION:Muu\, Eesti
CATEGORIES:Loomakasvatus
GEO:58.595272;25.0136071
END:VEVENT
BEGIN:VEVENT
DTSTART;VALUE=DATE:20171109
DTEND;VALUE=DATE:20171110
DTSTAMP:20260420T200226
CREATED:20171231T220000Z
LAST-MODIFIED:20171231T220000Z
UID:10008649-1510185600-1510271999@www.pikk.ee
SUMMARY:EPKK infopäev „Sensoorika koolitus edasijõudnutele“
DESCRIPTION:EPKK infopäev „Sensoorika koolitus edasijõudnutele“ \n  \n03. ja 09. novembril 2017  korraldab Eesti Põllumajandus-Kaubanduskoda Tallinnas Toidu- ja Fermentatsioonitehnoloogia Arenduskeskuses (Akadeemia tee 15A) tasuta infopäeva  „Sensoorika koolitus edasijõudnutele“. Infopäeva viivad läbi Toidu- ja Fermentatsioonitehnoloogia Arenduskeskuse koolitajad Sirli Rosenvald\, MSc ja Rain Kuldjärv\, MSc. \n  \nPäevakava: \n\n\n\n\n9:50-10:00 \n\n\nKogunemine ja osalejate registreerimine \n\n\n\n\n10:00-10:30 \n\n\nPõhimaitsete segude harjutus \n\n\n\n\n10:30 -11:30 \n\n\nTeooria – kõrvallõhnad ja nende tuvastamine; toidupettused ja nende tuvastamine \nKõrvallõhnade koolitus ja tuvastamine tootest \n\n\n\n\n11:30-12:30 \n\n\nKirjeldav sensoorne analüüs \n\n\n\n\n12:30-13:30 \n\n\nSensoorse analüüsi meetodite tutvustus (projective mapping\, TDS jms) \nTrendid ja praktikad sensoorses analüüsis\, inspireeritud värskselt toimunud suurimast sensoorika konverentsist 12th Pangborn Sensory Science Symposium 20-24.08.17\, Rhode Island\, USA. \n\n\n\n\n13:30-14:00 \n\n\nPäeva kokkuvõte\, küsimused \n\n\n\n\nInfopäeva päevakava on mõlemal päeval sama.  \nInfopäev on suunatud põllumajandus-\, toiduainetööstus- ja metsandussektoris hõivatud isikutele. Nõuetele vastavad toidusektoris tegutsevad eksperdid\, kes on eraõigusliku juriidilise isiku esindajad või FIEd. Infopäev on sihtrühma kuuluvatele osalejale tasuta ja antav abi on riigiabi või vähese tähtsusega abi. \n  \nInfopäeval osalejate arv on piiratud. Registreerumine infopäevale  –  SIIN. Eelregistreerimise sulgeme grupi täitumisel.  \n  \nLisainfot saate kui kirjutate evi@epkk.ee  või helistage 600 9350 või 5097819 (Evi Randpere). \n  \nTeie EPKK \n  \nInfopäevade korraldamist toetab Euroopa Liit. 
URL:https://www.pikk.ee/sundmus/epkk-infopaev-sensoorika-koolitus-edasijoudnutele-2/
LOCATION:Muu\, Eesti
GEO:58.595272;25.0136071
END:VEVENT
BEGIN:VEVENT
DTSTART;VALUE=DATE:20171109
DTEND;VALUE=DATE:20171110
DTSTAMP:20260420T200226
CREATED:20171231T220000Z
LAST-MODIFIED:20171231T220000Z
UID:10006720-1510185600-1510271999@www.pikk.ee
SUMMARY:Infopäev "Toidualase teabe esitamine"
DESCRIPTION:Eesti Toiduainetööstuse Liit korraldab Jänedal Maamajanduse Infokeskuse ruumes infopäeva\, kus käsitletakse erinevaid toidualase teabe esitamise ja märgistamise nõudeid. Infopäev lõpeb praktilise osaga\, kus osavõtjad saavad analüüsida etteantud näidismärgistusi ning esitada küsimusi ja jagada kogemusi. \n\n	NB! Infopäev on sisult sama aprillis Tartus ja mais Tallinnas toimunud infopäevadega. Keskendume rohkem väikekäitlejatele. \n\n	Päevakava: \n\n	10.00-10.30 Kogunemine\, registreerimine\, hommikukohv \n\n	10.30 – 11.30 Toidualase teabe esitamise nõuded. Toidu nimetused. \n\n	Külli Johanson ja Külli Suurvarik\, Maaeluministeeriumi toiduohutuse osakonna toidu üldnõuete büroo peaspetsialistid \n\n	11.30-12.00 Toitumisalase teabe esitamine \n\n	Külli Johanson\, Maaeluministeeriumi toidu üldnõuete büroo peaspetsialist \n\n	12.00-12.30 NutriData andmebaasi kasutamine toidu toitainelise koostise leidmisel \n\n	Kristin Salupuu  Tervise Arengu Instituudi seire ja hindamise osakonna projektijuht \n\n	12.30-13.00 Lõuna \n\n	13.00-13.30 Tõenduspõhised toitumis- ja tervisealased väited \n\n	Siret Dreyersdorff\, Maaeluministeeriumi toiduohutuse osakonna toidu üldnõuete büroo peaspetsialist \n\n	13.30 – 14.15 Tähelepanekuid toidualase teabe esitamisest ja pakendite märgistusest. Märgistuse koostamise näidis. \n\n	Tiiu Rand\, Veterinaar- ja Toiduameti toiduosakonna peaspetsialist \n\n	14.15-14.30 Kohvipaus \n\n	14.30-16.30 Praktiline osa ja küsimused \n\n	  \n\n	Infopäev toimub MAK 2014-2020 meetme „Teadmussiirde pikaajaline programm toiduohutuse valdkonnas“ raames\, läbiviimist toetab Euroopa Liit. \n\n	Tegemist on vähese tähtsusega abiga\, abisumma on 72 eurot ühe osaleva inimese kohta. Infopäev on osalejatele tasuta\, kui ettevõtte vähese tähtsusega abi määr ei ole ületatud. \n\n	Registreerimine https://toiduteave.ee/infopaev-9-11-17-janedal-toidualase-teabe-esitamine/ \n\n	Lisainfo: info@toiduteave.ee\, tel 50 63 428
URL:https://www.pikk.ee/sundmus/infopaev-toidualase-teabe-esitamine-3/
LOCATION:Muu\, Eesti
CATEGORIES:Toiduainete tootmine
GEO:58.595272;25.0136071
END:VEVENT
END:VCALENDAR