BEGIN:VCALENDAR
VERSION:2.0
PRODID:-//PIKK.ee - ECPv6.13.2.1//NONSGML v1.0//EN
CALSCALE:GREGORIAN
METHOD:PUBLISH
X-ORIGINAL-URL:https://www.pikk.ee
X-WR-CALDESC:Events for PIKK.ee
REFRESH-INTERVAL;VALUE=DURATION:PT1H
X-Robots-Tag:noindex
X-PUBLISHED-TTL:PT1H
BEGIN:VTIMEZONE
TZID:Europe/Tallinn
BEGIN:DAYLIGHT
TZOFFSETFROM:+0200
TZOFFSETTO:+0300
TZNAME:EEST
DTSTART:20170326T010000
END:DAYLIGHT
BEGIN:STANDARD
TZOFFSETFROM:+0300
TZOFFSETTO:+0200
TZNAME:EET
DTSTART:20171029T010000
END:STANDARD
END:VTIMEZONE
BEGIN:VEVENT
DTSTART;VALUE=DATE:20171208
DTEND;VALUE=DATE:20171209
DTSTAMP:20260425T184131
CREATED:20171231T220000Z
LAST-MODIFIED:20171231T220000Z
UID:10006800-1512691200-1512777599@www.pikk.ee
SUMMARY:Marjakasvatus
DESCRIPTION:Sõstrakasvatuse pind on viimastel aastatel oluliselt suurenenud. Samuti kasvatatakse järjest rohkem kultuurmustikat. \n\n	Nii sõstra- kui ka mustikakasvatus ei vaja suuri kasvupindasid\, need on kultuurid\, mida võiks kasvatada tootja (või ka hobiaednik)\, kelle soov on oma sissetuleku suurendamine. \n\n	Tartumaa Põllumeeste Liit korraldab marjakasvatuse infopäevad: \n\n	 5. detsembril Kulina Mõisas Lääne-Virumaal \n\n	 6. detsembril Harju TL õppeklassis\, Üksnurme tee 8\, Saku \n\n	 8. detsembril Kamari Seltsimajas\, Jõgeva maakond \n\n	Infopäevad algavad kell 10.00 ja kestavad 4 akadeemilist tundi. \n\n	Käsitletavateks teemadeks on: erinevate sortide tutvustus\, mullaproovi tulemuste analüüs ja mullaviljakuse tõestmine agrotehniliste võtetega\, istandiku hooldamine (sh tolmeldamine\, öökülmade tõrje)\, saagikoristus\, toetusvõimalused marjakasvatajatele. Tuuakse näited teiste riikide praktikatest. \n\n	Lektoriks on konsulent ja praktik Margus Kopp \n\n	Registreerimine: \n\n	Kulina – https://goo.gl/forms/43VRFoNQTrKk48co1 \n\n	Saku – https://goo.gl/forms/7xpY5iF05cVXxdVF3 \n\n	Kamari — https://goo.gl/forms/VVrFFFTqD4L46tzH3 \n\n	Registreerida saab ka merry@kodu.ee ja 736 6955 \n\n	Infopäeva toetab EL EAFRD programm.
URL:https://www.pikk.ee/sundmus/marjakasvatus-6/
LOCATION:Muu\, Eesti
CATEGORIES:Taimekasvatus
GEO:58.595272;25.0136071
END:VEVENT
BEGIN:VEVENT
DTSTART;VALUE=DATE:20171208
DTEND;VALUE=DATE:20171209
DTSTAMP:20260425T184131
CREATED:20171231T220000Z
LAST-MODIFIED:20171231T220000Z
UID:10006804-1512691200-1512777599@www.pikk.ee
SUMMARY:Infopäev "Efektiivne taimekasvatus"
DESCRIPTION:Samal teemal infopäev toimub Pärnus 12. detsember 2017  kell 10:30 kuni 15:00 Nooruse Maja\, Roheline 1B. \n\nInfopäeval saab ülevaate Eestis kasvatatavatest uutest kultuuridest (kanep\, hirss jne.) ja kuidas hinnata võimalikke riske. \n\nPäevakava \n10:00 – 12:00    Eestis kasvatatavad uued põllukultuurid ja nende agrotehnika (Peeter Lääniste\, Eesti Maaülikool).\n12:00 – 12:30    Einepaus.\n12:30 – 14:30    Kuidas finantsriske põllumajanduskultuuride kasvatamisel hinnata? (Mati Mõtte\, Eesti Maaülikool). \n  \nKoolitus on osalejatele tasuta\, koolitus toimub "Teadmussiirde pikaajaline programm taimekasvatuse tegevusvaldkonnas" raames\, toetab Euroopa Maaelu Arengu Põllumajandusfond. \nKoolitusel osalemiseks palume eelnevalt registreeruda: \nhttps://goo.gl/forms/GVr68j8nWQvoHBbe2
URL:https://www.pikk.ee/sundmus/infopaev-efektiivne-taimekasvatus-2/
LOCATION:Muu\, Eesti
GEO:58.595272;25.0136071
END:VEVENT
BEGIN:VEVENT
DTSTART;VALUE=DATE:20171208
DTEND;VALUE=DATE:20171209
DTSTAMP:20260425T184131
CREATED:20171231T220000Z
LAST-MODIFIED:20171231T220000Z
UID:10008464-1512691200-1512777599@www.pikk.ee
SUMMARY:Allergeeniohje toidukäitlemisettevõtte enesekontrolliplaanis
DESCRIPTION:Täpsem info ja registreerumine aadessil https://ois.emu.ee/pls/ois/!tere.tulemast?leht=OK.AY.VP&id_ay_programm=7963&id_ay_toimumine=10169&systeemi_seaded=3\,1\,12\,1 \n\n	Tegevust finantseeritakse Eesti maaelu arengukava 2014-2020 meetme 1 "Teadmussiire ja teavitus" tegevuse "Pikaajalised programmid" raames ja on sihtrühma kuulujatele tasuta. \n\n\n\n			Täienduskoolitusest võib osa võtta:\n\n			– põllumajandustoodete töötlemise või turustamisega tegelev füüsilisest isikust ettevõtja ja tema töötaja ning eraõigusliku juriidilise isiku osanik\, aktsionär\, liige\, juhtorgani liige ja tema töötaja;\n\n			– põllumajandustoodetest mittepõllumajandustoodete töötlemise sh toidu valmistamise või töötlemisega tegelev füüsilisest isikust ettevõtja ja tema töötaja ning eraõigusliku juriidilise isiku osanik\, aktsionär\, liige\, juhtorgani liige ja tema töötaja;\n\n			– toidu valmistamise või töötlemisega tegelev avalik-õigusliku juriidilise isiku juhtorgani liige või töötaja;\n\n			– põllumajandustootjate valdkonda teenindavad isikud (nt kokkuostuga tegelevate ettevõtete töötajad);\n\n\n				– isikud (FIE-d või ettevõtte esindajad)\, kes koguvad teadmisi uue tegevusvaldkonna kohta;\n				– põllumajanduslike esindus- ja erialaorganisatsioonide (MTÜ-d\, mille liikmeteks on põllumajandussaaduste töötlejad) juhatuse liikmed ja töötajad. \n\n				Füüsiliste isikute ja riigiametnike täienduskoolitusel osalemine ei ole toetatav! \n \n \n\n		 \n\n\n	NB! Teavitame!\n	Antud koolitustegevuses osalemine on osaleja jaoks vähese tähtsusega abi. \n\n	Koolituse korraldaja:\n	Eesti Maaülikooli avatud ülikool\n	Fr. R. Kreutzwaldi 56/1\n	51014 Tartu\,\n	tel 731 3174\, 731 3175\, 731 3275\, 534 41844\n	e-post: avayl@emu.ee\n	http://avatudylikool.emu.ee/  
URL:https://www.pikk.ee/sundmus/allergeeniohje-toidukaitlemisettevotte-enesekontrolliplaanis-2/
LOCATION:Muu\, Eesti
CATEGORIES:Toiduainete tootmine
GEO:58.595272;25.0136071
END:VEVENT
BEGIN:VEVENT
DTSTART;VALUE=DATE:20171208
DTEND;VALUE=DATE:20171209
DTSTAMP:20260425T184131
CREATED:20171231T220000Z
LAST-MODIFIED:20171231T220000Z
UID:10008615-1512691200-1512777599@www.pikk.ee
SUMMARY:Tootmishügieen ja sanitatsiooni korraldus
DESCRIPTION:Täpsem info ja registreerumine aadessil: https://ois.emu.ee/pls/ois/!tere.tulemast?leht=OK.AY.VP&id_ay_programm=7902&id_ay_toimumine=10645&systeemi_seaded=3\,1\,12\,3\,  \n\n	Tegevust finantseeritakse Eesti maaelu arengukava 2014-2020 meetme 1 "Teadmussiire ja teavitus" tegevuse "Pikaajalised programmid" raames ja on sihtrühma kuulujatele tasuta. \n\n\n\n			Täienduskoolitusest võib osa võtta:\n\n			– põllumajandustoodete töötlemise või turustamisega tegelev füüsilisest isikust ettevõtja ja tema töötaja ning eraõigusliku juriidilise isiku osanik\, aktsionär\, liige\, juhtorgani liige ja tema töötaja;\n\n			– põllumajandustoodetest mittepõllumajandustoodete töötlemise sh toidu valmistamise või töötlemisega tegelev füüsilisest isikust ettevõtja ja tema töötaja ning eraõigusliku juriidilise isiku osanik\, aktsionär\, liige\, juhtorgani liige ja tema töötaja;\n\n			– toidu valmistamise või töötlemisega tegelev avalik-õigusliku juriidilise isiku juhtorgani liige või töötaja;\n\n			– põllumajandustootjate valdkonda teenindavad isikud (nt kokkuostuga tegelevate ettevõtete töötajad);\n\n\n				– isikud (FIE-d või ettevõtte esindajad)\, kes koguvad teadmisi uue tegevusvaldkonna kohta;\n				– põllumajanduslike esindus- ja erialaorganisatsioonide (MTÜ-d\, mille liikmeteks on põllumajandussaaduste töötlejad) juhatuse liikmed ja töötajad. \n\n				Füüsiliste isikute ja riigiametnike täienduskoolitusel osalemine ei ole toetatav! \n \n \n\n		 \n\n\n	NB! Teavitame!\n	Antud koolitustegevuses osalemine on osaleja jaoks vähese tähtsusega abi. \n\n	Koolituse korraldaja:\n	Eesti Maaülikooli avatud ülikool\n	Fr. R. Kreutzwaldi 56/1\n	51014 Tartu\,\n	tel 731 3174\, 731 3175\, 731 3275\, 534 41844\n	e-post: avayl@emu.ee\n	http://avatudylikool.emu.ee/ 
URL:https://www.pikk.ee/sundmus/tootmishugieen-ja-sanitatsiooni-korraldus/
LOCATION:Muu\, Eesti
CATEGORIES:Toiduainete tootmine
GEO:58.595272;25.0136071
END:VEVENT
BEGIN:VEVENT
DTSTART;VALUE=DATE:20171208
DTEND;VALUE=DATE:20171209
DTSTAMP:20260425T184131
CREATED:20171231T220000Z
LAST-MODIFIED:20171231T220000Z
UID:10006623-1512691200-1512777599@www.pikk.ee
SUMMARY:Veiste ja vasikate haigestumuse vähendamine läbi karjatervise parandamise NB! JÄÄB ÄRA
DESCRIPTION:Teavitus! \nOsaleda soovijate vähesuse tõttu jääb koolitus ära. \n  \nMaht \n\n8 akadeemilist tundi auditoorset tööd \n \n  \nToimumise ajakava  \n10.00 – 11.30 õppetöö\n	11.30 – 12.00 paus\n	12.00 – 13.30 õppetöö\n	13.30 – 13.45 paus\n	13.45 – 15.15 õppetöö\n	15.15 – 15.30 paus\n	15.30 – 17.00 õppetöö \n  \nÕppetöö vorm \nauditoorne õpe \nÕppekeel \neesti keel \nÕppejõud \nNimi \nÕppejõu kvalifikatsiooni või õpi- või töökogemuse kirjeldus \n	          \nPiret Kalmus \ndotsent\, PhD \n	          \nKerli Mõtus \ndotsent\, DVM \n	        \n  \nSihtrühm \nPõllumajandustoodete tootmise või töötlemise\, põllumajandusmaa hooldamise\, põllumajandustoodetest mittepõllumajandustoodete töötlemise või metsa majandamisega tegelev füüsilisest isikust ettevõtja ja tema töötaja ning eraõigusliku juriidilise isiku osanik\, aktsionär\, liige\, juhtorgani liige ja tema töötaja Jõgeva maakonnas. \n	NB! Tegemist on Eesti maaelu arengukava 2014 – 2020 ühise põllumajanduspoliitika kohase maaelu arengu teadmussiirde ja teavituse toetusega (meede 1) Jõgeva maakonnas – see tähendab\, et koolituse lõppkasusaajad peavad olema Jõgevamaa põllumajandustootjad. \nMaksimaalne osalejate arv \n20 \nEesmärk \nomandada teadmisi ja osata omandatut rakendada veiste ja vasikate haigestumuse vähendamiseks \n  \nÕpiväljundid \nOsaleja on tutvunud teemadega\n	1) antibiootikumide mõistlik kasutamine\n	2) vasikate kõhulahtisuse vältimine\n	3) vasikate köha vältimine\n	4) veiste udarapõletike vältimine\n	5) veiste haiguste farmipõhine analüüs \n  \nSisu \nTeema \n  \n  \n	      \n1) antibiootikumide mõistlik kasutamine\n	2) vasikate kõhulahtisuse vältimine\n	3) vasikate köha vältimine\n	4) veiste udarapõletike vältimine\n	5) veiste haiguste farmipõhine analüüs \n  \n	      \n  \nNõuded lõpetamiseks \nOsalemine \n  \nVäljastatav dokument \ntõend \n  \nRegistreerumise tähtaeg \n26.11.2017 \nRegistreerumise lisainfo \nRegistreerumiseks peab isik kuuluma sihtrühma! \n	Koolituse sihtrühm on põllumajandustoodete tootmise või töötlemise\, põllumajandusmaa hooldamise\, põllumajandustoodetest mittepõllumajandustoodete töötlemise või metsa majandamisega tegelev füüsilisest isikust ettevõtja ja tema töötaja ning eraõigusliku juriidilise isiku osanik\, aktsionär\, liige\, juhtorgani liige ja tema töötaja Jõgeva maakonnas. \n	NB! Tegemist on Eesti maaelu arengukava 2014 – 2020 ühise põllumajanduspoliitika kohase maaelu arengu teadmussiirde ja teavituse toetusega (meede 1) Jõgeva maakonnas – see tähendab\, et koolituse lõppkasusaajad peavad olema Jõgevamaa põllumajandustootjad ja töötlejad. \n	Registreerumine kestab kuni registreerumisaja lõpuni\, juhul kui grupp täitub varem\, siis grupi täitumiseni.\n	Juhul\, kui grupp ei täitu\, jääb koolitus ära ja registreerunuid teavitatakse. \nInfo ja registreerumine maaülikooli avatud ülikooli kodulehel: http://avatudylikool.emu.ee/taiendope/priamaakondlik2016/\n	Eesti Maaülikooli avatud ülikool\n	Fr. R. Kreutzwaldi 56 (III korrus\, ruumid 303-306)\, 51014 Tartu\, tel 731 3174\, 731 3175\, 731 3275\, 534 41844  või\n	e-post: avayl[A]emu.ee \n\n 
URL:https://www.pikk.ee/sundmus/veiste-ja-vasikate-haigestumuse-vahendamine-labi-karjatervise-parandamise-nb-jaab-ara/
LOCATION:Muu\, Eesti
CATEGORIES:Loomakasvatus
GEO:58.595272;25.0136071
END:VEVENT
BEGIN:VEVENT
DTSTART;VALUE=DATE:20171208
DTEND;VALUE=DATE:20171209
DTSTAMP:20260425T184131
CREATED:20171231T220000Z
LAST-MODIFIED:20171231T220000Z
UID:10006783-1512691200-1512777599@www.pikk.ee
SUMMARY:Piimakarja ettevõtete külastused
DESCRIPTION:08 detsember toimub Eesti maaelu arengukava (MAK 2014-2020) meetme „Teadmussiire ja teavitus“ tegevuse „Teadmussiirde pikaajaline programm loomakasvatuse tegevusvaldkonnas II“ raames ettevõtete külastused piimakarjakasvatajatele. \nGrupp komplekteerunud. \nKülastatakse järgmisi ettevõtteid: \n1. Sõrandu Farm OÜ Metsa laut. Kogunemine 10:00 farmi parklas.\nNoorloomade söötmis- ja pidamistingimused\, heaolu uues käesoleval aastal valminud farmis. Vaatlused\, praktilised tegevused ja kogemuste vahetamine. \n2. Estonia OÜ Piibu Farm\, Taikse küla Järvamaa. Lüpsilehmade pidamistingimused\, söötmine\, arvutitarkvara võimalused tootmisandmete kogumiseks ja analüüsimiseks. Vaatlused\, praktilised tegevused ja kogemuste vahetamine.\nJärgneb õppereisi kokkuvõttev arutelu. \nKülastatavate farmide kaart on leitav SIIT. \n  \nKohtade arv on piiratud. Osavõtt on tasuta ja ainult eelregistreerimisega. Registreerimine lõpeb grupi täitumisel. \nLisainfo: \nMarika Oeselg\nmarika.oeselg@gmail.com\ntel. 513 6242 \n  \nInfopäev toimub MAK 2014-2020 meetme „Teadmussiirde pikaajaline programm loomakasvatuse tegevusvaldkonnas II “ raames\, rahastamisallikas: riigieelarve\, Euroopa Maaelu Põllumajandusfond (EAFRD).
URL:https://www.pikk.ee/sundmus/piimakarja-ettevotete-kulastused-2/
LOCATION:Muu\, Eesti
GEO:58.595272;25.0136071
END:VEVENT
END:VCALENDAR