BEGIN:VCALENDAR
VERSION:2.0
PRODID:-//PIKK.ee - ECPv6.13.2.1//NONSGML v1.0//EN
CALSCALE:GREGORIAN
METHOD:PUBLISH
X-WR-CALNAME:PIKK.ee
X-ORIGINAL-URL:https://www.pikk.ee
X-WR-CALDESC:Events for PIKK.ee
REFRESH-INTERVAL;VALUE=DURATION:PT1H
X-Robots-Tag:noindex
X-PUBLISHED-TTL:PT1H
BEGIN:VTIMEZONE
TZID:Europe/Tallinn
BEGIN:DAYLIGHT
TZOFFSETFROM:+0200
TZOFFSETTO:+0300
TZNAME:EEST
DTSTART:20180325T010000
END:DAYLIGHT
BEGIN:STANDARD
TZOFFSETFROM:+0300
TZOFFSETTO:+0200
TZNAME:EET
DTSTART:20181028T010000
END:STANDARD
END:VTIMEZONE
BEGIN:VEVENT
DTSTART;VALUE=DATE:20180118
DTEND;VALUE=DATE:20180119
DTSTAMP:20260423T080500
CREATED:20171231T220000Z
LAST-MODIFIED:20171231T220000Z
UID:10008730-1516233600-1516319999@www.pikk.ee
SUMMARY:Infopäev   "Kiviaia taastamise toetus"
DESCRIPTION:Eesti Mahepõllumajanduse Sihtasutus korraldab infopäevad  \n\n	"Kiviaia taastamise toetus" \n\n	16. jaanuaril Pärnumaal\, Pärnus\, Roheline 1b\, Nooruse majas \n\n	17. jaanuaril Saaremaal\, Kuressaares\, Kastani 20\, II korrus\, Saaremaa Valsi Majas \n\n	18. jaanuaril Harjumaal\, Sakus\, Üksnurme tee 8\, III korrus\, Harju Taluliidu õppeklassis \n\n	Kava: \n\n	10.00 Kiviaia taastamise toetuse nõuded​: Timo Anis\, Maaeluministeerium​ \n\n	10.30 Kiviaia toetuse taotluste menetlemine ja toetuse maksmise tingimused ​: Eve Tammet\, PRIA​\n	11.30 Kohvipaus\n	12.00 Kiviaedade ajalooline taust\, traditsioonilised materjalid ja töövõtted​: Ly Renter\, Muinsuskaitseamet​ \n\n	13.30 Lõpp \n\n	Infopäev on tasuta\, vajalik on eelnev registreerimine \n\n	16. jaanuaril Pärnumaal\, Pärnus  : https://goo.gl/forms/0wR4YDJaWYp3tsTl2 \n\n	17. jaanuaril Saaremaal\, Kuressaares : https://goo.gl/forms/dw2XXihBz4ULVFMD2 \n\n	18. jaanuaril Harjumaal\, Sakus : https://goo.gl/forms/W4kUf26BNzi9mId92 \n\n	Registreeruda saab ka e-mailile mahepm[A]gmail.com või telefonil 56620955 \n\n	Infopäev toimub " Teadmussiirde pikaajaline programm põllumajanduspoliitika abinõude tegevusvaldkonnas" raames\, toetab Euroopa Liit. Korraldab Eesti Mahepõllumajanduse Sihtasutus.
URL:https://www.pikk.ee/sundmus/infopaev-kiviaia-taastamise-toetus-7/
LOCATION:Muu\, Eesti
CATEGORIES:Muu
GEO:58.595272;25.0136071
END:VEVENT
BEGIN:VEVENT
DTSTART;VALUE=DATE:20180118
DTEND;VALUE=DATE:20180119
DTSTAMP:20260423T080500
CREATED:20171231T220000Z
LAST-MODIFIED:20171231T220000Z
UID:10008727-1516233600-1516319999@www.pikk.ee
SUMMARY:Koolitus“ Toorpiima kvaliteedi mõju piimatoodete valmistamisele“
DESCRIPTION:Olustvere Teenindus- ja Maamajanduskool korraldab meetme 1.1 raames täienduskoolituse "Toorpiima kvaliteedi mõju piimatoodete valmistamisele" 24 õppetundi. Koolitus toimub 12.jaanuaril\, 18 ja 19.jaanuaril. \n18. jaanuar\nAjakava:  \n9.00 – 10.30  Piima (toorpiima ja töödeldud piima) kvaliteedi ja omaduste hindamine. Laboratoorsed analüüsid – koolitaja Vilma Tatar \n10.30 – 10.45 Kohvipaus \n10.45 – 12.15 Piima (toorpiima ja töödeldud piima) kvaliteedi ja omaduste hindamine. Laboratoorsed analüüsid – koolitaja Vilma Tatar \n12.15 – 12.45 Lõuna \n12.45 – 15.45 Piima (toorpiima ja töödeldud piima) kvaliteedi ja omaduste hindamine. Laboratoorsed analüüsid – koolitaja Vilma Tatar \n  \n19.jaanuar\n9.00 – 10.30  Piima kvaliteedi ja protsessiparameetrite hindamine läbi piimatoodete praktilise valmistamise (praktiline töö kooli õppetööstuses) – koolitaja Vilma Tatar \n10.30 – 10. 45 Kohvipaus \n10.45 – 12.15 Piima kvaliteedi ja protsessiparameetrite hindamine läbi piimatoodete praktilise valmistamise (praktiline töö kooli õppetööstuses) – koolitaja Vilma Tatar \n12.15 – 12.45 Lõuna \n12.45 – 15.45 Piima kvaliteedi ja protsessiparameetrite hindamine läbi piimatoodete praktilise valmistamise (praktiline töö kooli õppetööstuses)  – koolitaja Vilma Tatar \n  \nInfo ja registreerimine: \nInfo tel. 5059304 ja  registreerimine  http://www.olustvere.edu.ee/wordpress/?page_id=295
URL:https://www.pikk.ee/sundmus/koolitus-toorpiima-kvaliteedi-moju-piimatoodete-valmistamisele-2/
LOCATION:Muu\, Eesti
GEO:58.595272;25.0136071
END:VEVENT
END:VCALENDAR