BEGIN:VCALENDAR
VERSION:2.0
PRODID:-//PIKK.ee - ECPv6.13.2.1//NONSGML v1.0//EN
CALSCALE:GREGORIAN
METHOD:PUBLISH
X-WR-CALNAME:PIKK.ee
X-ORIGINAL-URL:https://www.pikk.ee
X-WR-CALDESC:Events for PIKK.ee
REFRESH-INTERVAL;VALUE=DURATION:PT1H
X-Robots-Tag:noindex
X-PUBLISHED-TTL:PT1H
BEGIN:VTIMEZONE
TZID:Europe/Tallinn
BEGIN:DAYLIGHT
TZOFFSETFROM:+0200
TZOFFSETTO:+0300
TZNAME:EEST
DTSTART:20180325T010000
END:DAYLIGHT
BEGIN:STANDARD
TZOFFSETFROM:+0300
TZOFFSETTO:+0200
TZNAME:EET
DTSTART:20181028T010000
END:STANDARD
END:VTIMEZONE
BEGIN:VEVENT
DTSTART;VALUE=DATE:20180207
DTEND;VALUE=DATE:20180208
DTSTAMP:20260424T110917
CREATED:20171231T220000Z
LAST-MODIFIED:20171231T220000Z
UID:10006814-1517961600-1518047999@www.pikk.ee
SUMMARY:Tasuta ühistegevuse infopäev: "Ühistu omanik on ühistu liige"
DESCRIPTION:Eesti Maaülikool korraldab “Teadmussiirde pikaajaline programm ühistegevuse tegevusvaldkonnas” raames tasuta infopäeva teemal: “Ühistu omanik on ühistu liige”. Tegemist on pikaajalise programmiga ja selle raames toimub mitmeid infopäevi\, täienduskoolitusi\, õpiringe\, konverentse ning ettevõtete külastusi nii Eestis kui ka välisriikides. \n07.02.2018 infopäevast võivad osa võtta põllumajandustoodete tootmise ja töötlemise\, põllumajandusmaa hooldamise või põllumajandustoodetest mittepõllumajandustoodete töötlemisega tegelev füüsiline isik\, füüsilisest isikust ettevõtja ja tema töötaja ning eraõigusliku juriidilise isiku osanik\, aktsionär\, liige\, juhtorgani liige ja tema töötaja või isik\, kellele on antud kutseseaduses sätestatud alusel ja korras konsulendi kutse või kes tegeleb põllu- või maamajandusliku nõustamisteenuse osutamisega. \nOotame osalema alustavate ja toimivate ühistute liikmeid. \n07.02.2018 infopäeva ajakava: \n11:00 – 11:15 Registreerimine ja tervituskohvi \n11:15 – 12:45 Ühistu liikme õigused\, kohustused ja vastutus– Olav Kreen \n12:45 – 13:15 Kohvipaus \n13:15 – 14:45 Ühistu liikmeks olemise olemus – Vahur Tõnissoo \n14:45 – 15:00 Tagasiside \nLektoriteks on Eesti Põllumajandus-Kaubanduskoja Nõukogu esimees Olav Kreen ja Eesti Põllumajandus-Kaubanduskoja juhatuse liige Vahur Tõnissoo. \nEelregistreerimine toimub kuni 05.02.2018\, osalejate arv on piiratud. Lisainfo saamiseks ja eelregistreerimiseks palume saata e-mail programmi assistendile: liis.volli[A]emu.ee. Eelregistreerimiseks palume osalejatel saata järgnev informatsioon: ettevõtlusvorm ja nimi; ettevõtlusvaldkond; reg. number; osaleja nimi; osaleja ametikoht; osaleja isikukood; osaleja telefoninumber. \nNB! Eelregistreerimine on tingimata vajalik! \n\nLisainformatsioon ja küsimused: liis.volli[A]emu.ee või tel: +372 51 92 9840 (programmi assistent Liis Võlli). \n  \nyhistegevus.emu.ee \nfacebook.com/yhistegevus \ninstagram.com/yhistegevus \nInfopäeva korraldamist toetab Euroopa Maaelu Arengu Põllumajandusfond. \nKoostöös teeme paremini!
URL:https://www.pikk.ee/sundmus/tasuta-uhistegevuse-infopaev-uhistu-omanik-on-uhistu-liige/
LOCATION:Muu\, Eesti
CATEGORIES:Aiandus,Bioenergia ja biomajandus,Finantsmajandus,Keskkond,Loomakasvatus,Maaettevõtlus,Metsandus,Taimekaitse,Taimekasvatus,Toiduainete tootmine,Turundus,Ühistegevus
GEO:58.595272;25.0136071
END:VEVENT
BEGIN:VEVENT
DTSTART;VALUE=DATE:20180207
DTEND;VALUE=DATE:20180208
DTSTAMP:20260424T110917
CREATED:20171231T220000Z
LAST-MODIFIED:20171231T220000Z
UID:10006863-1517961600-1518047999@www.pikk.ee
SUMMARY:Küüslaugukasvatus
DESCRIPTION:Tartumaa Põllumeeste Liit korraldab algusega kell 10.00 infopäevad „Küüslaugukasvatus“: \n7.02. – Viljandi Hotell Centrum \n9.02. – Pärnu Nooruse Maja \n15.02. – Harju taluliit Sakus \nKonsulent Priit Põldma käsitleb teemasid: \n*sortide valik ja paljundusmaterjali kvaliteet\, \n*maa ettevalmistamine\, \n*küüslaugu mahapaneku viisid\, \n*väetamine ja taimekaitse\, \n*kasvuaegsed hooldustööd\, \n*saagi koristamine ja säilitamine\, \n*küüslaugu tootmise omahind\, tasuvusanalüüs. \nEttekannet saad vaadata SIIN. \nRegistreerimine https://goo.gl/forms/SmiHt8EsbzWzqeG02 või merry[A]kodu.ee ja 736 6955.
URL:https://www.pikk.ee/sundmus/kuuslaugukasvatus/
LOCATION:Muu\, Eesti
CATEGORIES:Taimekasvatus
GEO:58.595272;25.0136071
END:VEVENT
END:VCALENDAR