BEGIN:VCALENDAR
VERSION:2.0
PRODID:-//PIKK.ee - ECPv6.13.2.1//NONSGML v1.0//EN
CALSCALE:GREGORIAN
METHOD:PUBLISH
X-WR-CALNAME:PIKK.ee
X-ORIGINAL-URL:https://www.pikk.ee
X-WR-CALDESC:Events for PIKK.ee
REFRESH-INTERVAL;VALUE=DURATION:PT1H
X-Robots-Tag:noindex
X-PUBLISHED-TTL:PT1H
BEGIN:VTIMEZONE
TZID:Europe/Tallinn
BEGIN:DAYLIGHT
TZOFFSETFROM:+0200
TZOFFSETTO:+0300
TZNAME:EEST
DTSTART:20180325T010000
END:DAYLIGHT
BEGIN:STANDARD
TZOFFSETFROM:+0300
TZOFFSETTO:+0200
TZNAME:EET
DTSTART:20181028T010000
END:STANDARD
END:VTIMEZONE
BEGIN:VEVENT
DTSTART;VALUE=DATE:20180213
DTEND;VALUE=DATE:20180214
DTSTAMP:20260422T101502
CREATED:20171231T220000Z
LAST-MODIFIED:20171231T220000Z
UID:10008768-1518480000-1518566399@www.pikk.ee
SUMMARY:Infopäev "Lihaveiste käitlemine veterinaarsete toimingute läbiviimisel"
DESCRIPTION:EESTI LIHAVEISEKASVATAJATE SELTS korraldab: \n\n		  \n\n		Infopäev "Lihaveiste käitlemine veterinaarsete toimingute läbiviimisel" \n\n		Toimumiskoht:  Läänemaa\, Martna vald\, Martna küla\, Martna päevakeskus\,  jätkub OÜ Ohtla Lihaveis farmikompleksis. \n\n		Toimumisaeg: 13.02.2018 algusega kell 10.00  Martna päevakeskuses (samas majas asub Martna Lasteaed) \n\n		Teemad: Praktilised võtted veterinaarsete toimingute läbiviimisel\, mida farmer saab teha\, et aidata veterinaararsti tema töös (sarvede lõikamine\, kastreerimine\, vere võtmine\, vaktsineerimine jms.).  Kaalumise korraldamine. \n\n		Õppepäeva kestus 4 akadeemilist tundi. \n\n		Lektorid   Jaanus Vessart\, Targo Pikkmets ning veterinaararst Silver Butlers. \n\n		Õppepäevale palun kaasa võtta farmi külastuse ajaks sobivad puhtad jalanõud\, et vähendada külastatava farmi bioturvalisusega kaasnevaid riske. \n\n		Õppepäeval osalemiseks palun registreerida hiljemalt 11.02.2018 \n\n		Õppepäevale registreerimiseks vajuta siia \n\n\n	https://drive.google.com/open?id=1hCPbkYLj5gJ1NGQ3mLeFd1IHX-qpuJOYu9lLPiwNa5M\n\n	 \n\n	Samasugune õppepäev toimub veel 06.02.2018 Saaremaal\, 08.02.2018 Raplamaal ja 15.02.2018 Harjumaal. \n\n\n		Õppepäevad korraldab Eesti Lihaveisekasvatajate Selts \n\n		Infopäevade läbiviimist toetab Euroopa Liit  \n\n\n	 
URL:https://www.pikk.ee/sundmus/infopaev-lihaveiste-kaitlemine-veterinaarsete-toimingute-labiviimisel-4/
LOCATION:Muu\, Eesti
CATEGORIES:Loomakasvatus
GEO:58.595272;25.0136071
END:VEVENT
BEGIN:VEVENT
DTSTART;VALUE=DATE:20180213
DTEND;VALUE=DATE:20180214
DTSTAMP:20260422T101502
CREATED:20171231T220000Z
LAST-MODIFIED:20171231T220000Z
UID:10006868-1518480000-1518566399@www.pikk.ee
SUMMARY:Sõnnikumajandus kehtivate seaduste ja määruste valguses
DESCRIPTION:Pärnumaa Talupidajate Nõuandekeskus OÜ korraldab infopäeva 13 veebruar 2018 algusega kell 10 00 Viljandis\, Tallina tn 24 \,  hotellis Centrum ( roheline saal). \n\n	Teema:" Sõnnikumajandus kehtivate seaduste ja määruste valguses" \n\n	Lektoriteks Olavy Sülla ja Hillar Lilleste \n\n	Millest räägime? \n\n	1. Sõnniku käitlemist reguleerivad seadused ja määrused. Veeseadus ja seadusest tulenevad määrused. \n\n	2. Tutvustame programmi\, mille abil on võimalik arvutada sõnniku kogused ja sõnnikuhoidla vajalikud mahud. \n\n	3. Näitame võimalust kuidas arvutada karjamaale jäetavat sõnnikut. \n\n	Vajalik eelregistreerimine sellel lingil \n\n	Infopäeva läbiviimist toetab EU ja on tasuta.  viitenumber 612017740431\n	Eelregistreerimine kohustuslik ja osalejate arv on piiratud. \n\n	Kestvuseks on planeeritud 4 tundi.\n	Kiirustage. !!!!! \n\n	NB Ei keskendu kompleksloaga seonduvale. \n\n	Soovitame kõigile loomakasvatajatele \, kes ei pea kompleksluba taotlema.
URL:https://www.pikk.ee/sundmus/sonnikumajandus-kehtivate-seaduste-ja-maaruste-valguses-3/
LOCATION:Muu\, Eesti
CATEGORIES:Muu
GEO:58.595272;25.0136071
END:VEVENT
END:VCALENDAR