BEGIN:VCALENDAR
VERSION:2.0
PRODID:-//PIKK.ee - ECPv6.13.2.1//NONSGML v1.0//EN
CALSCALE:GREGORIAN
METHOD:PUBLISH
X-WR-CALNAME:PIKK.ee
X-ORIGINAL-URL:https://www.pikk.ee
X-WR-CALDESC:Events for PIKK.ee
REFRESH-INTERVAL;VALUE=DURATION:PT1H
X-Robots-Tag:noindex
X-PUBLISHED-TTL:PT1H
BEGIN:VTIMEZONE
TZID:Europe/Tallinn
BEGIN:DAYLIGHT
TZOFFSETFROM:+0200
TZOFFSETTO:+0300
TZNAME:EEST
DTSTART:20180325T010000
END:DAYLIGHT
BEGIN:STANDARD
TZOFFSETFROM:+0300
TZOFFSETTO:+0200
TZNAME:EET
DTSTART:20181028T010000
END:STANDARD
END:VTIMEZONE
BEGIN:VEVENT
DTSTART;VALUE=DATE:20180227
DTEND;VALUE=DATE:20180228
DTSTAMP:20260422T201644
CREATED:20171231T220000Z
LAST-MODIFIED:20171231T220000Z
UID:10006904-1519689600-1519775999@www.pikk.ee
SUMMARY:Riigihangetest LEADER toetuse taotlemisel
DESCRIPTION:Tartumaa PL korraldab 6 infopäeva teemal „Riigihangetest LEADER toetuse taotlemisel“ \nInfopäevade toimumise aeg ja kohad on: \n22.veebruaril Tartus\, PL õppeklass\, Jalaka 48 \n26.veebruaril Viljandis\, hotellis Centrum\, Tallinna 24 \n27.veebruaril Türi-Allikul\, Veskisilla hotellis\, Järvamaa \n05.märtsil Haapsalus\, Päeva villas\, Lai 7 \n08.märtsil PMK Jäneda majas\, sinine auditoorium (endine Maamajanduse Infokeskus) \n15.märtsil Pärnus\, Nooruse Majas\, Roheline 1 \nInfopäevad algavad kõikjal 14.00 ja kestavad kuni 17.30 \nInfopäevade lektoriks on riigihangete korraldamise kogemusega jurist Keidi Kõiv\, infopäeval osalevad ka vastava valdkonna spetsialistid MeM-st ja Maaeluvõrgustikust. \nKäsitletavad teemad: \n*Riigihanke üldküsimused – hankija määratlus; turu-uuringute läbiviimine; piirmäärad ja tähtajad; menetlusliigid ja kohalduvad nõuded; riigihanke elektrooniline läbiviimine; uut osadeks jagamisel \n*Hankemenetlus – riigihanke alusdokumendid ja hankepass; pakkumuse vormistamine; kõrvaldamisaluste kontrollimine; kvalifitseerimistingimuste seadmine ja kontroll; hindamistingimuste seadmine ja kontroll; põhjendamatult madala maksumusega pakkumus ja selle kontroll; pakkuja ärisaladus; teise isiku vahenditele tuginemine ja erisused ehitushangetel; hankija otsuste põhjendamine \n*Hankelepingu täitmine ja muutmise võimalused \n*Vaidlustamine \nEttekannet saad vaadata SIIN. \nInfopäev on suunatud riigihangetest huvitatutele — nii hankijatele kui ka pakkujatele. \nRegistreerida infopäevale saab https://goo.gl/forms/Uimy2PVCDx3y7bl53\, merry[A]kodu.ee või 736 6955. \nTegevus toimub programmi "Teadmussiirde pikaajaline programm põllumajanduspoliitika abinõude rakendamise tegevusvaldkonnas" raames.
URL:https://www.pikk.ee/sundmus/riigihangetest-leader-toetuse-taotlemisel-3/
LOCATION:Muu\, Eesti
CATEGORIES:Muu
GEO:58.595272;25.0136071
END:VEVENT
BEGIN:VEVENT
DTSTART;VALUE=DATE:20180227
DTEND;VALUE=DATE:20180228
DTSTAMP:20260422T201644
CREATED:20171231T220000Z
LAST-MODIFIED:20171231T220000Z
UID:10008705-1519689600-1519775999@www.pikk.ee
SUMMARY:Tasuta ühistegevuse infopäev: "Ühistegevuse praktilised näited"
DESCRIPTION:INFOPÄEV TOIMUB INGLISE KEELES. \nEesti Maaülikool korraldab “Teadmussiirde pikaajaline programm ühistegevuse tegevusvaldkonnas” raames tasuta infopäeva teemal: “Ühistegevuse praktilised näited”. Tegemist on pikaajalise programmiga ja selle raames toimub mitmeid infopäevi\, täienduskoolitusi\, õpiringe\, konverentse ning ettevõtete külastusi nii Eestis kui ka välisriikides. \n27.02.2018 infopäevast võivad osa võtta põllumajandustoodete tootmise ja töötlemise\, põllumajandusmaa hooldamise või põllumajandustoodetest mittepõllumajandustoodete töötlemisega tegelev füüsiline isik\, füüsilisest isikust ettevõtja ja tema töötaja ning eraõigusliku juriidilise isiku osanik\, aktsionär\, liige\, juhtorgani liige ja tema töötaja või isik\, kellele on antud kutseseaduses sätestatud alusel ja korras konsulendi kutse või kes tegeleb põllu- või maamajandusliku nõustamisteenuse osutamisega. \nOotame osalema alustavate ja toimivate ühistute juhtkonda\, nõukogu ja liikmeid. \n27.02.2018 infopäeva ajakava: \n11:00 – 11:15 Registreerimine ja tervituskohvi \n11:15 – 12:45 Ühistegevuse praktilised näited I – Läti teraviljaühistu LatRaps \n12:45 – 13:15 Kohvipaus \n13:15 – 14:45 Ühistegevuse praktilised näited II – Läti teraviljaühistu LatRaps \n14:45 – 15:00 Tagasiside \nEttekanne: Ühistegevuse praktilised näited – Edgars Ruža\nLektoriks on Läti teraviljaühistu direktor Edgars Ruža. \nEelregistreerimine toimub kuni 25.02.2018\, osalejate arv on piiratud. Lisainfo saamiseks ja eelregistreerimiseks palume saata e-mail programmi assistendile: liis.volli[A]emu.ee. Eelregistreerimiseks palume osalejatel saata järgnev informatsioon: ettevõtlusvorm ja nimi; ettevõtlusvaldkond; reg. number; osaleja nimi; osaleja ametikoht; osaleja isikukood; osaleja telefoninumber. \nNB! Eelregistreerimine on tingimata vajalik! \n\nLisainformatsioon ja küsimused: liis.volli[A]emu.ee või tel: +372 51 92 9840 (programmi assistent Liis Võlli). \n  \nyhistegevus.emu.ee \nfacebook.com/yhistegevus \ninstagram.com/yhistegevus \nInfopäeva korraldamist toetab Euroopa Maaelu Arengu Põllumajandusfond. \nKoostöös teeme paremini!
URL:https://www.pikk.ee/sundmus/tasuta-uhistegevuse-infopaev-uhistegevuse-praktilised-naited/
LOCATION:Muu\, Eesti
CATEGORIES:Aiandus,Bioenergia ja biomajandus,Finantsmajandus,Keskkond,Loomakasvatus,Maaettevõtlus,Metsandus,Taimekaitse,Taimekasvatus,Toiduainete tootmine,Turundus,Ühistegevus
GEO:58.595272;25.0136071
END:VEVENT
BEGIN:VEVENT
DTSTART;VALUE=DATE:20180227
DTEND;VALUE=DATE:20180228
DTSTAMP:20260422T201645
CREATED:20171231T220000Z
LAST-MODIFIED:20171231T220000Z
UID:10008789-1519689600-1519775999@www.pikk.ee
SUMMARY:TAIMEKAITSE ALUSKOOLITUS PROFESSIONAALSELE KASUTAJALE
DESCRIPTION:Päevakava \n\n	I PÄEV  \n\n	9.45-10.00 Koolituse alustamine\, dokumentide täitmine\n	10.00-11.30 Taimekaitseseadme tüübid; ohutusnõuded taimekaitseseadme kasutamisel\n	11.30-11.45  KOHVIPAUS\n	11.45-13.15 Ohutusnõuded taimekaitseseadme kasutamisel;  taimekaitseseadme ettevalmistamine tööks; taimekaitseseadme tehniline kontroll (PRAKTILINE töö koolikeskkonnas)\n	13.15-14.00 LÕUNA\n	14.00-15.30  Sissejuhatus. Integreeritud taimekaitse põhimõtted; turule lubatud taimekaitsevahendite liigitus\n	15.30-15.45 KOHVIPAUS\n	15.45-18.00  Piraattaimekaitsevahendid;  tööohutus \n\n	II PÄEV  \n\n	9.00-10.30  Tööohutus; ohutusnõuded taimekaitsevahendite  kasutamisel\n	10.30-10.45 KOHVIPAUS\n	10.45-13.15 Kultuurtaimede kahjustajad\, umbrohud\, nende tõrjevõimalused\n	12.15-13.00 LÕUNA\n	13.00- 14.30 Taimekaitsevahendi pakendi märgistuse ja ohutuskaardi lugemine;  taimekaitsevahendi   pakendi käitlemine (PRAKTILINE töö koolikeskkonnas)\n	14.30-14.45 KOHVIPAUS\n	14.45-17.15 Taimekaitsevahendi pakendi käitlemine; seadusandlus\, isikukaitsevahendid\, (PRAKTILINE töö koolikeskkonnas) \n\n	III PÄEV  \n\n	9.00-10.30 Ülevaade turule lubatud taimekaitsevahenditest\, nende liigitamine (PRAKTILINE töö koolikeskkonnas)\n	10.30-10.45  KOHVIPAUS\n	10.45-12.15 Taimekaitsevahendi töölahuse valmistamine\, kulunormi arvutamine (PRAKTILINE töö koolikeskkonnas)\n	12.15-13.00 LÕUNA\n	13.00-16.00 EKSAM – PMA piirkonna inspektor ja Kaja Marrandi \n \n\n	Registreerimine koolitustele: http://jkhk.ee/pages/taeienduskoolitused/tasuta-pria-kursused.php \n\n	Ruth Türk\n	JKHK koolitusjuht\n	ruth.turk@jkhk.ee\n	5329 2188 \n\n	  \n\n	Koolitused toimuvad "Teadmussiirde pikaajaline programm taimekasvatuse tegevusvaldkonnas" raames\, toetab Euroopa Liit. \n\n	 
URL:https://www.pikk.ee/sundmus/taimekaitse-aluskoolitus-professionaalsele-kasutajale-15/
LOCATION:Muu\, Eesti
CATEGORIES:Taimekaitse
GEO:58.595272;25.0136071
END:VEVENT
END:VCALENDAR