BEGIN:VCALENDAR
VERSION:2.0
PRODID:-//PIKK.ee - ECPv6.13.2.1//NONSGML v1.0//EN
CALSCALE:GREGORIAN
METHOD:PUBLISH
X-WR-CALNAME:PIKK.ee
X-ORIGINAL-URL:https://www.pikk.ee
X-WR-CALDESC:Events for PIKK.ee
REFRESH-INTERVAL;VALUE=DURATION:PT1H
X-Robots-Tag:noindex
X-PUBLISHED-TTL:PT1H
BEGIN:VTIMEZONE
TZID:Europe/Tallinn
BEGIN:DAYLIGHT
TZOFFSETFROM:+0200
TZOFFSETTO:+0300
TZNAME:EEST
DTSTART:20180325T010000
END:DAYLIGHT
BEGIN:STANDARD
TZOFFSETFROM:+0300
TZOFFSETTO:+0200
TZNAME:EET
DTSTART:20181028T010000
END:STANDARD
END:VTIMEZONE
BEGIN:VEVENT
DTSTART;VALUE=DATE:20180321
DTEND;VALUE=DATE:20180322
DTSTAMP:20260422T011418
CREATED:20171231T220000Z
LAST-MODIFIED:20171231T220000Z
UID:10006831-1521590400-1521676799@www.pikk.ee
SUMMARY:Toiduhügieen ja -ohutus\, keskaste
DESCRIPTION:Täpsem info ja registreerumine: aadessil https://ois.emu.ee/pls/ois/!tere.tulemast?leht=OK.AY.VP&id_ay_programm=7965&id_ay_toimumine=11125&systeemi_seaded=3\,1\,12\,1\, \n\n	Täienduskoolitusest võivad osa võtta: \n\n	– põllumajandustoodete töötlemise või turustamisega tegelev füüsilisest isikust ettevõtja ja tema töötaja ning eraõigusliku juriidilise isiku osanik\, aktsionär\, liige\, juhtorgani liige ja tema töötaja;\n	– põllumajandustoodetest mittepõllumajandustoodete töötlemise sh toidu valmistamise või töötlemisega tegelev füüsilisest isikust ettevõtja ja tema töötaja ning eraõigusliku juriidilise isiku osanik\, aktsionär\, liige\, juhtorgani liige ja tema töötaja;\n	– toidu valmistamise või töötlemisega tegelev avalik-õigusliku juriidilise isiku juhtorgani liige või töötaja;\n	– põllumajandustootjate valdkonda teenindavad isikud (nt kokkuostuga tegelevate ettevõtete töötajad);\n	– isikud (FIE-d või ettevõtte esindajad)\, kes koguvad teadmisi uue tegevusvaldkonna kohta;\n	– põllumajanduslike esindus- ja erialaorganisatsioonide (MTÜ-d\, mille liikmeteks on põllumajandussaaduste töötlejad) juhatuse liikmed ja töötajad. \n\n	Füüsiliste isikute ja riigiametnike täienduskoolitusel osalemine ei ole toetatav! \n\n	Tegevust finantseeritakse Eesti maaelu arengukava 2014-2020 meetme 1 "Teadmussiire ja teavitus" tegevuse "Pikaajalised programmid" raames ja on sihtrühma kuulujatele tasuta. \n\n	NB! Teavitame! Antud koolitustegevuses osalemine on osaleja jaoks vähese tähtsusega abi. \n\n	Koolituse korraldaja:\n	Eesti Maaülikooli avatud ülikool\n	Fr. R. Kreutzwaldi 56/1\n	51014 Tartu\,\n	tel 731 3174\, 731 3175\, 731 3275\, 534 41844\n	e-post: avayl@emu.ee\n	http://avatudylikool.emu.ee/  
URL:https://www.pikk.ee/sundmus/toiduhugieen-ja-ohutus-keskaste-2/
LOCATION:Muu\, Eesti
CATEGORIES:Toiduainete tootmine
GEO:58.595272;25.0136071
END:VEVENT
BEGIN:VEVENT
DTSTART;VALUE=DATE:20180321
DTEND;VALUE=DATE:20180322
DTSTAMP:20260422T011418
CREATED:20171231T220000Z
LAST-MODIFIED:20171231T220000Z
UID:10006921-1521590400-1521676799@www.pikk.ee
SUMMARY:EPKK infopäev “Natura 2000 toetus erametsamaale saamise tingimused ja kohapealne kontroll”
DESCRIPTION:Lugupeetud EPKK liikmed ja koostööpartnerid \nEesti Põllumajandus-Kaubanduskoda korraldab Maaeluministeeriumi tellimusel ja koostöös SA Erametsakeskuse\, MTÜ Erametsaliidu ning Keskkonnaametiga tasuta infopäevad teemal \nNatura 2000 toetus erametsamaale saamise tingimused ja kohapealne kontroll.   Räägitakse ka siseriiklikest toetustest ja loodukaitse korraldusest. \nInfopäevad algavad kell 14.00 \n\n14. märtsil Tallinnas – Teaduspargi Tehnopol Mustamäe konverentsikeskuse saalis SATURN\, Teaduspargi 6/1\, TALLINN\n15. märtsil Rakveres – Villa Theresas\, Tammiku 9\, RAKVERE\n20. märtsil Kuressaares – Kuressaare Ametikooli konverentsiruumis K3\, Kohtu 22\, KURESSAARE\n21. märtsil Pärnus – Pärnumaa Kutsehariduskeskuses\, Niidupargi 12\, PÄRNU\n22. märtsil Tartus – Tartumaa Põllumeeste Liidu õppeklassis\, Jalaka 48\, TARTU\n\n\n27. märtsil Võrus – Kubija hotelli seminariruumis\, Männiku 43A\, VÕRU\n28. märtsil Valgas – Valgamaa kutseõppekeskuse kaldauditooriumis\, Loode 3\, VALGA\nNB! Valgas ja Võrus korraldab infopäevad MTÜ Eesti Erametsaliit ja toetab Keskkonnainvesteeringute Keskus\n\n  \nPÄEVAKAVA  \n13.30 – 14.00 Tervituskohv \n14.00 – 14.45 Kaitstavad loodusobjektid Eestis  \n14.45 – 15.45 Natura 2000 toetus erametsamaale\, e-taotluse esitamine \n15.45 – 16.15 Kohvipaus \n16.15 – 16.45 Siseriiklikud metsandustoetused \n16.45 – 17.30 Natura 2000 kohapealne kontroll ja siseriiklike metsandustoetuste kohapealne kontroll \n  \nInfopäevad on suunatud erametsaomanikele\, metsaühistute eestvedajatele ja konsulentidele. \nLektoriteks on SA Erametsakeskuse ja Keskkonnaameti töötajad. \nInfopäeval osalemiseks palume kindlasti REGISTREERIDA SIIN või  www.pikk.ee (vt sündmuste kalender) või EPKK kodulehel www.epkk.ee \nNB! Eelregistreerimine on tingimata vajalik\, lõpeb 3 päeva enne iga infopäeva toimumist\, \nning on väga oluline lisapaberite (vajadusel) vormistamiseks ning toitlustamise tellimiseks! \nLisainfo saamiseks ja küsimuste korral palume võtta ühendust info[A]epkk.ee või tel 600 9349 (juhiabi Maire Vimb). \nInfopäevade korraldamist toetab Euroopa Liit  \nTegevus toimub programmi "Teadmussiirde pikaajaline programm põllumajanduspoliitika abinõude rakendamise tegevusvaldkonnas" raames.
URL:https://www.pikk.ee/sundmus/epkk-infopaev-natura-2000-toetus-erametsamaale-saamise-tingimused-ja-kohapealne-kontroll-4/
LOCATION:Muu\, Eesti
CATEGORIES:Metsandus
GEO:58.595272;25.0136071
END:VEVENT
BEGIN:VEVENT
DTSTART;VALUE=DATE:20180321
DTEND;VALUE=DATE:20180322
DTSTAMP:20260422T011418
CREATED:20171231T220000Z
LAST-MODIFIED:20171231T220000Z
UID:10008709-1521590400-1521676799@www.pikk.ee
SUMMARY:Tasuta ühistegevuse koolitus: “Ühistulise koostöö eelised erinevate sektorite vahel”
DESCRIPTION:Eesti Maaülikool korraldab “Teadmussiirde pikaajaline programm ühistegevuse tegevusvaldkonnas” raames tasuta koolituse teemal: “Ühistulise koostöö eelised erinevate sektorite vahel”. Tegemist on pikaajalise programmiga ja selle raames toimub mitmeid infopäevi\, täienduskoolitusi\, õpiringe\, konverentse ning ettevõtete külastusi nii Eestis kui ka välisriikides. \n21.03.2018 täienduskoolitusest võib osa võtta põllumajandustoodete tootmise\, töötlemise või turustamisega\, põllumajandusmaa hooldamisega\, põllumajandustoodetest mittepõllumajandustoodete töötlemisega\, sealhulgas toidu valmistamise või töötlemisega\, või metsa majandamisega seotud või nimetatud tegevusega tegelev füüsilisest isikust ettevõtja ja tema töötaja\, eraõigusliku juriidilise isiku osanik\, aktsionär\, liige\, juhtorgani liige ja tema töötaja\, metsa majandamisega tegelev füüsiline isik ja toidu valmistamise või töötlemisega tegelev avalik-õiguslik juriidilise isiku juhtorgani liige või töötaja. \nKoolituse tulemusel suurenevad õppija teadmised koostööst erinevate sektorite vahel. Eriti ootame osalema ühistute juhtkonda ja nõukogu. \n  \n21.03.2018 koolituse ajakava: \n10:00 – 10:15 Registreerimine \n10:15 – 11:45 Ühistegevus põllumajanduse esindusorganisatsioonides – Roomet Sõrmus \n11:45 – 12:00 Kohvipaus \n12:00 – 13:30 Ühistulise tegevuse kogemused – Tõnu Post \n13:30 – 14:15 Lõunapaus \n14:15 – 15:45 TÜ Farm In ühistute vaheline sisendite ostu osakond: visioon ja tegelikkus – Urmas Pallon \n15:45 – 16:00 Tagasiside \n  \nLektoriteks on Eesti Põllumajandus-Kaubanduskoja juhatuse esimees Roomet Sõrmus\, Kõljala Põllumajanduslik OÜ juhatuse liige Tõnu Post ja TÜ Farm In juhatuse liige Urmas Pallon. \nÕppekavaga on võimalik tutvuda järgmisel lingil: https://ois.emu.ee/pls/ois/!tere.tulemast?leht=OK.AY.VP&id_ay_programm=8783&id_ay_toimumine=11385&systeemi_seaded=3\,1\,12\,1\, \nEelregistreerimine toimub kuni 19.03.2018\, osalejate arv on piiratud. Lisainfo saamiseks ja eelregistreerimiseks palume saata e-mail programmi assistendile: liis.volli[A]emu.ee. Eelregistreerimiseks palume osalejatel saata järgnev informatsioon: ettevõtlusvorm ja nimi; ettevõtlusvaldkond; reg. number; osaleja nimi; osaleja ametikoht; osaleja isikukood; osaleja telefoninumber. \n  \nNB! Eelregistreerimine on tingimata vajalik! \n\nLisainformatsioon ja küsimused: liis.volli[A]emu.ee või tel: +372 51 92 9840 (programmi assistent Liis Võlli). \n  \nyhistegevus.emu.ee \nfacebook.com/yhistegevus \ninstagram.com/yhistegevus \nKoolituse korraldamist toetab Euroopa Maaelu Arengu Põllumajandusfond. \n 
URL:https://www.pikk.ee/sundmus/tasuta-uhistegevuse-koolitus-uhistulise-koostoo-eelised-erinevate-sektorite-vahel/
LOCATION:Muu\, Eesti
CATEGORIES:Aiandus,Bioenergia ja biomajandus,Finantsmajandus,Keskkond,Loomakasvatus,Maaettevõtlus,Metsandus,Taimekaitse,Taimekasvatus,Toiduainete tootmine,Turundus,Ühistegevus
GEO:58.595272;25.0136071
END:VEVENT
BEGIN:VEVENT
DTSTART;VALUE=DATE:20180321
DTEND;VALUE=DATE:20180322
DTSTAMP:20260422T011418
CREATED:20171231T220000Z
LAST-MODIFIED:20171231T220000Z
UID:10008820-1521590400-1521676799@www.pikk.ee
SUMMARY:Infopäev piimakarjakasvatajatele ja jõudlusandmete kogujatele
DESCRIPTION:Eesti Põllumajandusloomade Jõudluskontrolli AS (EPJ) korraldab koostöös Eesti Tõuloomakasvatajate Ühistuga (ETKÜ) sel kevadel piimakarjakasvatajatele ja jõudlusandmete kogujatele infopäeva: \nAlgus kell 10.30\nPäevakava: \n\nÜlevaade karjast aitab teha õigeid otsuseid – Kaivo Ilves\, EPJ\nKuhu suunas liigub tõuaretus – kas rohkem piima või pikem kasutusiga Eesti piimakarjades – Tanel-Taavi Bulitko\, ETKÜ\nAretusväärtuste teadlik kasutamine – Mart Uba\, EPJ\n\n  \nOotame Teid infopäevale – valige endale sobiv aeg ja koht ja registreeruge! Osavõtjatel palume registreeruda hiljemalt 5 päeva enne sobivat infopäeva: \nEvi Prins\, 520 6231\, evi.prins@epj.ee\nLudmilla Aan\, 516 7816\, ludmilla.aan@epj.ee\nMaila Kirs\, 509 4675\, maila.kirs@epj.ee\nMaire Tamm\, 5332 4204\, maire.tamm@epj.ee\nMerle Lillik\, 516 7868\, merle.lillik@epj.ee \n või EPJ peamaja tel 738 7700\, epj@epj.ee \n  \nInfopäevad saavad toetust Eesti Maaelu Arengukavast.
URL:https://www.pikk.ee/sundmus/infopaev-piimakarjakasvatajatele-ja-joudlusandmete-kogujatele-9/
LOCATION:Muu\, Eesti
CATEGORIES:Loomakasvatus
GEO:58.595272;25.0136071
END:VEVENT
END:VCALENDAR