BEGIN:VCALENDAR
VERSION:2.0
PRODID:-//PIKK.ee - ECPv6.13.2.1//NONSGML v1.0//EN
CALSCALE:GREGORIAN
METHOD:PUBLISH
X-ORIGINAL-URL:https://www.pikk.ee
X-WR-CALDESC:Events for PIKK.ee
REFRESH-INTERVAL;VALUE=DURATION:PT1H
X-Robots-Tag:noindex
X-PUBLISHED-TTL:PT1H
BEGIN:VTIMEZONE
TZID:Europe/Tallinn
BEGIN:DAYLIGHT
TZOFFSETFROM:+0200
TZOFFSETTO:+0300
TZNAME:EEST
DTSTART:20180325T010000
END:DAYLIGHT
BEGIN:STANDARD
TZOFFSETFROM:+0300
TZOFFSETTO:+0200
TZNAME:EET
DTSTART:20181028T010000
END:STANDARD
END:VTIMEZONE
BEGIN:VEVENT
DTSTART;VALUE=DATE:20180403
DTEND;VALUE=DATE:20180404
DTSTAMP:20260424T184928
CREATED:20171231T220000Z
LAST-MODIFIED:20180403T071554Z
UID:10006964-1522713600-1522799999@www.pikk.ee
SUMMARY:Põllu- ja metsamajanduse taristu arendamine ja hoid
DESCRIPTION:Tartumaa Põllumeeste Liit korraldab tasuta infopäevad teemal „Põllu- ja metsamajanduse taristu arendamine ja hoid“ (meede 4.3.2) \nInfopäevad algavad kell 10.00 ja kestavad 4 akadeemilist tundi \nInfopäevadel käsitletakse teemasid: \nMaaparanduse investeeringutoetuse (meede 4.3.2) tutvustus – Reena Osolin (MeM) \nMaaparanduse vajalikkus\, kasulikke näiteid – Mati Märtson (PMA) \nMaaparanduse kontrollide läbiviimine – Tiina Tubli (PMA) \n2017 aasta toetuse taotluste ehitusmaksumused– Denadi Vassiljev (PMA) \n  \nInfopäevad toimuvad: \n3. aprillil Viljandis hotellis Centrum Tallinna 24 \n5. aprillil Haapsalus Päeva Villas Lai 7 \nInfopäevadel osalemiseks palume registreeruda Viljandis https://goo.gl/forms/SjE5M7PUnRkcAwPk2 \nja Haapsalus https://goo.gl/forms/XO8fBs3KskuGXdbH3 \nRegistreerida saab ka merry@kodu.ee või 736 6955. \n  \nInfopäev on suunatud põllumajandustoodete tootmise ja töötlemise ning metsa majandamisega tegelevatele isikutele. \nInfopäevade korraldamist toetab Euroopa Liit.
URL:https://www.pikk.ee/sundmus/pollu-ja-metsamajanduse-taristu-arendamine-ja-hoid-3/
LOCATION:Viljandimaa\, Viljandimaa\, Eesti
CATEGORIES:Metsandus
GEO:58.2821746;25.5752233
END:VEVENT
BEGIN:VEVENT
DTSTART;VALUE=DATE:20180403
DTEND;VALUE=DATE:20180404
DTSTAMP:20260424T184928
CREATED:20171231T220000Z
LAST-MODIFIED:20171231T220000Z
UID:10008716-1522713600-1522799999@www.pikk.ee
SUMMARY:Tasuta ühistegevuse koolitus: “Ekspordikoolitus”
DESCRIPTION:Eesti Maaülikool korraldab “Teadmussiirde pikaajaline programm ühistegevuse tegevusvaldkonnas” raames tasuta koolituse teemal: “Ekspordikoolitus”. Tegemist on pikaajalise programmiga ja selle raames toimub mitmeid infopäevi\, täienduskoolitusi\, õpiringe\, konverentse ning ettevõtete külastusi nii Eestis kui ka välisriikides. \n03.04.-04.04.2018 täienduskoolitusest võib osa võtta põllumajandustoodete tootmise\, töötlemise või turustamisega\, põllumajandusmaa hooldamisega\, põllumajandustoodetest mittepõllumajandustoodete töötlemisega\, sealhulgas toidu valmistamise või töötlemisega\, või metsa majandamisega seotud või nimetatud tegevusega tegelev füüsilisest isikust ettevõtja ja tema töötaja\, eraõigusliku juriidilise isiku osanik\, aktsionär\, liige\, juhtorgani liige ja tema töötaja\, metsa majandamisega tegelev füüsiline isik ja toidu valmistamise või töötlemisega tegelev avalik-õiguslik juriidilise isiku juhtorgani liige või töötaja. \nKoolituse tulemusel suurenevad õppija teadmised ekspordi võimalustest ja vajadusest. Eriti ootame osalema ühistute juhtkonda ja nõukogu. \n  \n03.04.2018 koolituse ajakava: \n10:00 – 10:15 Registreerimine ja tervituskohvi \n10:15 – 12:30 Eksport ning riskide juhtimine toorainete kaubanduses – Indrek Aigro \n12:30 – 13:15 Lõunapaus \n13:15 – 15:30 Mida toota ja kuhu müüa – Ülo Kivine \n  \n04.04.2018 koolituse ajakava: \n10:00 – 10:15 Registreerimine ja tervituskohvi \n10:15 – 12:30 AS Salvest – ajalugu ja arenguvõimalused kodu- ja eksportturgudel – Veljo Ipits \n12:30 – 13:15 Lõunapaus \n13:15 – 15:30 Eesti piimanduse senisest suurema konkurentsivõime tekkimise eeldused – Jaanus Murakas \n15:30 – 15:45 Tagasiside \n  \nLektoriteks on CM Tallinn AS juht Indrek Aigro\, Saaremaa Piimatööstus AS juhatuse liige Ülo Kivine\, AS Salvest Nõukogu esimees Veljo Ipits ja Piimandusühistu E-Piim juhatuse liige Jaanus Murakas. \nÕppekavaga on võimalik tutvuda järgmisel lingil: https://ois.emu.ee/pls/ois/!tere.tulemast?leht=OK.AY.VP&id_ay_programm=8902&id_ay_toimumine=11545&systeemi_seaded=3\,1\,12\,1\, \nEelregistreerimine toimub kuni 30.03.2018\, osalejate arv on piiratud. Lisainfo saamiseks ja eelregistreerimiseks palume saata e-mail programmi assistendile: liis.volli[A]emu.ee. Eelregistreerimiseks palume osalejatel saata järgnev informatsioon: ettevõtlusvorm ja nimi; ettevõtlusvaldkond; reg. number; osaleja nimi; osaleja ametikoht; osaleja isikukood; osaleja telefoninumber. \n  \nNB! Eelregistreerimine on tingimata vajalik! \n\nLisainformatsioon ja küsimused: liis.volli[A]emu.ee või tel: +372 51 92 9840 (programmi assistent Liis Võlli). \n  \nyhistegevus.emu.ee \nfacebook.com/yhistegevus \ninstagram.com/yhistegevus \nKoolituse korraldamist toetab Euroopa Maaelu Arengu Põllumajandusfond. \n 
URL:https://www.pikk.ee/sundmus/tasuta-uhistegevuse-koolitus-ekspordikoolitus/
LOCATION:Muu\, Eesti
CATEGORIES:Aiandus,Bioenergia ja biomajandus,Finantsmajandus,Keskkond,Loomakasvatus,Maaettevõtlus,Metsandus,Taimekaitse,Taimekasvatus,Toiduainete tootmine,Turundus,Ühistegevus
GEO:58.595272;25.0136071
END:VEVENT
BEGIN:VEVENT
DTSTART;VALUE=DATE:20180403
DTEND;VALUE=DATE:20180404
DTSTAMP:20260424T184928
CREATED:20171231T220000Z
LAST-MODIFIED:20180406T113750Z
UID:10008837-1522713600-1522799999@www.pikk.ee
SUMMARY:Seemnekasvatuse infopäev- tehnoloogiad ja võimalused seemnekvaliteedi tõstmiseks
DESCRIPTION:Infopäeva korraldavad Eesti Taimekasvatuse Instituut ja MTÜ Eesti Seemneliit \n  \nPäevakava \n09.30–10.00 Registreerimine üritusele \n10.00–10.05 Avasõnad \n10.05–10.35 Efektiivne puhtimine kaitseb kultuure. Põldkatsed (idandamise katsed puhtimispreparaatidega) – Pille Sooväli \n10.35–11.35 Põllumehe kogemus (hernes\, teravili) kvaliteedi tagamine – Mihkel Vainula \n11.35–12.35 Kohvipaus \n12.35–13.05 Seemnete kvaliteediprobleemid. Seemne analüüsimine laboris – Mari Jürman \n13.05–14.05 Seemnete töötlemine Cimbria näitel\, sorteerid (optiline sorteer). Töötlemine ja puhastamine. Seadmed ja puhastustehnika ­– Arne Jensen\, tõlgib Taavi Võsa\, ETKI \nEttekanded:\nEfektiivne puhtimine kaitseb kultuure – Pille Sooväli\nPõllumehe kogemus  – Mihkel Vainula\nSeemnete kvaliteediprobleemid – Mari Jürman\nSeemnete töötlemine Cimbria näitel\, sorteerid  ­– Arne Jensen\, tõlgib Taavi Võsa\, ETKI \n  \nOsalemine infopäeval on TASUTA. \nOsalemisest anda teada hiljemalt 28. märtsiks. \nVajalik eelregistreerimine: https://goo.gl/forms/IkZK0vijjnuMmLiT2 \n  \nInfopäeva ettekanded on leitavad ürituse järgselt: taim.etki.ee www.pikk.ee \nInfopäev toimub “Teadmussiirde pikaajaline programm taimekasvatuse tegevusvaldkonnas” raames\, toetab Euroopa Maaelu Arengu Põllumajandusfond.
URL:https://www.pikk.ee/sundmus/seemnekasvatuse-infopaev-tehnoloogiad-ja-voimalused-seemnekvaliteedi-tostmiseks/
LOCATION:Jõgevamaa\, Jõgevamaa\, Eesti
CATEGORIES:Taimekasvatus
END:VEVENT
BEGIN:VEVENT
DTSTART;VALUE=DATE:20180403
DTEND;VALUE=DATE:20180404
DTSTAMP:20260424T184928
CREATED:20171231T220000Z
LAST-MODIFIED:20180403T073337Z
UID:10008850-1522713600-1522799999@www.pikk.ee
SUMMARY:Puuvilja- ja marjakultuuride paljundusmaterjali tootmise ja turustamise nõuded\, dekoratiivkultuuride ohtlikud kahjustajad\, sordikaitse ja uue taimetervise määruse tutvustus
DESCRIPTION:Tartumaa Põllumeeste Liit korraldab tasuta infopäeva teemal „Puuvilja- ja marjakultuuride paljundusmaterjali tootmise ja turustamise nõuded\, dekoratiivkultuuride ohtlikud kahjustajad\, sordikaitse ja uue taimetervise määruse tutvustus“ \nInfopäev toimub 3. aprillil Viljandis hotellis Centrum Tallinna 24\, algab kell 10.00 ja kestab 6 akadeemilist tundi \n  \nInfopäevadel käsitletakse teemasid: \nPuuvilja- ja marjakultuuride paljundusmaterjali tootmise ja turustamise nõuded– Merjan Savila (MeM) \nSordikaitse – Laima Puur (PMA) \nDekoratiivkultuuride tootmise ja turustamise nõuded  – Merjan Savila (MeM)\nDekoratiivkult_tootmine_turustamine_järelevalve Marika Arula (PMA) \nGeneetiliselt muundatud organismid– Merjan Savila (MeM) ja Riina Koidumaa (PMA) \nOhtlikud taimekahjustajad Hiina sikk\, aasia sikk 03.04.2018 \nOhtlikud taimekahjustajad\, järelevalve 2015-2017 – Marika Arula ja Tea Tasa (PMA) \n*Uus taimetervise regulatsioon – Olga Lavrentjeva (MeM) \n  \nInfopäeval osalemiseks palume registreeruda https://goo.gl/forms/w4ClOct1bDJH6jXm2 \nRegistreerida saab ka merry@kodu.ee või 736 6955. \nInfopäev on suunatud puukoolide töötajatele (paljundusmaterjali tootjatele)\, samuti elustaimi turustavatele kaubakettidele. \nInfopäevade korraldamist toetab Euroopa Liit.
URL:https://www.pikk.ee/sundmus/puuvilja-ja-marjakultuuride-paljundusmaterjali-tootmise-ja-turustamise-nouded-dekoratiivkultuuride-ohtlikud-kahjustajad-sordikaitse-ja-uue-taimetervise-maaruse-tutvustus/
LOCATION:Viljandimaa\, Viljandimaa\, Eesti
CATEGORIES:Taimekasvatus
GEO:58.2821746;25.5752233
END:VEVENT
BEGIN:VEVENT
DTSTART;VALUE=DATE:20180403
DTEND;VALUE=DATE:20180404
DTSTAMP:20260424T184928
CREATED:20171231T220000Z
LAST-MODIFIED:20171231T220000Z
UID:10008851-1522713600-1522799999@www.pikk.ee
SUMMARY:Liblikõieliste (hernes ja uba) agrotehnika ja taimekaitse
DESCRIPTION:Tartumaa Põllumeeste Liit korraldab 3. aprillil 10.00-14.00 Villa Theresas Tammiku 9\, Rakvere tasuta infopäeva „Liblikõieliste (hernes ja uba) agrotehnika ning  \n\n	taimekaitse“. \n\n	Tiiu Annuk käsitleb teemasid: \n\n\n		Herne ja oa kasvunõuded (maa ettevalmistus\, mullastik\, külv jne)\n\n		Väetamine: põhiväetised ja leheväetised\, biopreparaadid\n\n		Enamlevinud kahjurid ja haigused\n\n		Taimekaitse: umbrohutõrje\, haiguste- ja kahjurtõrje     \n\n		Koristamise ja kuivatamise eripärad\n\n\n	Registreerimine https://goo.gl/forms/imTmH88rCjDJVb8K2 \, 736 6955 või merry[A]kodu.ee.
URL:https://www.pikk.ee/sundmus/liblikoieliste-hernes-ja-uba-agrotehnika-ja-taimekaitse/
LOCATION:Muu\, Eesti
CATEGORIES:Taimekasvatus
GEO:58.595272;25.0136071
END:VEVENT
BEGIN:VEVENT
DTSTART;VALUE=DATE:20180403
DTEND;VALUE=DATE:20180404
DTSTAMP:20260424T184928
CREATED:20171231T220000Z
LAST-MODIFIED:20171231T220000Z
UID:10008852-1522713600-1522799999@www.pikk.ee
SUMMARY:Väiksemate koduloomade (küülik. lammas) nahkade parkimine koduste vahenditega (30 tundi)
DESCRIPTION:Algus 3 aprill kell 10.00. \n  \nÕppekava: \n\nTäienduskoolitusasutuse nimi\n\nJärvamaa Kutsehariduskeskus \n\nÕppekava nimetus\n\nVäiksemate koduloomade (küülik\, lammas) nahkade parkimine koduste vahenditega \n\nÕppekavarühm (vastavalt rahvusvahelisele haridus- ja koolitusvaldkondade klassifitseerimise süsteemile ISCED-F 2013)\n\nPõllundus ja loomakasvatus \n\nÕppekeel\n\neesti keel \n\nÕppekava koostamise alus\n\nPõllumajanduserialade riiklik õppekava\, põllumajandustöötaja\, tase 4 spetsialiseerudes: lamba- ja kitsekasvataja tase 4 erialamoodul: \nB.2.15 lamba- ja/või kitsesaaduste tootmine; \nkaruslooma- ja küülikukasvataja\, tase 4 eriala moodul \nB.2.20 karusloomakasvatussaaduste tootmine; \npõllumajandustootja tase 5 spetsialiseerudes: küülikukasvatusspetsialist\, tase 5 eriala moodul: B.2.19 küülikusaaduste tootmine. \n\nÕppe kogumaht(akadeemilistes tundides) ja õppe ülesehitus\n\nMaht 30 tundi\, sh18 tundi on praktikat koolikeskkonnas \n\nÕppekeskkond\n\nJärvamaa Kutsehariduskeskuse auditoorium\, kus saab kasutada koolituse tarbeks valmistaud nahaparkimispukki \n\nSihtgrupp \n\nVäiketootjad\, sh. 50+ vanuses  küüliku- ja  lambakasvatajad\, käsitöölised kes soovivad oma loomade nahad parkida ise ja  koduste vahenditega\, keemiavabalt. Inimesed\, kes soovivad küüliku- ja lambanahku või nendest valmistatud tooteid turustada\, tulu teenida. \n\nÕppe alustamise tingimused \n\nKoolitusest võivad osa võtta põllumajandustoodete tootmise või töötlemise\, põllumajandustoodetest mittepõllumajandustoodete töötlemise või metsanduses tegutsev füüsilisest isikust ettevõtja ja tema töötaja ning eraõigusliku juriidilise isiku osanik\, aktsionär\, liige\, juhtorgani liige ja tema töötaja. Valmisolek töödelda toornahku ning tahe teha käsitööd \n\nEesmärk \n\nKoolituse tulemusel õpilane pargib väiksemate koduloomade (küülik\, lammas) nahku koduste vahenditega ning kasutab selleks õigeid tehnoloogiaid\, vajalikke tööriistu ja ohutuid töövõtteid. \n\nÕpiväljundid \n\nKoolituse läbinu: \n\nmõistab naha töötlemise olemust ja põhiprotsesse;\npargib väiksemate koduloomade (küülik\, lammas) nahad koduste vahendite ja  meetoditega;\nkasutab ohutult erinevaid nahaparkimises kasutatavad tööriistu\n\n  \n\nÕppe sisu\n\nAuditoorse töö teemad 12 tundi. \n\nNahaparkimise ajalugu – 1\nNaha ehitus ja selle keemiline koostis -2\nLihtsamad konserveerimise viisid- 1\nKarva eemaldamise erinevad võimalused- 1\nErinevad parkimise meetodid- 2\nNahaparkimises kasutatavad tööriistad -1\nMineraalpargis kasutatavad ained ja nende omadused -1\nNahkade leotamine -1\nNahkade puhastamine ja pesemine -1\nParkvedeliku valmistamine ja kasutamine -1\n\nPraktika teemad 18 tundi \n\nNahkade leotamine -2\nNahkade puhastamine ja pesemine -3\nParkvedeliku valmistamine ja kasutamine -3\nNahkade tahendamine- 2\nPargitud nahkade rasvatamine – 2\nNahkade kuivatamine ja venitamine- 3\nNahkade lihvimine ja viimistlemine- 3\n\n\nÕppemeetodid\n\nLoeng\, demonstratsioon ning praktilised tööd juhendaja käe all. \n\nIseseisev töö \n\nPuudub \n\nÕppematerjalid \n\n\nLektori koostatud konspekt\nLisamaterjalid internetist\n\n\nNõuded õpingute lõpetamiseks sh hindamismeetodid ja –kriteeriumid\n\nÕpingud loetakse lõppenuks\, kui õpilane on osalenud õppetöös vähemalt 70 % ja teostanud  praktika koolikeskkonnas. Mitteeristav hindamine. \n\n\n\n\nHindamismeetod \n\n\nHindamiskriteeriumid  \n\n\n\n\nPraktika koolikeskkonnas \n\n\nÕpilane on parkinud küülikunaha vastavalt juhendamisele \n\n\n\n\n  \n\nKoolituse läbimisel väljastatav dokument\n\nÕppijale väljastatakse tunnistus\, kui õpingute lõpetamise nõuded on täidetud. \n\nKoolitaja kompetentsust tagava kvalifikatsiooni või õpi- või töökogemuse kirjeldus\n\nLektoril on kutse- või kõrgharidus põllumajanduses või tekstiili alal. Varasem täiskasvanute koolitamise kogemust vähemalt  1 aasta. \nTuuli Jõesaar – Tartu Kõrgem Kunstikool\,  nahadisaini osakond 2017\, Olustvere TMK  rahvusliku tekstiili eriala. Täiskasvanute koolitaja (nahkade parkimine\, nahast toodete valmistamine) 2010 aastast. \n\nÕppekava kinnitamise aeg: 16.03.2018  käskkiri nr 6.2-1/276\n\n  \nLisainfo:\nRuth Türk\nruth.turk@jkhk.ee\ntel: 53 29 21 88
URL:https://www.pikk.ee/sundmus/vaiksemate-koduloomade-kuulik-lammas-nahkade-parkimine-koduste-vahenditega-30-tundi/
LOCATION:Muu\, Eesti
GEO:58.595272;25.0136071
END:VEVENT
END:VCALENDAR