BEGIN:VCALENDAR
VERSION:2.0
PRODID:-//PIKK.ee - ECPv6.13.2.1//NONSGML v1.0//EN
CALSCALE:GREGORIAN
METHOD:PUBLISH
X-WR-CALNAME:PIKK.ee
X-ORIGINAL-URL:https://www.pikk.ee
X-WR-CALDESC:Events for PIKK.ee
REFRESH-INTERVAL;VALUE=DURATION:PT1H
X-Robots-Tag:noindex
X-PUBLISHED-TTL:PT1H
BEGIN:VTIMEZONE
TZID:Europe/Tallinn
BEGIN:DAYLIGHT
TZOFFSETFROM:+0200
TZOFFSETTO:+0300
TZNAME:EEST
DTSTART:20180325T010000
END:DAYLIGHT
BEGIN:STANDARD
TZOFFSETFROM:+0300
TZOFFSETTO:+0200
TZNAME:EET
DTSTART:20181028T010000
END:STANDARD
END:VTIMEZONE
BEGIN:VEVENT
DTSTART;VALUE=DATE:20180509
DTEND;VALUE=DATE:20180510
DTSTAMP:20260420T101929
CREATED:20171231T220000Z
LAST-MODIFIED:20171231T220000Z
UID:10006856-1525824000-1525910399@www.pikk.ee
SUMMARY:Enesekontrollisüsteemi loomine ja auditeerimine
DESCRIPTION:Täpsem info ja registreerumine: https://ois.emu.ee/pls/ois/!tere.tulemast?leht=OK.AY.VP&id_ay_programm=7964&id_ay_toimumine=11226&systeemi_seaded=3\,1\,12\,1\, \n\n	 \n\n	Täienduskoolitusest võivad osa võtta:\n\n	– põllumajandustoodete töötlemise või turustamisega tegelev füüsilisest isikust ettevõtja ja tema töötaja ning eraõigusliku juriidilise isiku osanik\, aktsionär\, liige\, juhtorgani liige ja tema töötaja;\n\n	– põllumajandustoodetest mittepõllumajandustoodete töötlemise sh toidu valmistamise või töötlemisega tegelev füüsilisest isikust ettevõtja ja tema töötaja ning eraõigusliku juriidilise isiku osanik\, aktsionär\, liige\, juhtorgani liige ja tema töötaja;\n\n	– toidu valmistamise või töötlemisega tegelev avalik-õigusliku juriidilise isiku juhtorgani liige või töötaja;\n\n	– põllumajandustootjate valdkonda teenindavad isikud (nt kokkuostuga tegelevate ettevõtete töötajad);\n\n	– isikud (FIE-d või ettevõtte esindajad)\, kes koguvad teadmisi uue tegevusvaldkonna kohta;\n\n	– põllumajanduslike esindus- ja erialaorganisatsioonide (MTÜ-d\, mille liikmeteks on põllumajandussaaduste töötlejad) juhatuse liikmed ja töötajad.\n\n	 \n\n	Füüsiliste isikute ja riigiametnike täienduskoolitusel osalemine ei ole toetatav!\n\n	 \n\n	Tegevust finantseeritakse Eesti maaelu arengukava 2014-2020 meetme 1 "Teadmussiire ja teavitus" tegevuse "Pikaajalised programmid" raames ja on sihtrühma kuulujatele tasuta.\n\n	 \n\n	NB! Teavitame! Antud koolitustegevuses osalemine on osaleja jaoks vähese tähtsusega abi.\n\n	 \n\n	Koolituse korraldaja:\n\n	Eesti Maaülikooli avatud ülikool\n\n	Fr. R. Kreutzwaldi 56/1\n\n	51014 Tartu\,\n\n	tel 731 3174\, 731 3175\, 731 3275\, 534 41844\n\n	e-post: avayl@emu.ee \n\n	http://avatudylikool.emu.ee/  
URL:https://www.pikk.ee/sundmus/enesekontrollisusteemi-loomine-ja-auditeerimine-2/
LOCATION:Muu\, Eesti
CATEGORIES:Toiduainete tootmine
GEO:58.595272;25.0136071
END:VEVENT
BEGIN:VEVENT
DTSTART;VALUE=DATE:20180509
DTEND;VALUE=DATE:20180510
DTSTAMP:20260420T101929
CREATED:20180425T130508Z
LAST-MODIFIED:20180425T130623Z
UID:10007000-1525824000-1525910399@www.pikk.ee
SUMMARY:Koolitus "Lindude hindamine\, näituseks ettevalmistamine"
DESCRIPTION:Järvamaa Kutsehariduskeskus korraldab  meede 1.1. raames taotlus nr. 611017510223 koolituse “Lindude hindamine\, näituseks ettevalmistamine” k  9. ja 12. mail  2018. \n9. mai alustame kell 10.00\, Tartus Kreutzwaldi 62\, ruumis A-110 (Eesti Maaülikoolis). \n12. mai toimub praktika töökeskkonnas\, Luigel. LUIGE NÄITUSTEVÄLJAK asub Tallinn- Viljandi maantee 7ndal kilomeetril. \n  \nRohkem infot: \nRuth Türk\nJKHK koolitusjuht\nruth.turk@jkhk.ee\n5329 2188
URL:https://www.pikk.ee/sundmus/koolitus-lindude-hindamine-naituseks-ettevalmistamine/
LOCATION:Tartumaa\, Eesti
GEO:58.4057128;26.801576
END:VEVENT
END:VCALENDAR