BEGIN:VCALENDAR
VERSION:2.0
PRODID:-//PIKK.ee - ECPv6.13.2.1//NONSGML v1.0//EN
CALSCALE:GREGORIAN
METHOD:PUBLISH
X-ORIGINAL-URL:https://www.pikk.ee
X-WR-CALDESC:Events for PIKK.ee
REFRESH-INTERVAL;VALUE=DURATION:PT1H
X-Robots-Tag:noindex
X-PUBLISHED-TTL:PT1H
BEGIN:VTIMEZONE
TZID:Europe/Tallinn
BEGIN:DAYLIGHT
TZOFFSETFROM:+0200
TZOFFSETTO:+0300
TZNAME:EEST
DTSTART:20180325T010000
END:DAYLIGHT
BEGIN:STANDARD
TZOFFSETFROM:+0300
TZOFFSETTO:+0200
TZNAME:EET
DTSTART:20181028T010000
END:STANDARD
END:VTIMEZONE
BEGIN:VEVENT
DTSTART;VALUE=DATE:20180510
DTEND;VALUE=DATE:20180512
DTSTAMP:20260425T223900
CREATED:20180504T062235Z
LAST-MODIFIED:20180504T062522Z
UID:10008899-1525910400-1526083199@www.pikk.ee
SUMMARY:Veekaitse teemalised koolitused
DESCRIPTION:Head talunikud ja põllumajandustootjad! \n\nOotame teid  10.  ja 11. mail veekaitse teemalistele koolitustele Jäneda külalistemajja.  \nSpetsiaalselt kohalikele oludele ja tootjatele mõeldes on eksperdid koostanud koolituse\, mis aitab just teil lihtsalt ja arusaadavalt teada saada\, mida veekogude tervise ja veekvaliteedi heaks siinkandis teha saab. Koolitustel saab näpunäiteid\, kuidas targalt tegutsedes liigsed toitained põllu- ja karjamaalt veekogudesse ei pääseks. \n\nKokku toimub kahe päeva jooksul kolm tasuta koolitust: \nLoomakasvajate koolitus veekaitsemeetmete rakendamiseks Jänijõe valgalal\n\nmai 2018 kl 9.00-12.00\, Jäneda külalistemaja seminariruum.\nKoolitusel tutvustatakse loomakasvatajatele keskkonnakaitsemeetmeid\, mis aitavad vähendada Jänijõe ja teiste veekogude reostumist. Kuna koolitus on suunatud eeskätt Jänijõe valgalal tegutsevatele tootjatele\, siis kaardistavad eksperdid koolituse eel põhjalikult ühe farmi tegevuse ja mõju Jänijõele. Näite põhjal töötatakse välja lahendused olukorra parandamiseks eelkõige sõnniku- ja silomajanduses. Saadud tulemusi tutvustatakse ka koolitusel.\n\n  \nTaimekasvatajate koolitus veekaitsemeetmete rakendamiseks Jänijõe valgalal\n\nmai 2018 kl 13.00-16.00\, Jäneda külalistemaja seminariruum.\nKoolitusel tutvustatakse maaharijatele keskkonnakaitseviise\, mis aitavad vähendada Jänijõe ning teiste veekogude reostumist. Ühe Jänijõe valgalal tegutseva maaharijaga koos töötatakse välja individuaalne veekaitseline plaan\, mida tutvustatakse ka koolitusel.\n\n  \nKoolitus toitainetebilansi koostamiseks\n\nmai 2018 kl 9.00-12.00\, Jäneda külalistemaja seminariruum\nKoolituse käigus nõustatakse põllumajandustootjaid toitainetebilanssi kui ühe veekaitsemeetme koostamises\, kasutades selleks erinevaid internetis vabalt saadavalolevaid kalkulaatoreid. Eksperdid arvutavad koolituse eel ühe tootja näitel välja toitainebilansi ühe aasta peale. Koolitusel tutvustatakse saadud tulemusi ning kuidas iga tootja saab kalkulaatorit kasutada.\n\nVäga praktilisi ja igapäeva töösse rakendatavaid koolitusi viivad läbi veekaitsemeetmete eksperdid Kristjan Piirimäe ja Kuno Kasak (Eestimaa Looduse Fond). \nTulge kohale\, olete väga oodatud! \nKoolitust korraldab SA Eestimaa Looduse Fond ning rahastab SA Keskkonnainvesteeringute Keskus projekti „Jänijõe keskkonnaseisundi parandamine“ raames. \n  \nRohkem infot:\nKuno Kasak\, tel 5344 8583\, kuno@elfond.ee\nwww.elfond.ee
URL:https://www.pikk.ee/sundmus/veekaitse-teemaline-koolitus/
LOCATION:Lääne-Virumaa\, Lääne-Virumaa\, Eesti
END:VEVENT
END:VCALENDAR