BEGIN:VCALENDAR
VERSION:2.0
PRODID:-//PIKK.ee - ECPv6.13.2.1//NONSGML v1.0//EN
CALSCALE:GREGORIAN
METHOD:PUBLISH
X-ORIGINAL-URL:https://www.pikk.ee
X-WR-CALDESC:Events for PIKK.ee
REFRESH-INTERVAL;VALUE=DURATION:PT1H
X-Robots-Tag:noindex
X-PUBLISHED-TTL:PT1H
BEGIN:VTIMEZONE
TZID:Europe/Tallinn
BEGIN:DAYLIGHT
TZOFFSETFROM:+0200
TZOFFSETTO:+0300
TZNAME:EEST
DTSTART:20180325T010000
END:DAYLIGHT
BEGIN:STANDARD
TZOFFSETFROM:+0300
TZOFFSETTO:+0200
TZNAME:EET
DTSTART:20181028T010000
END:STANDARD
END:VTIMEZONE
BEGIN:VEVENT
DTSTART;VALUE=DATE:20180521
DTEND;VALUE=DATE:20180522
DTSTAMP:20260424T100641
CREATED:20180424T101343Z
LAST-MODIFIED:20180521T132434Z
UID:10006998-1526860800-1526947199@www.pikk.ee
SUMMARY:Infopäev "kvaliteetne silo ja selle tootmine"
DESCRIPTION:  \nPäevakava \n09.30-10.00 Registreerimine\, tervituskohv\n10.00-10.20 Saimre Agro Grupp OÜ tutvustus – Matis Kajaste\n10.20-12.00 Kuidas mõjutab ilmastik\, rohu liigiline koosseis ja koristustehnoloogia rohumassi toiteväärtust? Mida rohumassi analüüsitulemused näitavad? –  Uno Tamm ETKI\n12.00-12.30 Kuidas põllult rohumassist proovi võtta? Saimre Agro Grupp OÜ söödatootmistehnika näitamine.\n12.30-13.45 Mida jälgida siloproovi võtmisel\, pakendamisel ja laborisse saatmisel? Millised on tähtsamad silo kvaliteedinäitajad? Kuidas silo analüüsitulemusi tõlgendada ja kasutada? Ann Akk PMK\, Uno Tamm ETKI\n13.45-14.00 Siloproovivõtmise vahendite ja -kindlustuslisandite tutvustus- Pilleriin puskar\n14.00-14.30 Lõuna ja diskussioon \nEttekanded:\nKvaliteetne silo ja selle tootmine – Uno Tamm\nSiloproovi võtmise juhend\nMõningatest söötade keemilisest analüüsidest ja metaboliseeruva energia arvutamisest \nOsalemine tasuta! \nVajalik eelregistreerimine: https://goo.gl/forms/WWQAC9EAdzJPuyIz1\nOsalemisest anda teada hiljemalt 20. mai. \nLisainformatsioon koolituspäeva kohta:\nToivo Lauk\nPMK Viljandi katsekeskus\nTel: 50 32 754\nwww.pmk.agri.ee\ntoivo.lauk@pmk.agri.ee \n  \nInfopäev toimub “Teadmussiirde pikaajaline programm taimekasvatuse tegevusvaldkonnas” raames\, toetab Euroopa Maaelu Arengu Põllumajandusfond.
URL:https://www.pikk.ee/sundmus/infopaev-kvaliteetne-silo-ja-selle-tootmine/
LOCATION:Viljandimaa\, Viljandimaa\, Eesti
CATEGORIES:Taimekasvatus
GEO:58.2821746;25.5752233
END:VEVENT
END:VCALENDAR