BEGIN:VCALENDAR
VERSION:2.0
PRODID:-//PIKK.ee - ECPv6.13.2.1//NONSGML v1.0//EN
CALSCALE:GREGORIAN
METHOD:PUBLISH
X-WR-CALNAME:PIKK.ee
X-ORIGINAL-URL:https://www.pikk.ee
X-WR-CALDESC:Events for PIKK.ee
REFRESH-INTERVAL;VALUE=DURATION:PT1H
X-Robots-Tag:noindex
X-PUBLISHED-TTL:PT1H
BEGIN:VTIMEZONE
TZID:Europe/Tallinn
BEGIN:DAYLIGHT
TZOFFSETFROM:+0200
TZOFFSETTO:+0300
TZNAME:EEST
DTSTART:20180325T010000
END:DAYLIGHT
BEGIN:STANDARD
TZOFFSETFROM:+0300
TZOFFSETTO:+0200
TZNAME:EET
DTSTART:20181028T010000
END:STANDARD
END:VTIMEZONE
BEGIN:VEVENT
DTSTART;VALUE=DATE:20180616
DTEND;VALUE=DATE:20180617
DTSTAMP:20260422T213923
CREATED:20180605T111041Z
LAST-MODIFIED:20180808T085614Z
UID:10008928-1529107200-1529193599@www.pikk.ee
SUMMARY:Ühise põllumajanduspoliitika tulevik
DESCRIPTION:Tartumaa põllumeeste liit korraldab 16. juunil algusega 12.00 Elva vallas Tamme poldril infopäeva „Ühise põllumajanduspoliitika tulevik“. Registreerimine merry@kodu.ee või 508 7320. \nEttekanne PõKa. \n 
URL:https://www.pikk.ee/sundmus/uhise-pollumajanduspoliitika-tulevik/
LOCATION:Tartumaa\, Eesti
CATEGORIES:Muu
GEO:58.4057128;26.801576
END:VEVENT
END:VCALENDAR