BEGIN:VCALENDAR
VERSION:2.0
PRODID:-//PIKK.ee - ECPv6.13.2.1//NONSGML v1.0//EN
CALSCALE:GREGORIAN
METHOD:PUBLISH
X-ORIGINAL-URL:https://www.pikk.ee
X-WR-CALDESC:Events for PIKK.ee
REFRESH-INTERVAL;VALUE=DURATION:PT1H
X-Robots-Tag:noindex
X-PUBLISHED-TTL:PT1H
BEGIN:VTIMEZONE
TZID:Europe/Tallinn
BEGIN:DAYLIGHT
TZOFFSETFROM:+0200
TZOFFSETTO:+0300
TZNAME:EEST
DTSTART:20180325T010000
END:DAYLIGHT
BEGIN:STANDARD
TZOFFSETFROM:+0300
TZOFFSETTO:+0200
TZNAME:EET
DTSTART:20181028T010000
END:STANDARD
END:VTIMEZONE
BEGIN:VEVENT
DTSTART;VALUE=DATE:20180703
DTEND;VALUE=DATE:20180704
DTSTAMP:20260423T151816
CREATED:20171231T220000Z
LAST-MODIFIED:20180802T122759Z
UID:10008849-1530576000-1530662399@www.pikk.ee
SUMMARY:PMK Viljandi katsekeskuse Põllupäev
DESCRIPTION:Üritust korraldab: PMK Viljandi katsekeskus \n\nPMK Viljandi katsekeskus\, Männi tee 5\, Matapera\, Viljandimaa\nAsukoht täpsemalt: 58°19’33.5″N 25°33’17.8″E Ava Google kaart\n\nPäevakava\n09.30 – 10.00 Registreerimine\, tervituskohv\n10.00 – 10.15 Avasõnad\n10.20 – 11.20 ETKI tali- ja suviteraviljakatsed – Ülle Tamm\, Anne Ingver\, ETKI\n11.20 – 12.20 Taliteraviljade sordivõrdluskatsed – Ülla Põldur\, PMK\n12.35 – 13.05 Talirapsi sordivõrdluskatsed – Eve Siro\, PMK\n13.15 – 13.45 Seemnete sertifitseerimine – Piia Puusepp\, PMA\n13.50 – … Arutelu\, kokkuvõte\, lõunasöök\nPõldkatsed ja asukohaskeemid\n\nOsalemine infopäeval on tasuta.\nOsalemisest anda teada hiljemalt 02. juuliks.\nVajalik eelregistreerimine: KLIKI SIIA!\n\nKasutame teie andmeid ainult vastavuses käesoleva põllupäeva eesmärgile ning teile järgmiste samalaadsete ürituste kohta teadete saatmiseks.\nLisainfo: viljandi(at)pmk.agri.ee või tel. 433 4406\n\n\nEsitluspäev toimub “Teadmussiirde pikaajaline programm taimekasvatuse tegevusvaldkonnas” raames\, toetab Euroopa Maaelu Arengu Põllumajandusfond.\n\n 
URL:https://www.pikk.ee/sundmus/pmk-viljandi-katsekeskuse-pollupaev-2/
LOCATION:Viljandimaa\, Viljandimaa\, Eesti
CATEGORIES:Taimekasvatus
GEO:58.2821746;25.5752233
END:VEVENT
BEGIN:VEVENT
DTSTART;VALUE=DATE:20180703
DTEND;VALUE=DATE:20180704
DTSTAMP:20260423T151816
CREATED:20180615T214937Z
LAST-MODIFIED:20180629T131500Z
UID:10008932-1530576000-1530662399@www.pikk.ee
SUMMARY:Mahetaimekasvatus
DESCRIPTION:Ökoloogiliste Tehnoloogiate Keskus korraldab neli välislektoritega infopäeva teemal \nMahepõllumajanduslik taimekasvatus \nInfopäevad toimuvad: \n2. juuli 2018 k 12.00-17.30 Vana-Karistes (Viljandimaa). Lektorid Harri Ellermaa (EHE Pojad OÜ) ja Richard Gantlett (Yatesbury House Farm\, Inglismaa).\nRegistreerimine hiljemalt 22.06 lingil: https://goo.gl/forms/zLtG5KSlQHRKZsF83  \n3. juuli 2018 k 11.00-16.30 Tammistu (Tartumaa). Lektorid Tauno Tattar (Juppi OÜ) ja Richard Gantlett (Inglismaa). Registreerimine hiljemalt 22.06 lingil: https://goo.gl/forms/7XS2R9jTEmhZVMKY2  \n17. juuli 2018 k 11.00-16.30 Viitkal (Võrumaa). Lektorid: Janek Eerik (Põlgaste Talu OÜ) ja Margrethe Askegaard (Ecoviden\, Taani).\nRegistreerimine hiljemalt 6.07 lingil: https://goo.gl/forms/H7o0YjwdNkgpxOEe2 \n18. juuli 2018 k 11.00-16.30 Tõhelas (Pärnumaa). Lektorid: Tõnu Salu (Agriculture AS) ja Margrethe Askegaard (Taani). Registreerimine hiljemalt 6.07 lingil: https://goo.gl/forms/ixTy6ZimviJUs6LT2  \n  \nInfopäevade täpsemad programmid leiate allpool. \nInfopäevade välislektorid: \n02.-03.07 Richard Gantlett on majandanud üle 20 aasta mahedalt Yatesbury House Farm´i Inglismaal. Teeb paljude erinevate projektide raames koostööd mitmete ülikoolide ja uurimiskeskustega. Katsetab ka projektide väliselt erinevaid uudseid mahetootmisse sobivaid tehnoloogiaid. Lisaks taimekasvatusele tegeleb ka lihaveisekasvatusega. Märksõnad: minimeeritud harimine\, mitmeliigilised (üle 20 liigi) haljasväetiskultuurid\, 3D külv. \n17.-18.07 Margrethe Askegaard on pikaajalise kogemusega Taani mahenõustaja ja -koolitaja. Töötanud Aarhusi Ülikoolis ja maheettevõtete nõustamisega tegelevas ettevõttes Seges\, hetkel enda konsultatsioonifirmas Ecoviden. Kirjutanud üle 200 artikli ja mitmeid tootjatele mõeldud praktilisi infomaterjale. Märksõnad: umbrohutõrje\, toitainete efektiivne kasutamine\, külvikorrad. \nInfopäevad on tasuta\, osalemiseks on vajalik eelregistreerumine iga ürituse juures toodud lingil (eelistatult) või e-maili teel maheteave@gmail.com. Kohtade arv on piiratud\, registreerumine lõpetatakse kohtade täitumisel. \nInfopäevad lähevad arvesse mahepõllumajandusliku tootmise toetuse saamise kohustusliku koolitusena (6 tundi). Infopäevad toimuvad programmi “Teadmussiirde pikaajaline programm mahepõllumajanduse tegevusvaldkonnas” raames\, toetab Euroopa Liit. \nInfopäevade täpsem ajakava: \nAeg: 2.07 k 12.00-17.30 \nKoht: Vana-Kariste\, Viljandimaa \nPäevakava \n11:45   Kogunemine Vana-Karistes Uusnõmme talu juures \n12:00   EHE Pojad OÜ tegevuse tutvustus. Tehnika ja põllud. Harri Ellermaa \n13:45   Kerge lõuna \n14:15   Yatesbury House Farm’i mahetootmise kogemused. Minimeeritud harimine\, mullaviljakus\, haljasväetised jm. Richard Gantlett\, Inglismaa \n17:00   Arutelu \n17:30   Lõpp \nAeg: 3.07 k 11.00-16.30 \nKoht: Tammistu\, Tartumaa \nPäevakava \n10:45  Kogunemine Tammistu mõisa küüni juures parklas \n11:00   Juppi OÜ tegevuse tutvustus. Tehnika\, põllud. Tauno Tattar \n12:30   Kerge lõuna Tammistu Mõisa küünis \n13:00   Yatesbury House Farm’i mahetootmise kogemused. Minimeeritud harimine\, mullaviljakus\, haljasväetised jm. Richard Gantlett\, Inglismaa \n16:00   Arutelu \n16:30   Lõpp \nAeg: 17.07 k 11.00-16.30 \nKoht: Viitka\, Võrumaa \nPäevakava: \n10:45   Kogunemine Viitkal (endine Viitka töökoda) \n11:00   Põlgaste talu tegevuse tutvustus. Tehnika ja põllud. Janek Eerik (Põlgaste Talu OÜ) \n12:45   Kerge lõuna \n13:15   Umbrohutõrje ja toitainete efektiivne kasutamine mahetootmises. Taani kogemused. Margrethe Askegaard\, Taani \n16:00   Arutelu \n16:30   Lõpp \nAeg: 18.07 k 11.00-16.30 \nKoht: Tõhela\, Pärnumaa \nPäevakava: \n10:45   Kogunemine Tõhela Rahvamaja juures \n11:00   Agriculture AS tegevuse tutvustus. Tehnika ja põllud. Tõnu Salu \n12:30   Kerge lõuna \n13:00   Umbrohutõrje ja toitainete efektiivne kasutamine mahetootmises. Taani kogemused. Margrethe Askegaard\, Taani \n16:00   Arutelu \n16:30   Lõpp
URL:https://www.pikk.ee/sundmus/mahetaimekasvatus-2/
LOCATION:Tartumaa\, Eesti
CATEGORIES:Taimekasvatus
GEO:58.4057128;26.801576
END:VEVENT
BEGIN:VEVENT
DTSTART;VALUE=DATE:20180703
DTEND;VALUE=DATE:20180704
DTSTAMP:20260423T151816
CREATED:20180619T053007Z
LAST-MODIFIED:20180619T053007Z
UID:10007039-1530576000-1530662399@www.pikk.ee
SUMMARY:Esitluspäev PMK Viljandi katsekeskuses: talirapsi ja teraviljade sordivõrdluskatsed\, agrotehnika ning seemnete sertifitseerimine
DESCRIPTION:PMK Viljandi katsekeskus\, Männi tee 5\, Matapera\, Viljandimaa\nAsukoht täpsemalt: 58°19’33.5″N 25°33’17.8″E Ava Google kaart \nPäevakava \n09.30 – 10.00           Registreerimine\, tervituskohv\n10.00 – 10.15           Avasõnad\n10.20 – 11.20           ETKI tali- ja suviteraviljakatsed – Ülle Tamm\, Anne Ingver\, ETKI\n11.20 – 12.20           Taliteraviljade sordivõrdluskatsed – Ülla Põldur\, PMK\n12.35 – 13.05           Talirapsi sordivõrdluskatsed – Eve Siro\, PMK\n13.15 – 13.45           Seemnete sertifitseerimine – Piia Puusepp\, PMA\n13.50 – …                 Arutelu\, kokkuvõte\, lõunasöök \nOsalemine infopäeval on tasuta.\nOsalemisest anda teada hiljemalt 02. juuliks.\nVajalik eelregistreerimine: KLIKI SIIA! \nKasutame teie andmeid ainult vastavuses käesoleva põllupäeva eesmärgile ning teile järgmiste samalaadsete ürituste kohta teadete saatmiseks. \nLisainfo: viljandi(at)pmk.agri.ee või tel. 433 4406 \nEsitluspäev toimub “Teadmussiirde pikaajaline programm taimekasvatuse tegevusvaldkonnas” raames\, toetab Euroopa Maaelu Arengu Põllumajandusfond.
URL:https://www.pikk.ee/sundmus/esitluspaev-pmk-viljandi-katsekeskuses-talirapsi-ja-teraviljade-sordivordluskatsed-agrotehnika-ning-seemnete-sertifitseerimine/
LOCATION:Viljandimaa\, Viljandimaa\, Eesti
CATEGORIES:Taimekasvatus
GEO:58.2821746;25.5752233
END:VEVENT
END:VCALENDAR