BEGIN:VCALENDAR
VERSION:2.0
PRODID:-//PIKK.ee - ECPv6.13.2.1//NONSGML v1.0//EN
CALSCALE:GREGORIAN
METHOD:PUBLISH
X-WR-CALNAME:PIKK.ee
X-ORIGINAL-URL:https://www.pikk.ee
X-WR-CALDESC:Events for PIKK.ee
REFRESH-INTERVAL;VALUE=DURATION:PT1H
X-Robots-Tag:noindex
X-PUBLISHED-TTL:PT1H
BEGIN:VTIMEZONE
TZID:Europe/Tallinn
BEGIN:DAYLIGHT
TZOFFSETFROM:+0200
TZOFFSETTO:+0300
TZNAME:EEST
DTSTART:20180325T010000
END:DAYLIGHT
BEGIN:STANDARD
TZOFFSETFROM:+0300
TZOFFSETTO:+0200
TZNAME:EET
DTSTART:20181028T010000
END:STANDARD
END:VTIMEZONE
BEGIN:VEVENT
DTSTART;VALUE=DATE:20180706
DTEND;VALUE=DATE:20180707
DTSTAMP:20260426T045032
CREATED:20180509T055732Z
LAST-MODIFIED:20180709T134149Z
UID:10008903-1530835200-1530921599@www.pikk.ee
SUMMARY:Teraviljasortide ja agrotehnika esitluspäev mahetootjatele
DESCRIPTION:Teraviljasortide ja agrotehnika esitluspäevad\nEesti Taimekasvatuse Instituudis 6. juulil ja 12. juulil 2018 \nPäevakava \n09.30-09.50    Kogunemine ETKI peahoones\, tervituskohv \n10.00-10.15    Põldoa sortide tutvustus maheviljeluses (Lea Narits) \n10.15-10.35    Suvinisu sordid maheviljeluses (Anne Ingver) \n10.35-10.55    Suvinisu ja kaera katsed leheväetistega (Margus Ess\, Ilmar Tamm\, Anne Ingver ) \n10.55-11.15    Kaera sordid maheviljeluses (Ilmar Tamm) \n11.15-11.35    Odra sordid maheviljeluses (Ülle Tamm) \n11.35-11.55    Talinisu ja -spelta sortide tutvustus (Reine Koppel) \n11.55-12.15    Talirukki sortide tutvustus (Ilme Tupits) \n12.15-12.30    Talirüpsi sordid ja perspektiivsed aretised maheviljeluses (Lea Narits) \n12.30-12.45    Puhkepaus \n12.45-13.00    Aedherne sordid maheviljeluses (Ingrid Bender) \n13.00-13.20    Kartuli sordid maheviljeluses (Terje Tähtjärv ) \n13.20-13.35    Vahekultuuride segude mahekatse tutvustus (Margus Ess\, Merili Toom) \n13.35-13.55    Suvinisu\, kaera ja põldoa katsed mahemineraalide ja seemnetöötlusega (Margus Ess\, Ilmar Tamm) \n13.55-14.15    Biopreparaatide ja -söe kasutamine talirüpsi kasvatamisel maheviljeluses \n(Lea Narits) \n14.15-14.45  Biopreparaatide kasutamine suviteraviljade kasvatamisel maheviljeluses (Tiia Kangor) \n14.45- 15.15    Arutelu ja lõuna \n  \nPõldkatsed ja tehtud tööd \n12. juuli registreerimine lõppeb 10. juulil. 12. juuli üritusele saab registreerida: https://goo.gl/forms/6jHNiqg37zIwBSsl1 \nLisainfo:\nIlmar Tamm\, ilmar.tamm@etki.ee\ntel: 53472119 \nEsitluspäev läheb arvesse mahepõllumajandusliku tootmise toetuse saamise kohustusliku koolitusena (6 tundi). \nEsitluspäev toimub “Teadmussiirde pikaajaline programm mahepõllumajanduse tegevusvaldkonnas” raames\, toetab Euroopa Liit.
URL:https://www.pikk.ee/sundmus/teraviljasortide-ja-agrotehnika-esitluspaev-mahetootjatele-5/
LOCATION:Jõgevamaa\, Jõgevamaa\, Eesti
CATEGORIES:Taimekasvatus
END:VEVENT
END:VCALENDAR