BEGIN:VCALENDAR
VERSION:2.0
PRODID:-//PIKK.ee - ECPv6.13.2.1//NONSGML v1.0//EN
CALSCALE:GREGORIAN
METHOD:PUBLISH
X-WR-CALNAME:PIKK.ee
X-ORIGINAL-URL:https://www.pikk.ee
X-WR-CALDESC:Events for PIKK.ee
REFRESH-INTERVAL;VALUE=DURATION:PT1H
X-Robots-Tag:noindex
X-PUBLISHED-TTL:PT1H
BEGIN:VTIMEZONE
TZID:Europe/Tallinn
BEGIN:DAYLIGHT
TZOFFSETFROM:+0200
TZOFFSETTO:+0300
TZNAME:EEST
DTSTART:20180325T010000
END:DAYLIGHT
BEGIN:STANDARD
TZOFFSETFROM:+0300
TZOFFSETTO:+0200
TZNAME:EET
DTSTART:20181028T010000
END:STANDARD
END:VTIMEZONE
BEGIN:VEVENT
DTSTART;VALUE=DATE:20180710
DTEND;VALUE=DATE:20180713
DTSTAMP:20260420T173208
CREATED:20180623T063008Z
LAST-MODIFIED:20180623T063008Z
UID:10008944-1531180800-1531439999@www.pikk.ee
SUMMARY:Hiiumaa ettevõtete külastused
DESCRIPTION:OÜ Merelika korraldab 10 juuli-12 juuli Hiiumaa ettevõtete külastused. \nEttevõte külastused  on toetatud  teadmussiirde ja teavituse toetuse  raames. \nGrupp on täitunud. \nRohkem infot \nLiia Lust e-mail: liia@kamari.ee \n5235115 \n 
URL:https://www.pikk.ee/sundmus/hiiumaa-ettevotete-kulastused/
LOCATION:Hiiumaa\, Hiiumaa\, Eesti
CATEGORIES:Maaettevõtlus
ORGANIZER;CN="O%C3%9C Merelika":MAILTO:liia@kamari.ee
END:VEVENT
BEGIN:VEVENT
DTSTART;VALUE=DATE:20180712
DTEND;VALUE=DATE:20180713
DTSTAMP:20260420T173208
CREATED:20180427T105229Z
LAST-MODIFIED:20180703T062255Z
UID:10007007-1531353600-1531439999@www.pikk.ee
SUMMARY:RAPOOLI PÕLLUPÄEV PMK Viljandi katsekeskuses
DESCRIPTION:Ootame Sind neljapäeval\, 12. juulil RAPOOLI sorte tutvustavale põllupäevale Viljandi katsekeskuses! \nPäevakava:\nKogunemine ja hommikukohv kell 09.30-10.00\nPõlluekskursioonide algus kell 10.00. Põlluekskursioone viivad läbi Viljandi Katsekeskuse peaagronoomid Ülla Põldur ja Evo Siro\, ning RAPOOL RING’i eksperdid Viktor Svib ja Andrea Richter. Tõlge eesti keelde. \n\n RAPOOLI talirapsi demokatse\, 22 erinevat sorti\nRAPOOLI tali- ja suviteraviljade demokatse\nRAPOOLI põldoa ja herne demokatse\nTaliteraviljade ja rapsi majanduskatse tutvustus\n13.00 Põllupäeva lõpp koos lõunaga.\n\n  \nViljandi katsekeskus: Matapera 71065 Viljandimaa Eesti\nviljandi@pmk.agri.ee\nTel: +372 43 34406 (E-R 08:00-16.30) Asukoha koordinaadid: 58°19’33.5″N 25°33’17.8″E\nLisainfo:\nAndres Sokk\, tel +372 58 379 304 a.sokk@rapool.com \n  \nVajalik eelregistreerimine! Registreeri ennast SIIN \nViljandi katsekeskus paikneb Viljandi maakonnas\, Matapera külas. https://goo.gl/maps/7vGBCNwvHLt”\nKatsekeskus asub ca 6 km. kaugusel Viljandi linnast\, Viljandi – Heimtali mnt. ääres\, Raudna jõe lähistel.
URL:https://www.pikk.ee/sundmus/viljandi-katsekeskuse-pollupaev-sordivordluskatsed-ja-taimekaitse/
LOCATION:Viljandimaa\, Viljandimaa\, Eesti
GEO:58.2821746;25.5752233
END:VEVENT
BEGIN:VEVENT
DTSTART;VALUE=DATE:20180712
DTEND;VALUE=DATE:20180713
DTSTAMP:20260420T173208
CREATED:20180509T055849Z
LAST-MODIFIED:20180629T104215Z
UID:10008904-1531353600-1531439999@www.pikk.ee
SUMMARY:Teraviljasortide ja agrotehnika esitluspäev mahetootjatele
DESCRIPTION:Teraviljasortide ja agrotehnika esitluspäevad\nEesti Taimekasvatuse Instituudis 6. juulil ja 12. juulil 2018 \nPäevakava: \n09.30-09.50    Kogunemine ETKI peahoones\, tervituskohv \n10.00-10.15    Põldoa sortide tutvustus maheviljeluses (Lea Narits) \n10.15-10.35    Suvinisu sordid maheviljeluses (Anne Ingver) \n10.35-10.55    Suvinisu ja kaera katsed leheväetistega (Margus Ess\, Ilmar Tamm\, Anne Ingver ) \n10.55-11.15    Kaera sordid maheviljeluses (Ilmar Tamm) \n11.15-11.35    Odra sordid maheviljeluses (Ülle Tamm) \n11.35-11.55    Talinisu ja -spelta sortide tutvustus (Reine Koppel) \n11.55-12.15    Talirukki sortide tutvustus (Ilme Tupits) \n12.15-12.30    Talirüpsi sordid ja perspektiivsed aretised maheviljeluses (Lea Narits) \n12.30-12.45    Puhkepaus \n12.45-13.00    Aedherne sordid maheviljeluses (Ingrid Bender) \n13.00-13.20    Kartuli sordid maheviljeluses (Terje Tähtjärv ) \n13.20-13.35    Vahekultuuride segude mahekatse tutvustus (Margus Ess\, Merili Toom) \n13.35-13.55    Suvinisu\, kaera ja põldoa katsed mahemineraalide ja seemnetöötlusega (Margus Ess\, Ilmar Tamm) \n13.55-14.15    Biopreparaatide ja -söe kasutamine talirüpsi kasvatamisel maheviljeluses \n(Lea Narits) \n14.15-14.45  Biopreparaatide kasutamine suviteraviljade kasvatamisel maheviljeluses (Tiia Kangor) \n14.45- 15.15    Arutelu ja lõuna \n  \nÜritus vajab eelregistreerimist: https://goo.gl/forms/6jHNiqg37zIwBSsl1 \n6. JUULI GRUPP ON TÄITUNUD! \n12. juuli registreerimine lõppeb 10. juulil \nLisainfo:\nIlmar Tamm\, ilmar.tamm@etki.ee\ntel: 53472119 \nEsitluspäev läheb arvesse mahepõllumajandusliku tootmise toetuse saamise kohustusliku koolitusena (6 tundi). \nEsitluspäev toimub “Teadmussiirde pikaajaline programm mahepõllumajanduse tegevusvaldkonnas” raames\, toetab Euroopa Liit.
URL:https://www.pikk.ee/sundmus/teraviljasortide-ja-agrotehnika-esitluspaev-mahetootjatele-6/
LOCATION:Jõgevamaa\, Jõgevamaa\, Eesti
CATEGORIES:Taimekasvatus
END:VEVENT
BEGIN:VEVENT
DTSTART;VALUE=DATE:20180712
DTEND;VALUE=DATE:20180713
DTSTAMP:20260420T173208
CREATED:20180621T092302Z
LAST-MODIFIED:20180720T074756Z
UID:10008940-1531353600-1531439999@www.pikk.ee
SUMMARY:Infopäev sõstra sortidest
DESCRIPTION:Eesti Maaülikool korraldab 12. juulil\, Karukäpa talus\, Kilksama\, Pärnumaal infopäeva\, kus tutvustatakse sõstra sorte.\nInfopäev toimub Aianduse teadmussiirde pikaajalise programmi raames. \nAeg: 12. juuli 2018\, kell 10-15.30\nAsukoht: Karukäpa talu\, Kilksama\, Pärnumaa  https://goo.gl/maps/gGs6JLB6uY82 \nPäevakava\n10.00 – 10.20 Karukäpa talu tegevustest– Reet Karukäpp\n10.20 – 11.45 Sõstrasortide tutvustamine – Asta-Virve Libek\, Reet Karukäpp\, Ave Kikas\n11.45 – 12.30 Musta sõstra kasvatus-ja koristustehnoloogiad ning taimekaitse – Kersti Kahu\, Reet Karukäpp\n12.30 – 13.00 Energiapaus\n13.00 – 13.30 Sordipõhisest toorainest tooteni – Ave Kikas\, Reet Karukäpp\n13.30 – 15.00 Aiandusklastri musta sõstra uuringutest. 6 rahvusvahelise musta sõstra konverentsi materjalide tutvustus – Hedi Kaldmäe\, Kersti Kahu\nAiandusklaster -Hedi Kaldmäe\n15.00 – 15.30 Arutelu \nInfopäeval osalemine on tasuta. Osalemiseks on kindlasti vajalik registreerimine hiljemalt 9. juuliks.  https://goo.gl/TWAQ2o \nKohtade arv on piiratud\, registreerumine lõpetatakse kohtade täitumisel.\nLisainfo: Kersti Kahu\, Eesti Maaülikool\, Polli Aiandusuuringute keskus\ne-post: kersti.kahu@emu.ee\nTel: 53474802 \nInfopäev toimub “Teadmussiirde pikaajaline programm aianduse tegevusvaldkonnas ” raames\, toetab Euroopa Liit.
URL:https://www.pikk.ee/sundmus/infopaev-sostra-sortidest/
LOCATION:Pärnumaa\, Pärnumaa\, Eesti
CATEGORIES:Aiandus
END:VEVENT
END:VCALENDAR