BEGIN:VCALENDAR
VERSION:2.0
PRODID:-//PIKK.ee - ECPv6.13.2.1//NONSGML v1.0//EN
CALSCALE:GREGORIAN
METHOD:PUBLISH
X-WR-CALNAME:PIKK.ee
X-ORIGINAL-URL:https://www.pikk.ee
X-WR-CALDESC:Events for PIKK.ee
REFRESH-INTERVAL;VALUE=DURATION:PT1H
X-Robots-Tag:noindex
X-PUBLISHED-TTL:PT1H
BEGIN:VTIMEZONE
TZID:Europe/Tallinn
BEGIN:DAYLIGHT
TZOFFSETFROM:+0200
TZOFFSETTO:+0300
TZNAME:EEST
DTSTART:20180325T010000
END:DAYLIGHT
BEGIN:STANDARD
TZOFFSETFROM:+0300
TZOFFSETTO:+0200
TZNAME:EET
DTSTART:20181028T010000
END:STANDARD
END:VTIMEZONE
BEGIN:VEVENT
DTSTART;VALUE=DATE:20180804
DTEND;VALUE=DATE:20180806
DTSTAMP:20260421T130319
CREATED:20180724T141135Z
LAST-MODIFIED:20180724T141716Z
UID:10008960-1533340800-1533513599@www.pikk.ee
SUMMARY:Avatud külaväravad Jõgevamaal
DESCRIPTION:ning 5. augustil avavad 11 Jõgevamaa tegusat küla oma väravad\, tutvustamaks oma tegemisi ja jagada külaliste \, oma küla endiste ja praeguste elanikega maal elamise  võlusid ja valusid. Meil on Jõgevamaal tugevad kogukonnad\, kes panustavad piirkonnas elu hoidmisele oma külades. Mark Twaini  parafraseerides „ Kuuldused külade väljasuremisest on ennatlikud“\n\nKõik osalevad külad on erilised ja erinevad\, mistõttu ei saa öelda\, et kui oled ühte näinud\, siis oled juba kursis külade tegemistega. \nIgas külas on ka omanäolised ja  erinevad kogukonna liigutajad \,  omavahel seob neid soov ja tahe ühiselt tegutseda kodukoha paremaks muutmisel. \nKahel augustikuu päeval ootab külastajaid ees palju põnevat: Kamaris\, Lustiveres \, Pajusis\, Sadukülas\, Kuristal\, Luual\, Sadalas\, Hallikul\, Assikveres ja Kasepääl. On võimalus osaleda õpitubades\,  osa saada  ekskursioonidest\, enamikes külades lõpeb päev simmaniga. \nTulge ja saage osa Jõgevamaa külade tegemistest\, muredest a  rõõmudest! \nLeidke osalevate külade hulgast omale meelepäraseim ja tulge külla! \nInfo \nLiia Lust 5235115 \nliia@kamari.ee
URL:https://www.pikk.ee/sundmus/avatud-kulavaravad-jogevamaal/
LOCATION:Jõgevamaa\, Jõgevamaa\, Eesti
ORGANIZER;CN="J%C3%B5gevamaa Kodukandi %C3%9Chendus":MAILTO:liia@kamari.ee
END:VEVENT
END:VCALENDAR