BEGIN:VCALENDAR
VERSION:2.0
PRODID:-//PIKK.ee - ECPv6.13.2.1//NONSGML v1.0//EN
CALSCALE:GREGORIAN
METHOD:PUBLISH
X-ORIGINAL-URL:https://www.pikk.ee
X-WR-CALDESC:Events for PIKK.ee
REFRESH-INTERVAL;VALUE=DURATION:PT1H
X-Robots-Tag:noindex
X-PUBLISHED-TTL:PT1H
BEGIN:VTIMEZONE
TZID:Europe/Tallinn
BEGIN:DAYLIGHT
TZOFFSETFROM:+0200
TZOFFSETTO:+0300
TZNAME:EEST
DTSTART:20180325T010000
END:DAYLIGHT
BEGIN:STANDARD
TZOFFSETFROM:+0300
TZOFFSETTO:+0200
TZNAME:EET
DTSTART:20181028T010000
END:STANDARD
END:VTIMEZONE
BEGIN:VEVENT
DTSTART;VALUE=DATE:20180830
DTEND;VALUE=DATE:20180901
DTSTAMP:20260425T150830
CREATED:20180424T072426Z
LAST-MODIFIED:20180522T134436Z
UID:10008896-1535587200-1535759999@www.pikk.ee
SUMMARY:Jätkukoolitus “Täienduskoolitus veebilehe kujundamisest toiduainete töötlemise või põllumajanduse väikeettevõtetele“
DESCRIPTION:Olustvere Teenindus- ja Maamajanduskool korraldab  meede 1.1 raames koolituse “Täienduskoolitus veebilehe kujundamisest toiduainete töötlemise või põllumajanduse väikeettevõtetele“\, 48 tundi (viitenumber 611017490237). \nKoolituse uued toimumisajad on:\n15.august ja 16.august kell 9.30 – 16.30 ning 22.august ja 23.august ning 30.august ja 31.august kella 9.00 – 16.00 aadressil Müüri 4\, Olustvere\, Viljandi mk. \n  \n30.august \n 9.00 – 10.30  Kaasaegse kodulehe kujundamine. Filmine ja  video töötlemine veebis. Helifaili loomine veebivahendiga (Vocaroo). Fotograafia põhitõdedega tutvumine. Toote jäädvustamine. Esemete ja tekstiilide pildistamine\, foto kompositsioon sõltuvalt eesmärgist; loomulik ja kunstlik valgus\, lisavalguse seadmine koduste vahenditega\, taustad. Fotode töötlemine vabavaraliste programmidega. Koolitajad Sandra Urvak ja Virgo Õitspuu \n10.30 – 10. 45 Kohvipaus \n10.45 – 12.15 Kaasaegse kodulehe kujundamine. Filmine ja  video töötlemine veebis. Helifaili loomine veebivahendiga (Vocaroo). Fotograafia põhitõdedega tutvumine. Toote jäädvustamine. Esemete ja tekstiilide pildistamine\, foto kompositsioon sõltuvalt eesmärgist; loomulik ja kunstlik valgus\, lisavalguse seadmine koduste vahenditega\, taustad. Fotode töötlemine vabavaraliste programmidega. Koolitajad Sandra Urvak ja Virgo Õitspuu \n12.15 – 12.45 Lõuna \n12.45 – 14.15 Kaasaegse kodulehe kujundamine. Filmine ja  video töötlemine veebis. Helifaili loomine veebivahendiga (Vocaroo). Fotograafia põhitõdedega tutvumine. Toote jäädvustamine. Esemete ja tekstiilide pildistamine\, foto kompositsioon sõltuvalt eesmärgist; loomulik ja kunstlik valgus\, lisavalguse seadmine koduste vahenditega\, taustad. Fotode töötlemine vabavaraliste programmidega. Koolitajad Sandra Urvak ja Virgo Õitspuu \n14.15 – 14.30 Kohvipaus \n14.40 – 16.00 Kaasaegse kodulehe kujundamine. Filmine ja  video töötlemine veebis. Helifaili loomine veebivahendiga (Vocaroo). Fotograafia põhitõdedega tutvumine. Toote jäädvustamine. Esemete ja tekstiilide pildistamine\, foto kompositsioon sõltuvalt eesmärgist; loomulik ja kunstlik valgus\, lisavalguse seadmine koduste vahenditega\, taustad. Fotode töötlemine vabavaraliste programmidega. Koolitajad Sandra Urvak ja Virgo Õitspuu \n  \n31.august \n9.00 – 10.30  Kaasaegse kodulehe kujundamine. Filmine ja  video töötlemine veebis. Helifaili loomine veebivahendiga (Vocaroo). Fotograafia põhitõdedega tutvumine. Toote jäädvustamine. Esemete ja tekstiilide pildistamine\, foto kompositsioon sõltuvalt eesmärgist; loomulik ja kunstlik valgus\, lisavalguse seadmine koduste vahenditega\, taustad. Fotode töötlemine vabavaraliste programmidega. Koolitajad Sandra Urvak ja Virgo Õitspuu \n10.30 – 10. 45 Kohvipaus \n10.45 – 12.15 Kaasaegse kodulehe kujundamine. Filmine ja  video töötlemine veebis. Helifaili loomine veebivahendiga (Vocaroo). Fotograafia põhitõdedega tutvumine. Toote jäädvustamine. Esemete ja tekstiilide pildistamine\, foto kompositsioon sõltuvalt eesmärgist; loomulik ja kunstlik valgus\, lisavalguse seadmine koduste vahenditega\, taustad. Fotode töötlemine vabavaraliste programmidega. Koolitajad Sandra Urvak ja Virgo Õitspuu \n12.15 – 12.45 Lõuna \n12.45 – 14.15 Kaasaegse kodulehe kujundamine. Filmine ja  video töötlemine veebis. Helifaili loomine veebivahendiga (Vocaroo). Fotograafia põhitõdedega tutvumine. Toote jäädvustamine. Esemete ja tekstiilide pildistamine\, foto kompositsioon sõltuvalt eesmärgist; loomulik ja kunstlik valgus\, lisavalguse seadmine koduste vahenditega\, taustad. Fotode töötlemine vabavaraliste programmidega. Koolitajad Sandra Urvak ja Virgo Õitspuu \n14.15 – 14.30 Kohvipaus \n14.40 – 16.00 Kaasaegse kodulehe kujundamine. Filmine ja  video töötlemine veebis. Helifaili loomine veebivahendiga (Vocaroo). Fotograafia põhitõdedega tutvumine. Toote jäädvustamine. Esemete ja tekstiilide pildistamine\, foto kompositsioon sõltuvalt eesmärgist; loomulik ja kunstlik valgus\, lisavalguse seadmine koduste vahenditega\, taustad. Fotode töötlemine vabavaraliste programmidega. Koolitajad Sandra Urvak ja Virgo Õitspuu \n  \nTäpsem info ja registreerimine koolitus@olustvere.edu.ee või \nhttps://docs.google.com/forms/d/1LW9_oJiMsfZ4FPAYo5NQx4SJae3FhceDL1TrM9mA9ng/edit \n 
URL:https://www.pikk.ee/sundmus/koolitus-taienduskoolitus-veebilehe-kujundamisest-toiduainete-tootlemise-voi-pollumajanduse-vaikeettevotetele-3/
LOCATION:Viljandimaa\, Viljandimaa\, Eesti
CATEGORIES:Turundus
GEO:58.2821746;25.5752233
END:VEVENT
BEGIN:VEVENT
DTSTART;TZID=Europe/Tallinn:20180831T110000
DTEND;TZID=Europe/Tallinn:20180831T163000
DTSTAMP:20260425T150830
CREATED:20180807T040023Z
LAST-MODIFIED:20180807T040023Z
UID:10007066-1535713200-1535733000@www.pikk.ee
SUMMARY:Viinamarjakasvatuse esitluspäev
DESCRIPTION:Eesti Maaülikool korraldab 31. augustil 2018. viinamarjakasvatuse esitluspäeva \nAeg: 31. august 2018 kell 11.00 – 16.30\nKoht: Eesti Maaülikooli Rõhu katsejaam (Õunaaia tee 5\, Rõhu\, Tartumaa\, https://goo.gl/maps/BuEHhDCAzds) ja Murimäe Veinikeldris (Truuta küla\, Otepää vald\, Valgamaa 67302\, https://goo.gl/maps/uWgW6CPTSdU2) \nPäevakava\n10.45 Kogunemine Rõhul\n11.00 -12.30 Viinapuude hooldus kandeealises istandikus (esitlus istandikus) – Kadri Karp\nKliimamuutuste mõju viinamarjakasvatusele. Projekti LIFE AgriAdapt esmaste tulemust tutvustamine – Priit Põldma\, Kadri Karp \n12.30 – 13.30 Lõuna ja sõit Truutale\n14.30 – 16.30 Noore istandiku hooldus (esitlus istandikus) – Janika Ilves\, Kadri Karp\nAiandusklastri innovatsioonitegevuse raames esitatakse ka erinevaid viinamarjasorte. – Kadri Karp\nDiskussioon \nEsitluspäeva viivad läbi Eesti Maaülikooli aianduse professor Kadri Karp ja Janika Ilves firmast Murimäe Veinikelder \nEsitluspäev on tasuta\, osalemiseks on vajalik eelregistreerumine hiljemalt 28. augustiks siin: https://goo.gl/Datp5h \nKohtade arv on piiratud\, registreerumine lõpetatakse kohtade täitumisel. \nLisainfo: Kadri Karp\,\ne-post: Kadri.Karp@emu.ee \nEsitlustegevus toimub “Teadmussiirde pikaajaline programm aianduse tegevusvaldkonnas ” raames\, toetab Euroopa Liit.
URL:https://www.pikk.ee/sundmus/viinamarjakasvatuse-esitluspaev-2/
CATEGORIES:Aiandus
END:VEVENT
END:VCALENDAR