BEGIN:VCALENDAR
VERSION:2.0
PRODID:-//PIKK.ee - ECPv6.13.2.1//NONSGML v1.0//EN
CALSCALE:GREGORIAN
METHOD:PUBLISH
X-WR-CALNAME:PIKK.ee
X-ORIGINAL-URL:https://www.pikk.ee
X-WR-CALDESC:Events for PIKK.ee
REFRESH-INTERVAL;VALUE=DURATION:PT1H
X-Robots-Tag:noindex
X-PUBLISHED-TTL:PT1H
BEGIN:VTIMEZONE
TZID:Europe/Tallinn
BEGIN:DAYLIGHT
TZOFFSETFROM:+0200
TZOFFSETTO:+0300
TZNAME:EEST
DTSTART:20180325T010000
END:DAYLIGHT
BEGIN:STANDARD
TZOFFSETFROM:+0300
TZOFFSETTO:+0200
TZNAME:EET
DTSTART:20181028T010000
END:STANDARD
END:VTIMEZONE
BEGIN:VEVENT
DTSTART;VALUE=DATE:20180911
DTEND;VALUE=DATE:20180912
DTSTAMP:20260423T082316
CREATED:20180905T124303Z
LAST-MODIFIED:20180905T124303Z
UID:10008972-1536624000-1536710399@www.pikk.ee
SUMMARY:Taimekaitse turustajale 10h
DESCRIPTION:Aeg: T\, 11. september 2018\, kell 9.00-18.30 \nKoht: toimub Tartus\, Roheline 14\, Tähtvere vald ( uues Gardest aianduskeskuses).Linnaliini buss nr 6 (peatused kesklinnas Aura veekeskuse juures ja ka vana turu juures) \nKursus  on TASULINE \nLäbiviija: Tiiu Annuk \nOsaleda võivad nii algajad kui ka tunnistuse pikendajad. \nNB! \n\nVajalik eelregistreerimine\, sest kohtade arv on piiratud. Kursusele registreerimine lõpetatakse 5 päeva enne kursuse algust või õppegrupi täitumisel.\nKaasa võtta oma sülearvuti\n\nInfo www.aianduskool.ee/taienduskoolitus või   tel: 796 1549; 5346 1209 või eda.gross@aianduskool.ee
URL:https://www.pikk.ee/sundmus/taimekaitse-turustajale-10h/
LOCATION:Tartumaa\, Eesti
CATEGORIES:Aiandus,Taimekaitse,Taimekasvatus,Turundus
GEO:58.4057128;26.801576
END:VEVENT
END:VCALENDAR