BEGIN:VCALENDAR
VERSION:2.0
PRODID:-//PIKK.ee - ECPv6.13.2.1//NONSGML v1.0//EN
CALSCALE:GREGORIAN
METHOD:PUBLISH
X-WR-CALNAME:PIKK.ee
X-ORIGINAL-URL:https://www.pikk.ee
X-WR-CALDESC:Events for PIKK.ee
REFRESH-INTERVAL;VALUE=DURATION:PT1H
X-Robots-Tag:noindex
X-PUBLISHED-TTL:PT1H
BEGIN:VTIMEZONE
TZID:Europe/Tallinn
BEGIN:DAYLIGHT
TZOFFSETFROM:+0200
TZOFFSETTO:+0300
TZNAME:EEST
DTSTART:20180325T010000
END:DAYLIGHT
BEGIN:STANDARD
TZOFFSETFROM:+0300
TZOFFSETTO:+0200
TZNAME:EET
DTSTART:20181028T010000
END:STANDARD
END:VTIMEZONE
BEGIN:VEVENT
DTSTART;VALUE=DATE:20180914
DTEND;VALUE=DATE:20180915
DTSTAMP:20260420T050248
CREATED:20171231T220000Z
LAST-MODIFIED:20171231T220000Z
UID:10006910-1536883200-1536969599@www.pikk.ee
SUMMARY:Eesti Künnimeistrivõistlused 2018
DESCRIPTION:  \n\nEesti Künnimeistrivõistlused 2018\nTehnika Teeviit 2018 \n  \n14.-15.09.2018 Kehtnas \n  \nKorraldajad: Eesti Künniselts\, Kaspar Järvala Künniklubi\, Kehtna vald\, Kehtna Kutsehariduskeskus \n  \n 
URL:https://www.pikk.ee/sundmus/eesti-kunnimeistrivoistlused-2018/
LOCATION:Muu\, Eesti
CATEGORIES:Keskkond,Taimekaitse,Taimekasvatus
GEO:58.595272;25.0136071
END:VEVENT
BEGIN:VEVENT
DTSTART;VALUE=DATE:20180914
DTEND;VALUE=DATE:20180915
DTSTAMP:20260420T050248
CREATED:20180831T122747Z
LAST-MODIFIED:20181008T060717Z
UID:10008966-1536883200-1536969599@www.pikk.ee
SUMMARY:Esitluspäev: Mullaproovide võtmine täppisviljeluse rakendamisel
DESCRIPTION:Esitlusel vaatame millistest andmetest saab lähtuda mullaproovide võtmisel täppisviljeluse rakendamisel. Vaatame digitaalseid võimalusi proovialade joonistamisel ja võtame üheskoos põldudelt mullaproovid. \nEsitlus toimub TORMA POÜ põllul aadressiga: Päevaaru\, Vanamõisa küla\, Jõgeva vald\, Jõgeva maakond (Torma Vanamõisa kalmistu kõrval). \nPäevakava\n9:30 – 10:00 Erinevad andmekihid mullaproovialade planeerimiseks. \n10:00 – 10:30 Digitaalsed võimalused proovialade planeerimisel. \n10:30 – 13:00 Mullaproovide kogumise metoodika ja praktika põldudel. \n13:00 Einepaus. \nLektorid: Toomas Tõrra ja Jaanus Kilgi \nNäidispõllud ja asukohaskeemid \nInfopäeval osalemiseks palume eelnevalt registreeruda: https://goo.gl/forms/iqTX5TEoYGgDYVJr1 \nTäiendav info tel: 501 8038 (Toomas Tõrra) \nEsitlus on osalejatele tasuta. \nEsitlus toimub “Teadmussiirde pikaajaline programm taimekasvatuse tegevusvaldkonnas” raames\, toetab Euroopa Maaelu Arengu Põllumajandusfond.
URL:https://www.pikk.ee/sundmus/esitluspaev-mullaproovide-votmine-tappisviljeluse-rakendamisel/
LOCATION:Jõgevamaa\, Jõgevamaa\, Eesti
CATEGORIES:Taimekasvatus
END:VEVENT
END:VCALENDAR