BEGIN:VCALENDAR
VERSION:2.0
PRODID:-//PIKK.ee - ECPv6.13.2.1//NONSGML v1.0//EN
CALSCALE:GREGORIAN
METHOD:PUBLISH
X-ORIGINAL-URL:https://www.pikk.ee
X-WR-CALDESC:Events for PIKK.ee
REFRESH-INTERVAL;VALUE=DURATION:PT1H
X-Robots-Tag:noindex
X-PUBLISHED-TTL:PT1H
BEGIN:VTIMEZONE
TZID:Europe/Tallinn
BEGIN:DAYLIGHT
TZOFFSETFROM:+0200
TZOFFSETTO:+0300
TZNAME:EEST
DTSTART:20180325T010000
END:DAYLIGHT
BEGIN:STANDARD
TZOFFSETFROM:+0300
TZOFFSETTO:+0200
TZNAME:EET
DTSTART:20181028T010000
END:STANDARD
END:VTIMEZONE
BEGIN:VEVENT
DTSTART;VALUE=DATE:20181022
DTEND;VALUE=DATE:20181023
DTSTAMP:20260423T161533
CREATED:20181008T093300Z
LAST-MODIFIED:20181025T095233Z
UID:10009003-1540166400-1540252799@www.pikk.ee
SUMMARY:Infopäev „Linnukasvatus väikemajapidamises\, bioturvalisus ja karja tervis“
DESCRIPTION:Infopäev teemal „Linnukasvatus väikemajapidamises\, bioturvalisus ja karja tervis“ toimub   22. oktoobril 2018 Lääne-Virumaa Keskraamatukogu 4. korruse konverentsisaalis aadressil Lai 7 Rakvere Lääne-Virumaa 44308. \nInfopäeva lektor Janek Prits\, kes on  Foodest Baltic OÜ ja Estfarm OÜ juht\, Eesti Linnukasvatajate Selts’i juhatuse liige. Tegeleb linnukasvatusega\, omab erinevate linnuliikide- ja tõugude kollektsiooni. Estfarm OÜ on EMÜ teadus- ja õppebaas ning ainus eesti vuti aretusfarm Eestis.  Omab põllumajandustootja 4 ja 5 taseme kutset linnukasvatuse alal. Omab Veterinaar- ja Toiduameti poolt väljastatud kodulindude\, jäneseliste\, veiste\, sigade\, lammaste tapatoimingute teostaja pädevustunnistust. \nAjakava \n15.00-15.30  Kogunemine \n15.30-18.30 Ettekanne \n18.30-19.00 Küsimused ja arutelu \nInfopäev on osavõtjatele tasuta. \nVajalik eelregistreerimine\, avatud kuni 18.oktoobrini 2018. Registreeri https://goo.gl/forms/3Q1PwFRGWVj23ogZ2 \nInfopäeva ettekanne: Linnukasvatus_väikemajapidamises_Janek_Prits_ettekanne \nLisainfo: \nAngelika Nöps\nAngelika.nops[at]pikk.ee\ntel. 5308 9961 \nKorraldaja Maaelu Edendamise Sihtasutus \nInfopäev toimub MAK 2014-2020 meetme „Teadmussiirde pikaajaline programm loomakasvatuse tegevusvaldkonnas II “ raames ja on sihtgrupile tasuta.
URL:https://www.pikk.ee/sundmus/infopaev-linnukasvatus-vaikemajapidamises-bioturvalisus-ja-karja-tervis-2/
LOCATION:Lääne-Virumaa\, Lääne-Virumaa\, Eesti
CATEGORIES:Keskkond,Loomakasvatus,Muu
ORGANIZER;CN="Maaelu Edendamise Sihtasutus":MAILTO:angelika.nops@pikk.ee
END:VEVENT
BEGIN:VEVENT
DTSTART;TZID=Europe/Tallinn:20181022T110000
DTEND;TZID=Europe/Tallinn:20181022T150000
DTSTAMP:20260423T161533
CREATED:20181009T112006Z
LAST-MODIFIED:20181009T112006Z
UID:10009009-1540206000-1540220400@www.pikk.ee
SUMMARY:Mustikakasvatuse esitluspäev
DESCRIPTION:Eesti Maaülikooli korraldab MUSTIKAKASVATUSE ESITLUSPÄEVA 22. oktoobril. \nEesmärgiks on tutvustada noores mineraalmullale rajatud mustikaistandikus erinevaid tehnoloogilisi võtteid. \nAeg: 22. oktoober 2018 kell 11.00 – 15.00 \nKoht: Eesti Maaülikooli Rõhu katsejaamas\, Õunaaia tee 5\, Rõhu küla\, Tartumaa\, 58°21’27.8″N 26°31’21.1″E; https://goo.gl/maps/BuEHhDCAzds). \nPäevakava\n10:45 Kogunemine\n11:00 Erinevad kastmisviisid ja multšid mineraalmullale rajatud mustikaistandikus. – Marge Starast\, Eesti Maaülikool\, aianduse õppetool.\n12:00 Mustika kastmisväetamisest. – Ene Kiudsoo\, Baltic Agro profiaiandustoodete tootejuht\n13:30 Kosutame keha\n14:00- 15.00 Mustikate kasvutingimuste hindamine ja kastmissüsteemid mineraalmullale rajatud mustikaistandikus. – Marge Starast\, EMÜ aianduse õppetool\, Karli Koltšin\, EMÜ Rõhu katsejaam. \nEsitluspäeval saab näha eelmisel aastal EMÜ Rõhu katsejaama\, mineraalmullale rajatud mustikaistandikku\, kus on esitletud erinevaid sorte (poolkõrge mustikas ’Nordblue’ ja kännasmustikas ’Draper’)\, kastmisviise (imbkastmine ja mikrovihmutamine) ning multšidest peenravaip ja okaspuu koorepuru. Kuulda saab mustikate kastmisväetamise eripäradest. Tutvustatakse uusimaid väetisi\, sealhulgas maheviljelusse lubatud tooteid. Tutvustatakse aparatuuri\, millega hinnata kastmise\, väetamise vajadust aedmustikate tootmisistandikus. \nEsitluspäev on tasuta\, osalemiseks on vajalik eelregistreerumine hiljemalt 19.10.2018 siin: https://goo.gl/YRe5b1 \nKohtade arv on piiratud\, registreerumine lõpetatakse kohtade täitumisel. \nLisainfo:\nMarge Starast\nEesti Maaülikool\, aianduse õppetool\ne-post: marge.starast@emu.ee \nEsitlustegevus toimub “Teadmussiirde pikaajaline programm aianduse tegevusvaldkonnas ” raames\, toetab Euroopa Liit.
URL:https://www.pikk.ee/sundmus/mustikakasvatuse-esitluspaev-2/
LOCATION:Tartumaa\, Eesti
CATEGORIES:Aiandus
GEO:58.4057128;26.801576
END:VEVENT
END:VCALENDAR