BEGIN:VCALENDAR
VERSION:2.0
PRODID:-//PIKK.ee - ECPv6.13.2.1//NONSGML v1.0//EN
CALSCALE:GREGORIAN
METHOD:PUBLISH
X-WR-CALNAME:PIKK.ee
X-ORIGINAL-URL:https://www.pikk.ee
X-WR-CALDESC:Events for PIKK.ee
REFRESH-INTERVAL;VALUE=DURATION:PT1H
X-Robots-Tag:noindex
X-PUBLISHED-TTL:PT1H
BEGIN:VTIMEZONE
TZID:Europe/Tallinn
BEGIN:DAYLIGHT
TZOFFSETFROM:+0200
TZOFFSETTO:+0300
TZNAME:EEST
DTSTART:20180325T010000
END:DAYLIGHT
BEGIN:STANDARD
TZOFFSETFROM:+0300
TZOFFSETTO:+0200
TZNAME:EET
DTSTART:20181028T010000
END:STANDARD
END:VTIMEZONE
BEGIN:VEVENT
DTSTART;VALUE=DATE:20181106
DTEND;VALUE=DATE:20181107
DTSTAMP:20260419T174841
CREATED:20171231T220000Z
LAST-MODIFIED:20181109T095218Z
UID:10008810-1541462400-1541548799@www.pikk.ee
SUMMARY:EPKK lihafoorum 2018
DESCRIPTION:EPKK Lihafoorum \nModeraator: Marko Kass \n  \nPÄEVAKAVA  \n  \n09:30 – 10:00     Registreerumine ja tervituskohv \n10:00 – 10:10     Foorumi avamine – Anu Hellenurme\, EPKK nõukogu liige\, lihatoimkonna juhataja \nI Sessioon          Lihasektori konkurentsivõime \n10:10 – 10:30     Lihasektori tarneahela üldine toimimine – Kristel Maidre\, Maaeluministeerium \n10:30 – 11:00     Läänemere riikide lihasektori konkurentsivõime – Csaba Jantsik\, LUKE (Soome loodusressursside jätkusuutliku majandamise ja biomajanduse arendamise keskus) \n11:00 – 11:15     Sektori arengukava tutvustus – Ants-Hannes Viira\, Eesti Maaülikool \n11:15 – 11:45     Lihagiid – Rootsi ja Soome kogemus – Stella Höynälänmaa\, Soome WWF (Maailma Looduse Fond) ja Anna Richert Rootsi WWF (videoesitlus\, vahendab Silja Kana\, Eestimaa Looduse Fond) \n11:45 – 12:00     Küsimused/vastused/arutelu \n12:00 – 13:00     LÕUNA \nII Sessioon         Mikroobide antibiootikumiresistentsus – uue ajastu katk  \n13:00 – 13:20     Mikroobide antibiootikumiresistentsuse olemus ja poliitikameetmete raamistik – Martin Minjajev\, Maaeluministeerium \n13:20 – 13:40     Antibiootikumid\, inimene ja loom – Tanel Tenson\, Tartu Ülikool \n13:40 – 14:00     Antibiootikumide kasutamine loomakasvatuses (Eesti näite varal) – Birgit Aasmäe\, Eesti Maaülikool \n14:00 – 14:20     Küsimused/vastused/arutelu \n14:20 – 14:45     KOHVIPAUS \nIII Sessioon        Ulukiliha \n14:45 – 15:10    Eesti ulukitest jahimehe pilgu läbi ja kiskjad meie metsades – Tõnis Korts\, Eesti Jahimeeste Selts \n15:10 – 15:30     Lihatöötlemine ja turustamine – mida pakub ülikool lihakäitlejale – Kristi Kerner\, Eesti Maaülikool \n15:30 – 16:00     Küsimused/vastused/arutelu \nFoorumi kokkuvõte ja lõpetamine \n*Foorumi kava on kinnitamisel   \nloomakasvatuse pikaajalise programmi (PIP) tegevusvaldkonna  \nprogrammi nõukogus  \n  \nOodatud on kõik lihasektori esindajad: põllumehed\, loomakasvatajad\, tööstuste esindajad ja teised sektoriga seotud ettevõtjad ning huvilised. \nFoorumil osalemine on tasuta. \nNB! Lihafoorumil osalemiseks on vajalik eelnev registreerimine\, mida palume teha esimesel võimalusel või kuni 30. oktoobrini SIIN. \nRegistreerimisvormid on avatud ka meie kodulehel www.epkk.ee  ja www.pikk.ee (vt sündmuste kalender). \nOotame rohket osavõttu! \nINFOKS neile\, kes osalevad ka järgmisel päeval toimuval Sealihakonverentsil ja soovivad broneerida ööbimist: \nBroneerimine ainult läbi müügiosakonna\, kasutades parooli Lihafoorum \nTööpäevadel E-R vahemikus kell 09:00 – 17:00\ntelefon +372 326 0005\, +375 326 0014\ne-mail: info@aqvahotels.ee \n  \nNB! Soovijatel on võimalik osa võtta Rakveres Berliini Trahteris korraldatavast õhtusöögist – osalemine inimese kohta 35 eurot. \nLisainfo: EPKK juhatuse liige Tiina Saron\, tiina.saron@epkk.ee\, tel 51 31 535
URL:https://www.pikk.ee/sundmus/epkk-lihafoorum-2018/
LOCATION:Lääne-Virumaa\, Lääne-Virumaa\, Eesti
CATEGORIES:Loomakasvatus
END:VEVENT
BEGIN:VEVENT
DTSTART;VALUE=DATE:20181106
DTEND;VALUE=DATE:20181107
DTSTAMP:20260419T174841
CREATED:20180916T124202Z
LAST-MODIFIED:20181031T150805Z
UID:10007086-1541462400-1541548799@www.pikk.ee
SUMMARY:Tasuta ühistegevuse koolitus: Ühistulise organisatsiooni juhtimisvõimekuse tõstmine
DESCRIPTION:Eesti Maaülikool korraldab “Teadmussiirde pikaajaline programm ühistegevuse tegevusvaldkonnas” raames tasuta koolituse teemal: “Ühistulise organisatsiooni juhtimisvõimekuse tõstmine”. Tegemist on pikaajalise programmiga ja selle raames toimub mitmeid infopäevi\, täienduskoolitusi\, õpiringe\, konverentse ning ettevõtete külastusi nii Eestis kui ka välisriikides. \n06.11.2018 täienduskoolitusest võib osa võtta põllumajandustoodete tootmise\, töötlemise või turustamisega\, põllumajandusmaa hooldamisega\, põllumajandustoodetest mittepõllumajandustoodete töötlemisega\, sealhulgas toidu valmistamise või töötlemisega\, või metsa majandamisega seotud või nimetatud tegevusega tegelev füüsilisest isikust ettevõtja ja tema töötaja\, eraõigusliku juriidilise isiku osanik\, aktsionär\, liige\, juhtorgani liige ja tema töötaja\, metsa majandamisega tegelev füüsiline isik ja toidu valmistamise või töötlemisega tegelev avalik-õiguslik juriidilise isiku juhtorgani liige või töötaja. \nKoolituse tulemusel suurenevad õppija teadmised ühistulise organisatsiooni juhtimisvõimekuse tõstmisest. Eriti ootame osalema toimivate ühistute juhtkonda. Koolitus toimub eestikeelse tõlkega. \n  \n06.11.2018 koolituse ajakava: \n08:45 – 09:00 Registreerimine \n09:00 – 09:30 Osalejate tutvustus ja arutelu \n09:30 – 10:00 Sissejuhatus teemasse \n10:00 – 11:00 Põllumajandusühistute baasteadmised ühistute juhtkonnale \n11:00 – 11:15 Kohvipaus \n11:15 – 12:00 Juhtkonna roll põllumajandusühistutes: kohustused\, vastutus ja õigused \n12:00 – 13:00 Põllumajandusühistute juhtimine ja omandiõigus: juhtkonna vaatenurk \n13:00 – 14:00 Lõunapaus \n14:00 – 15:30 Põllumajandusühistute juhtimine ja juhtkonna-nõukogu ning juhtkonna-liikme suhtlus \n15:30 – 16:30 Organisatsiooni struktuur\, hääletussüsteemid ja ühistu efektiivne juhtimine \n16:30 – 17:00 Arutelu ja teadmised\, mida omandada \n  \nLektoriks on Dr Constantine Iliopoulos\, Ateena Põllumajandus Ülikool ja Põllumajandusökonoomika Uurimisinstituut\, Kreeka. \nKoolituskavaga on võimalik tutvuda järgmisel lingil: koolituskava \nEelregistreerimine toimub kuni 06.10.2018\, osalejate arv on piiratud. Lisainfo saamiseks ja eelregistreerimiseks palume saata e-mail programmi assistendile: liis.volli[A]emu.ee. Eelregistreerimiseks palume osalejatel saata järgnev informatsioon: ettevõtlusvorm ja nimi; ettevõtlusvaldkond; reg. number; osaleja nimi; osaleja ametikoht; osaleja isikukood; osaleja telefoninumber. \nRegistreerimisel esitatud isikuandmed edastatakse Põllumajanduse Registrite ja Informatsiooni Ametile\, kuna ühistegevuse teadmussiirde pikaajalise programmi tegevusi toetatakse Euroopa Maaelu Arengu Põllumajandusfondist. \nNB! Eelregistreerimine on tingimata vajalik! \nLisainformatsioon ja küsimused: liis.volli[A]emu.ee või tel: +372 51 92 9840 (programmi assistent Liis Võlli). \nyhistegevus.emu.ee \nfacebook.com/yhistegevus \ninstagram.com/yhistegevus \nKoolituse korraldamist toetab Euroopa Maaelu Arengu Põllumajandusfond. \nKoostöös teeme paremini!
URL:https://www.pikk.ee/sundmus/tasuta-uhistegevuse-koolitus-uhistulise-organisatsiooni-juhtimisvoimekuse-tostmine/
LOCATION:Tartumaa\, Eesti
CATEGORIES:Aiandus,Bioenergia ja biomajandus,Finantsmajandus,Keskkond,Loomakasvatus,Maaettevõtlus,Metsandus,Taimekaitse,Taimekasvatus,Toiduainete tootmine,Turundus,Ühistegevus
GEO:58.4057128;26.801576
END:VEVENT
BEGIN:VEVENT
DTSTART;VALUE=DATE:20181106
DTEND;VALUE=DATE:20181107
DTSTAMP:20260419T174841
CREATED:20181010T111047Z
LAST-MODIFIED:20181107T135516Z
UID:10009012-1541462400-1541548799@www.pikk.ee
SUMMARY:KESKKONNASÕBRALIKU MAJANDAMISE (KSM) KOHUSTUSLIK ALGKOOLITUS 2018
DESCRIPTION:EESTI MAAELU NÕUANDETEENISTUS  \nkorraldab \nKESKKONNASÕBRALIKU MAJANDAMISE (KSM) TOETUSE KOHUSTUSLIKU ALGKOOLITUSE kahes Eesti piirkonnas: \n\n06. november 2018 Veskisilla hotell\, Türi-Alliku\, Türi Vald\, Järvamaa 72231\n08. November 2018 Tartumaa Põllumeeste liidu saal\, Tartu\, Jalaka 48\, 50109\n\nPäevakava: \n1) Eesti maaelu arengukava ning põllumajanduse keskkonna- ja kliimameetme olemus. \n2) Nõuetele vastavuse süsteem. \n3) Keskkonnasõbraliku majandamise toetuse baasnõuded. \n4) Keskkonnasõbraliku majandamise toetuse toetusõiguslikkuse nõuded. \n5) Keskkonnasõbraliku majandamise toetuse põhitegevuse nõuded: \n\nviljavahelduse või külvikorra planeerimine ja olulisus\, liblikõieliste kasvatamise tähtsus;\nsertifitseeritud seemne kasutamise tähtsus;\ntaimekaitsevahendite keskkonnasõbralik kasutamine (sh glüfosaatide kasutamise ohud\, taimekahjustajate seire);\ntalvise taimkatte tähtsus;\nmullaproovide võtmine ning analüüsitulemuste hilisem kasutamine;\nmitmeaastase taimestikuga rohumaariba ja maastikuelementide tähtsus bioloogilise ja maastikulise mitmekesisuse seisukohast.\n\n6) Keskkonnasõbraliku majandamise toetuse lisategevuste nõuded: \n\nlisategevustega seotud nõuded taotlejale ja toetusõigusliku maa kohta;\ntäiendava veekaitse lisategevuse nõuded;\nmesilaste korjealade rajamise lisategevuse nõuded\, tolmeldajate ja korjealade tähtsus;\npõllulindude soodustamise lisategevuse nõuded.\n\n7) Keskkonnasõbraliku majandamise toetuse kohustusega seonduv (suurendamine\, vähendamine\, üleandmine ja asendamine). \n8) Ülevaade keskkonnasõbraliku majandamise toetusega seotud toetustest (piirkondlik mullakaitse toetus\, keskkonnasõbralik köögivilja-\, ravimtaime- ja maitsetaimekasvatuse ning maasikakasvatuse toetus). \n9) Arutelu\, kokkuvõte \nKoolituse tellija: PÕLLUMAJANDUSUURINGUTE KESKUS \nKoolitust toetab: EUROOPA LIIT \nAlgus kell 10.00- 6 akadeemilist tundi \nInfo: maanouanne@gmail.com või 56 624644\, registreerimine on kohustuslik. \nRegistreerimine KSM ALGKOOLITUSELE on lõppenud.
URL:https://www.pikk.ee/sundmus/keskkonnasobraliku-majandamise-ksm-kohustuslik-algkoolitus-2018/
LOCATION:Järvamaa\, Järvamaa\, Eesti
CATEGORIES:Keskkond,Muu,Taimekasvatus
ORGANIZER;CN="Eesti Maaelu N%C3%B5uandeteenistus MT%C3%9C":MAILTO:maanouanne@gmail.com
GEO:58.8866713;25.5000624
END:VEVENT
BEGIN:VEVENT
DTSTART;VALUE=DATE:20181106
DTEND;VALUE=DATE:20181107
DTSTAMP:20260419T174841
CREATED:20181015T135941Z
LAST-MODIFIED:20181105T093321Z
UID:10007120-1541462400-1541548799@www.pikk.ee
SUMMARY:Veeseaduse muudatused
DESCRIPTION:Tartumaa põllumeeste liit korraldab \n6. novembril 10.00-15.00 Põllumajandusuuringute Keskuses\, Sakus Teaduse 4/6 \n20. novembril 10.00-15.00 Kuremaa lossis \n4. detsembril 10.00-15.00 Viljandis Grand Hotellis \ntasuta infopäeva „Veeseaduse muudatused“. \nPÄEVAKAVA \n\nSõnniku liigid\, sõnnikuhoidla ja sõnniku aunas hoidmise nõuded\, sh sõnnikuhoidla mahutavuse arvutamine.\nVäetamise nõuded ja piirangud\, sh väetamine kaldega\, kaitsmata põhjaveega ja nitraaditundlikel aladel\, sõnnikuga antavad N ja P piirangud\, vedelsõnniku laotusplaani nõude olemus.\nNõuded silo ladustamiskohtadele\, sh silomahla kogumiskaevudele.\nPõlluraamatu pidamise ja väetusplaani koostamise nõuded.\nVeekaitsevöönd: piirangud\, karjatamine veekaitsevööndis.\n\nTimo Kangur – keskkonnaministeeriumi veeosakonna nõunik Veeseadusest põllumehele Timo Kangur \nKarjatamisteatiste esitamine veekaitsevööndis e-keskkonnas. \n\nVedelsõnnikuplaanide e-keskkonna lahenduse tutvustamine.\n\nKatrin Aavik – Keskkonnaameti Põhja regiooni veespetsialist Veeveeb_Katrin_Aavik_2018 \n\nMaakonna veekogude seisund\, seda mõjutavad tegurid\n\nKätlin Juuram – Keskkonnaameti keskkonnaosakonna veepeaspetsialist Veemajanduskavad ja põllumajandus  \n\nKüsimused-vastused\, arutelu.\n\nInfopäeval osalevad küsimuste-vastuste ja arutelu voorus ka keskkonnaameti regiooni spetsialistid\, keskkonnainspektsiooni peainspektor ja EPKK keskkonnavaldkonna juht Ann Riisenberg. \nPalume registreerida klikkides allpool oleval lingil: \nSakus https://goo.gl/forms/ga647RxOvUaWi8MP2 \nKuremaal https://goo.gl/forms/4unPoJRDWiB6DLMR2 \nViljandis https://goo.gl/forms/7V21fp6DvhVHxMpk1. \nRegistreerida saab ka merry@kodu.ee või 736 6955. \nPalume kindlasti registreerida – see on eelkõige vajalik kohvipausi ja lõuna planeerimiseks.
URL:https://www.pikk.ee/sundmus/veeseaduse-muudatused-2/
LOCATION:Harjumaa\, Harjumaa\, Eesti
CATEGORIES:Keskkond
END:VEVENT
BEGIN:VEVENT
DTSTART;TZID=Europe/Tallinn:20181106T093000
DTEND;TZID=Europe/Tallinn:20181106T163000
DTSTAMP:20260419T174841
CREATED:20181024T105626Z
LAST-MODIFIED:20181024T105626Z
UID:10009024-1541496600-1541521800@www.pikk.ee
SUMMARY:Koolitus "IFS nõuetele vastava toiduohtuse juhtimissüsteemi väljaarendamine"
DESCRIPTION:Läbiviija: TJO koolitused \nToimumise koht: Tallinna Teeninduskool (TEKO)\, Majaka 2\, Tallinn \nOsalemine koolitusel on TASUTA\, aga väga oluline on registreerimine!  \nNB! Osaleda saavad ettevõtted\, kelle põhitegevusalaks on põllumajandus\, toidu tootmine või töötlemine (v.a kalatoodete tootmine) \nKoolitusele on võimalik registreerida lingil: \nhttps://goo.gl/forms/OR9DhFHZzeo6c3hK2 \nKoolituse sisu ja eesmärgid: \nKoolitus “IFS nõuetele vastava toiduohtuse juhtimissüsteemi väljaarendamine” \nIFS (International Featured Standard) on toiduainetööstuse ettevõtetele mõeldud toiduohutuse juhtimissüsteemi sertifitseerimise skeem\, mis on praeguseks rahvusvaheliselt tunnustatud ning konkureerib BRC (British Retail Consortium) ja FSSC 22000 (Food Safety System Certification) standarditega. \nKoolituse eesmärgiks on anda osalejatele ülevaade IFS standardi nõuetest ning tutvustada selle juurutamise võimalusi \nTeemad: \n\nMis on IFS standardi nõuete sisu kuidas neid nõudeid tõlgendada organisatsioonile “arusaadavasse keelde”?\nKuidas standardile vastavat juhtimissüsteemi üles ehitada\, millised on siinjuures peamised etapid ja möödapääsmatud ning soovitatavad tegevused?\nMillised on peamised saransused ja erinevused teiste toiduohutuse juhtimissüsteemide standarditega?\nIFS standardi nõuete praktiline tutrvustamine teemade kaupa\n\nKoolituse tulemusena on osalejatel esmased teadmised ja alusmaterjalid\, et alustada IFS standardil põhineva juhtimissüsteemi arendamist oma ettevõttes. \nKoolituse kestvus: 9:30-16:30 \n 
URL:https://www.pikk.ee/sundmus/koolitus-ifs-nouetele-vastava-toiduohtuse-juhtimissusteemi-valjaarendamine/
LOCATION:Harjumaa\, Harjumaa\, Eesti
CATEGORIES:Toiduainete tootmine
END:VEVENT
END:VCALENDAR