BEGIN:VCALENDAR
VERSION:2.0
PRODID:-//PIKK.ee - ECPv6.13.2.1//NONSGML v1.0//EN
CALSCALE:GREGORIAN
METHOD:PUBLISH
X-WR-CALNAME:PIKK.ee
X-ORIGINAL-URL:https://www.pikk.ee
X-WR-CALDESC:Events for PIKK.ee
REFRESH-INTERVAL;VALUE=DURATION:PT1H
X-Robots-Tag:noindex
X-PUBLISHED-TTL:PT1H
BEGIN:VTIMEZONE
TZID:Europe/Tallinn
BEGIN:DAYLIGHT
TZOFFSETFROM:+0200
TZOFFSETTO:+0300
TZNAME:EEST
DTSTART:20180325T010000
END:DAYLIGHT
BEGIN:STANDARD
TZOFFSETFROM:+0300
TZOFFSETTO:+0200
TZNAME:EET
DTSTART:20181028T010000
END:STANDARD
END:VTIMEZONE
BEGIN:VEVENT
DTSTART;VALUE=DATE:20181120
DTEND;VALUE=DATE:20181121
DTSTAMP:20260419T194441
CREATED:20181015T140330Z
LAST-MODIFIED:20181203T141155Z
UID:10007122-1542672000-1542758399@www.pikk.ee
SUMMARY:Veeseaduse muudatused
DESCRIPTION:Tartumaa põllumeeste liit korraldab \n6. novembril 10.00-15.00 Põllumajandusuuringute Keskuses\, Sakus Teaduse 4/6 \n20. novembril 10.00-15.00 Kuremaa lossis \n4. detsembril 10.00-15.00 Viljandis Grand Hotellis \n  \ntasuta infopäeva „Veeseaduse muudatused“. \nPÄEVAKAVA \n\nSõnniku liigid\, sõnnikuhoidla ja sõnniku aunas hoidmise nõuded\, sh sõnnikuhoidla mahutavuse arvutamine.\nVäetamise nõuded ja piirangud\, sh väetamine kaldega\, kaitsmata põhjaveega ja nitraaditundlikel aladel\, sõnnikuga antavad N ja P piirangud\, vedelsõnniku laotusplaani nõude olemus.\nNõuded silo ladustamiskohtadele\, sh silomahla kogumiskaevudele.\nPõlluraamatu pidamise ja väetusplaani koostamise nõuded.\nVeekaitsevöönd: piirangud\, karjatamine veekaitsevööndis.\n\nTimo Kangur – keskkonnaministeeriumi veeosakonna nõunik Veeseadusest põllumehele Timo Kangur \n\nKarjatamisteatiste esitamine veekaitsevööndis e-keskkonnas.\nVedelsõnnikuplaanide e-keskkonna lahenduse tutvustamine.\n\nAnu Holvandus – Keskkonnaameti Lõuna regiooni veespetsialist VeeVEEB_Viljandi_A.Holvandus \n\nMaakonna veekogude seisund\, seda mõjutavad tegurid\n\nMilvi Aun – Keskkonnaameti keskkonnaosakonna vee peaspetsialist Teabepäev_Jõgeva_M.Aun \n\nKüsimused-vastused\, arutelu.\n\nInfopäeval osalevad küsimuste-vastuste ja arutelu voorus ka keskkonnaameti regiooni spetsialistid\, keskkonnainspektsiooni peainspektor ja EPKK keskkonnavaldkonna juht Ann Riisenberg. \nPalume registreerida klikkides all pool oleval lingil: \nSakus https://goo.gl/forms/ga647RxOvUaWi8MP2 \nKuremaal https://goo.gl/forms/4unPoJRDWiB6DLMR2 \nViljandis https://goo.gl/forms/7V21fp6DvhVHxMpk1. \nRegistreerida saab ka merry@kodu.ee või 736 6955. \nPalume kindlasti registreerida – see on eelkõige vajalik kohvipausi ja lõuna planeerimiseks.
URL:https://www.pikk.ee/sundmus/veeseaduse-muudatused-3/
LOCATION:Jõgevamaa\, Jõgevamaa\, Eesti
CATEGORIES:Keskkond
END:VEVENT
BEGIN:VEVENT
DTSTART;VALUE=DATE:20181120
DTEND;VALUE=DATE:20181121
DTSTAMP:20260419T194441
CREATED:20181024T133931Z
LAST-MODIFIED:20181205T063344Z
UID:10009026-1542672000-1542758399@www.pikk.ee
SUMMARY:Täienduskoolitus "Põllumajandusloomade heaolu - lammaste tervishoid "
DESCRIPTION:Koolitus toimub kahel päeval 09. ja 20. november Olustvere Teenindus ja Maamajanduskoolis. Koolituse maht16 ak tundi. \n Ajakava: \nReede 09 november \n9.00 – 9.15       Kogunemine\, registreerimine \n09.15 – 10.45  Loeng. Tervisekontrolli rakendamine \n10.45 – 10.55  Paus \n10.55 – 12.25  Loeng. Sigimist mõjutavad heaolu- ja terviseprobleemid. \nLõuna \n13.00 –  14.30 Praktiline õpe farmis. Tervisekontrolli rakendamine. \n14.30 – 14.40 Paus \n14.40 – 16.10 Praktiline õpe farmis. Haiguste ennetamine läbi optimaalsete pidamistingimuste. \n  \nTeisipäev 20 november \n9.00 – 9.15       Kogunemine\,  registreerimine \n09.15 – 10.45  Loeng. Sisehaiguste tekkepõhjused ja profülaktika \n10.45 – 10.55  Paus \n10.55 – 12:25  Loeng. Sisehaiguste tekkepõhjused ja profülaktika. Parasiiditõrje. \nLõuna \n13.00 –  14.30 Loeng. Mikroobide ja parasiitide resistentsus\, parasiiditõrje. \n14.30 – 14.40 Paus \n14.40 – 16.10 Loeng. Lammaste heaolu karjamaal ja laudas pidamisel. \n  \nLektor Liilia Tali– pikaajaliste kogemustega lambakasvataja\, lambakasvatuskonsulent\, loomaarst. \nETTEKANNE: Väikemäletsejate tervisekontrolli rakendamine_Liilia Tali \nKoolitus kvalifitseerub Eesti maaelu arengukava 2014-2020meetme 14 „loomade heaolu„ kohaseks õppeks\, mille läbimisel on loomade heaolu toetuse taotlejal võimalik taotleda toetust koolituse lisategevuse nõude täitmise eest. Koolituse läbinutele väljastatakse tunnistus.  \n  \nKoolitus on sihtrühmale tasuta. Koolitusest võivad osa võtta põllumajandustoodete tootmise\, töötlemise või turustamisega\, põllumajandusmaa hooldamisega\, põllumajandustoodetest mittepõllumajandustoodete töötlemisega\, sealhulgas toidu valmistamise või töötlemisega\, või metsa majandamisega seotud või nimetatud tegevusega tegelevat füüsilisest isikust ettevõtjat ja tema töötajat\, eraõigusliku juriidilise isiku osanikku\, aktsionäri\, liiget\, juhtorgani liiget ja tema töötajat\, metsa majandamisega tegelevat füüsilist isikut ja toidu valmistamise või töötlemisega tegelevat avalik-õigusliku juriidilise isiku juhtorgani liiget või töötajat. (Teadmussiirde pikaajaliste programmide rakendamise toetus määruse 28.04.2016 nr.46  muutmine. Vastu võetud 24.08.2017 nr 59.RT I\, 30.08.2017\, 1 ) \n  \nRegistreerimine https://docs.google.com/forms/d/1fNNjmbJ-HIMpTnbCWhoCH0dlzrBKkhQiB0NJO1ylcCw \nInfo koolituse koha Marika Oeselg tel 513 6242 marika.oeselg@gmail.com
URL:https://www.pikk.ee/sundmus/taienduskoolitus-pollumajandusloomade-heaolu-lammaste-tervishoid-3/
LOCATION:Viljandimaa\, Viljandimaa\, Eesti
GEO:58.2821746;25.5752233
END:VEVENT
BEGIN:VEVENT
DTSTART;VALUE=DATE:20181120
DTEND;VALUE=DATE:20181121
DTSTAMP:20260419T194441
CREATED:20181104T082850Z
LAST-MODIFIED:20181112T101218Z
UID:10009036-1542672000-1542758399@www.pikk.ee
SUMMARY:Meede 4.1 Investeeringud põllumajandusettevõtete tulemuslikkuse parandamiseks
DESCRIPTION:Tartumaa Põllumeeste Liit korraldab  tasuta infopäevad teemal \n  „Investeeringud põllumajandusettevõtete tulemuslikkuse parandamiseks“ \nInfopäevad algavad kell 10.00  ning kestavad 4 akadeemilist tundi \n  Meede 4.1 raames antava toetuse hindamiskriteeriumid on muutunud. \n  Infopäevad toimuvad: \n13.11.2018     Veskisilla hotellis Türi-Allikul \n20.11.2018    Tartumaa PL õppeklassis\, Tartus Jalaka 48 \nTeemad: \n\nPõllumajandusettevõtete tulemuslikkuse parandamise meetme tutvustus\, muudatused – Harry Pässa (MEM) Meede_4.1_VI_taotlusvoor\n\n\nToetuse taotlemine e-teenuse keskkonnas\, tähelepanekuid kuludokumentide täitmisel –  Niina Türk (PRIA)\n\nPalume eelistada registreerimist www.pikk.ee sündmuste kalendri kaudu. \nVeskisilla hotellis https://goo.gl/forms/fSeCASXVA6zjHRms2 \nTartus https://goo.gl/forms/dQehv8GzNsI93qLM2 \nRegistreeerida on võimalik ka  merry@kodu.ee või 736 6955.
URL:https://www.pikk.ee/sundmus/meede-4-1-investeeringud-pollumajandusettevotete-tulemuslikkuse-parandamiseks-2/
LOCATION:Tartumaa\, Eesti
CATEGORIES:Maaettevõtlus
GEO:58.4057128;26.801576
END:VEVENT
BEGIN:VEVENT
DTSTART;VALUE=DATE:20181120
DTEND;VALUE=DATE:20181121
DTSTAMP:20260419T194441
CREATED:20181109T061923Z
LAST-MODIFIED:20181109T061923Z
UID:10007152-1542672000-1542758399@www.pikk.ee
SUMMARY:Taimekasvatuse tudengite Miniviljelusvõistluse lõpuseminar
DESCRIPTION:Eesti Maaülikool korraldab \n20. novembril 10.00-15.00 Eesti Maaülikooli aulas\, Kreutzwaldi 1a\, Tartu \nTaimekasvatuse tudengite Miniviljelusvõistluse lõpuseminari \n  \nPÄEVAKAVA \n9.30-10.00 – Registreerimine \n10.00 Avamine\, Evelin Loit \n10.05 – 11.20 Inglismaa taimekasvataja väljakutsed\, James Holmes\, AHDB\, UK \n11.20 – 11.30 Taimekasvatuse praktika tudengitele: Miniviljelusvõistlus\, Indrek Keres  \n11.30 – 11.40 Tudengite ettekanded \n11.40 – 11.50 Tudengite ettekanded  \n11.50 – 12.00 Tudengite ettekanded \n12.00 – 12.10 Tudengite ettekanded \nKohvipaus \n12.45 – 13.30 Toorainest turustamiseni\, Triin Kõrgmaa\, Salvest  \n13.30 – 14.00 Põllumehe kogemus 2018\, Raivo Sell \n14.00 – 14.10 Tudengite ettekanded \n14.10 – 14.20 Tudengite ettekanded \n14.20 – 14.30 Tudengite ettekanded \n14.30 Päeva kokkuvõte ja parimate autasustamine \n  \nPalume registreerida klikkides all pool oleval lingil: \nhttps://goo.gl/forms/toC94e3AB9I4P3aq2​  \n 
URL:https://www.pikk.ee/sundmus/taimekasvatuse-tudengite-miniviljelusvoistluse-lopuseminar/
LOCATION:Tartumaa\, Eesti
GEO:58.4057128;26.801576
END:VEVENT
BEGIN:VEVENT
DTSTART;TZID=Europe/Tallinn:20181120T100000
DTEND;TZID=Europe/Tallinn:20181120T150000
DTSTAMP:20260419T194441
CREATED:20181104T195122Z
LAST-MODIFIED:20181104T195853Z
UID:10009037-1542708000-1542726000@www.pikk.ee
SUMMARY:Infopäev: Mahepõllumajanduslik põllukultuuride kasvatus
DESCRIPTION:Eesti Mahepõllumajanduse Sihtasutus korraldab infopäeva: \nMahepõllumajanduslik põllukultuuride kasvatus \nAeg: 20. november\, kell 10.00-15.00 \nKoht: Jõgevamaa\, Jõgeva alevik\, J. Aamisepa 1\, Eesti Taimekasvatuse Instituudis \nKava: \n10.00 Kaera kasvatamine ja sordid maheviljeluses \nOdra sordid maheviljeluses \nSuvinisu sordid maheviljeluses \nTalinisu sordid maheviljeluses. Spelta\, ühe ja kahetera nisu \n12.25 Kohvipaus \nTalirukki kasvatamine ja sordid maheviljeluses \nTalirüpsi kasvatamine maheväetiste ja bioaktivaatoritega \nPõldherne ja oa kasvatamine ja sordid maheviljeluses \nBioapreparaatide kasutamine suviteraviljade kasvatamisel maheviljeluses \n14.45 Lõpp \nLektorid: Ilmar Tamm\, Ülle Tamm\, Ilme Tupits\, Anne Ingver\, Reine Koppel\, Reine Koppel\, Lea Narits\, Tiia Kangor \nRegistreerimine https://goo.gl/forms/uZsS3SGHUBz7ySEi2 \nTäiendav info 5225936 \nNB! Kohtade arv on piiratud! \nInfopäev toimub MAK 2014-2020 “Teadmussiirde pikaajaline programm mahepõllumajanduse tegevusvaldkonnas” raames\, toetab Euroopa Liit.
URL:https://www.pikk.ee/sundmus/infopaev-mahepollumajanduslik-pollukultuuride-kasvatus-6/
LOCATION:Jõgevamaa\, Jõgevamaa\, Eesti
CATEGORIES:Taimekasvatus
END:VEVENT
END:VCALENDAR