BEGIN:VCALENDAR
VERSION:2.0
PRODID:-//PIKK.ee - ECPv6.13.2.1//NONSGML v1.0//EN
CALSCALE:GREGORIAN
METHOD:PUBLISH
X-WR-CALNAME:PIKK.ee
X-ORIGINAL-URL:https://www.pikk.ee
X-WR-CALDESC:Events for PIKK.ee
REFRESH-INTERVAL;VALUE=DURATION:PT1H
X-Robots-Tag:noindex
X-PUBLISHED-TTL:PT1H
BEGIN:VTIMEZONE
TZID:Europe/Tallinn
BEGIN:DAYLIGHT
TZOFFSETFROM:+0200
TZOFFSETTO:+0300
TZNAME:EEST
DTSTART:20190331T010000
END:DAYLIGHT
BEGIN:STANDARD
TZOFFSETFROM:+0300
TZOFFSETTO:+0200
TZNAME:EET
DTSTART:20191027T010000
END:STANDARD
END:VTIMEZONE
BEGIN:VEVENT
DTSTART;VALUE=DATE:20190206
DTEND;VALUE=DATE:20190209
DTSTAMP:20260420T090914
CREATED:20181228T105648Z
LAST-MODIFIED:20190130T115849Z
UID:10009101-1549411200-1549670399@www.pikk.ee
SUMMARY:Taimekaitse aluskoolitus professionaalsele kasutajale
DESCRIPTION:Päevakava \n  \nI PÄEV  \n9.45-10.00 Koolituse alustamine\, dokumentide täitmine\n10.00-11.30 Taimekaitseseadme tüübid; ohutusnõuded taimekaitseseadme kasutamisel\n11.30-11.45  KOHVIPAUS\n11.45-13.15 Ohutusnõuded taimekaitseseadme kasutamisel;  taimekaitseseadme ettevalmistamine tööks; taimekaitseseadme tehniline kontroll (PRAKTILINE töö koolikeskkonnas)\n13.15-14.00 LÕUNA\n14.00-15.30  Sissejuhatus. Integreeritud taimekaitse põhimõtted; turule lubatud taimekaitsevahendite liigitus\n15.30-15.45 KOHVIPAUS\n15.45-18.00  Piraattaimekaitsevahendid;  tööohutus \nII PÄEV  \n9.00-10.30  Tööohutus; ohutusnõuded taimekaitsevahendite  kasutamisel\n10.30-10.45 KOHVIPAUS\n10.45-13.15 Kultuurtaimede kahjustajad\, umbrohud\, nende tõrjevõimalused\n12.15-13.00 LÕUNA\n13.00- 14.30 Taimekaitsevahendi pakendi märgistuse ja ohutuskaardi lugemine;  taimekaitsevahendi   pakendi käitlemine (PRAKTILINE töö koolikeskkonnas)\n14.30-14.45 KOHVIPAUS\n14.45-17.15 Taimekaitsevahendi pakendi käitlemine; seadusandlus\, isikukaitsevahendid\, (PRAKTILINE töö koolikeskkonnas) \nIII PÄEV  \n9.00-10.30 Ülevaade turule lubatud taimekaitsevahenditest\, nende liigitamine (PRAKTILINE töö koolikeskkonnas)\n10.30-10.45  KOHVIPAUS\n10.45-12.15 Taimekaitsevahendi töölahuse valmistamine\, kulunormi arvutamine (PRAKTILINE töö koolikeskkonnas)\n12.15-13.00 LÕUNA\n13.00-16.00 EKSAM – PMA piirkonna inspektor ja Kaja Marrandi \nLektorid: Kaja Marrandi ja Marek Kõbu \nRegistreerimine koolitustele: http://jkhk.ee/pages/taeienduskoolitused/tasuta-pria-kursused.php \n  \nRuth Türk\nJKHK koolitusjuht\nruth.turk@jkhk.ee\n5329 2188 \n  \nKoolitused toimuvad “Teadmussiirde pikaajaline programm taimekasvatuse tegevusvaldkonnas” raames\, toetab Euroopa Liit.
URL:https://www.pikk.ee/sundmus/taimekaitse-aluskoolitus-professionaalsele-kasutajale-20/
LOCATION:Harjumaa\, Harjumaa\, Eesti
CATEGORIES:Taimekaitse
END:VEVENT
BEGIN:VEVENT
DTSTART;VALUE=DATE:20190208
DTEND;VALUE=DATE:20190209
DTSTAMP:20260420T090914
CREATED:20190128T132546Z
LAST-MODIFIED:20190206T075941Z
UID:10007236-1549584000-1549670399@www.pikk.ee
SUMMARY:Lambakasvatus ja lambakasvatussaaduste väärindamine
DESCRIPTION:Tartumaa Põllumeeste Liit korraldab 8. veebruaril algusega 10.00 Navi seltsimajas infopäeva \n„Lambakasvatus ja lambakasvatussaaduste väärindamine“. \nLektor Hillar Kalda käsitleb teemasid: \nLambakasvatussaaduste tootmine ja väärindamine \nLammaste iseärasuste mõistmine \nLammaste poegimisperioodi planeerimine ja organiseerimine \nLambakasvatusrajatised \nSuurkiskjate rünnakute ennetamine ja vältimine \nInfopäev Navi seltsimajas lükkub edasi! \nRegistreerida saab ka merry@kodu.ee või 736 6955. \n  \nInfopäevade korraldamist toetab Euroopa Liit. \n 
URL:https://www.pikk.ee/sundmus/lambakasvatus-ja-lambakasvatussaaduste-vaarindamine/
LOCATION:Võrumaa\, Võrumaa
CATEGORIES:Loomakasvatus
GEO:57.7377372;27.1398938
END:VEVENT
BEGIN:VEVENT
DTSTART;VALUE=DATE:20190208
DTEND;VALUE=DATE:20190209
DTSTAMP:20260420T090914
CREATED:20190128T140927Z
LAST-MODIFIED:20190128T140927Z
UID:10007238-1549584000-1549670399@www.pikk.ee
SUMMARY:FIE raamatupidamine ja tuludeklaratsiooni täitmine
DESCRIPTION:Tartumaa Põllumeeste Liit korraldab 8. veebruaril algusega 10.00 Valgas Kesk 12 I korruse saalis infopäeva \n„FIE raamatupidamine ja tuludeklaratsiooni täitmine“. \nLektor Aino Vooro käsitleb teemasid: \nFIE tuludeklaratsioon\, E-vormi täitmine\, kahjumi edasikandmine \nFIE ettevõtlusvormi eelised ja puudused; FIE tegevust puudutav seadusandlus; FIE kassapõhine ja tekkepõhine arvestus \nAlgdokumendid ja päevaraamat; ettevõtluse tulud ja kulud\, isikliku tarbimise proportsiooni arvestus \nFIE põhivara arvestus; FIE laenude ja liisingute arvestus; FIE PRIA toetuste arvestus \nFIE käibemaksukohustuslasena; FIE erikonto; \nEttevõtluse peatamine ja lõpetamine\, maksuriskid; FIE vara üleandmine või pärimine \nFIE ümberkujundamine äriühinguks \nFIE tulumaks\, sotsiaalmaks ja avansilised maksed \nInfopäeval osalemiseks palume registreeruda https://goo.gl/forms/SKf5Xe8w4lOwPJJh2 \nRegistreerida saab ka merry@kodu.ee või 736 6955. \nInfopäevade korraldamist toetab Euroopa Liit.
URL:https://www.pikk.ee/sundmus/fie-raamatupidamine-ja-tuludeklaratsiooni-taitmine/
LOCATION:Valgamaa\, Eesti
CATEGORIES:Finantsmajandus
END:VEVENT
END:VCALENDAR