BEGIN:VCALENDAR
VERSION:2.0
PRODID:-//PIKK.ee - ECPv6.13.2.1//NONSGML v1.0//EN
CALSCALE:GREGORIAN
METHOD:PUBLISH
X-WR-CALNAME:PIKK.ee
X-ORIGINAL-URL:https://www.pikk.ee
X-WR-CALDESC:Events for PIKK.ee
REFRESH-INTERVAL;VALUE=DURATION:PT1H
X-Robots-Tag:noindex
X-PUBLISHED-TTL:PT1H
BEGIN:VTIMEZONE
TZID:Europe/Tallinn
BEGIN:DAYLIGHT
TZOFFSETFROM:+0200
TZOFFSETTO:+0300
TZNAME:EEST
DTSTART:20190331T010000
END:DAYLIGHT
BEGIN:STANDARD
TZOFFSETFROM:+0300
TZOFFSETTO:+0200
TZNAME:EET
DTSTART:20191027T010000
END:STANDARD
END:VTIMEZONE
BEGIN:VEVENT
DTSTART;VALUE=DATE:20190227
DTEND;VALUE=DATE:20190302
DTSTAMP:20260420T233219
CREATED:20181228T105745Z
LAST-MODIFIED:20190121T064154Z
UID:10009102-1551225600-1551484799@www.pikk.ee
SUMMARY:Taimekaitse aluskoolitus professionaalsele kasutajale
DESCRIPTION:Päevakava \n  \nI PÄEV  \n9.45-10.00 Koolituse alustamine\, dokumentide täitmine\n10.00-11.30 Taimekaitseseadme tüübid; ohutusnõuded taimekaitseseadme kasutamisel\n11.30-11.45  KOHVIPAUS\n11.45-13.15 Ohutusnõuded taimekaitseseadme kasutamisel;  taimekaitseseadme ettevalmistamine tööks; taimekaitseseadme tehniline kontroll (PRAKTILINE töö koolikeskkonnas)\n13.15-14.00 LÕUNA\n14.00-15.30  Sissejuhatus. Integreeritud taimekaitse põhimõtted; turule lubatud taimekaitsevahendite liigitus\n15.30-15.45 KOHVIPAUS\n15.45-18.00  Piraattaimekaitsevahendid;  tööohutus \nII PÄEV  \n9.00-10.30  Tööohutus; ohutusnõuded taimekaitsevahendite  kasutamisel\n10.30-10.45 KOHVIPAUS\n10.45-13.15 Kultuurtaimede kahjustajad\, umbrohud\, nende tõrjevõimalused\n12.15-13.00 LÕUNA\n13.00- 14.30 Taimekaitsevahendi pakendi märgistuse ja ohutuskaardi lugemine;  taimekaitsevahendi   pakendi käitlemine (PRAKTILINE töö koolikeskkonnas)\n14.30-14.45 KOHVIPAUS\n14.45-17.15 Taimekaitsevahendi pakendi käitlemine; seadusandlus\, isikukaitsevahendid\, (PRAKTILINE töö koolikeskkonnas) \nIII PÄEV  \n9.00-10.30 Ülevaade turule lubatud taimekaitsevahenditest\, nende liigitamine (PRAKTILINE töö koolikeskkonnas)\n10.30-10.45  KOHVIPAUS\n10.45-12.15 Taimekaitsevahendi töölahuse valmistamine\, kulunormi arvutamine (PRAKTILINE töö koolikeskkonnas)\n12.15-13.00 LÕUNA\n13.00-16.00 EKSAM – PMA piirkonna inspektor ja Kaja Marrandi \nLektorid: Kaja Marrandi ja Marek Kõbu \nRegistreerimine koolitustele: http://jkhk.ee/pages/taeienduskoolitused/tasuta-pria-kursused.php \n  \nRuth Türk\nJKHK koolitusjuht\nruth.turk@jkhk.ee\n5329 2188 \n  \nKoolitused toimuvad “Teadmussiirde pikaajaline programm taimekasvatuse tegevusvaldkonnas” raames\, toetab Euroopa Liit.
URL:https://www.pikk.ee/sundmus/taimekaitse-aluskoolitus-professionaalsele-kasutajale-21/
LOCATION:Lääne-Virumaa\, Lääne-Virumaa\, Eesti
CATEGORIES:Taimekaitse
END:VEVENT
BEGIN:VEVENT
DTSTART;VALUE=DATE:20190228
DTEND;VALUE=DATE:20190301
DTSTAMP:20260420T233219
CREATED:20190205T124705Z
LAST-MODIFIED:20190205T124705Z
UID:10007253-1551312000-1551398399@www.pikk.ee
SUMMARY:Lihaveisekasvatus kasumlikumaks
DESCRIPTION:Tartumaa Põllumeeste Liit korraldab algusega 10.00 tasuta infopäevad „Lihaveisekasvatus kasumlikumaks“ \n 15.02 Ida-Viru taluliit\, Rakvere 27 Jõhvi \n18.02 Paide kultuurikeskus\, ruum 209\, Pärnu 18 Paide \n20.02 Nooruse majas\, Roheline 1 Pärnu \n22.02 Rapla Keskraamatukogus\, Lasteaia 5 Rapla \n26.02 Navi seltsimajas\, Võrumaal \n28.02 Kesk 12 I korruse saalis\, Valga linn \nLektor Aigar Suurmaa käsitleb teemasid: \n\nLihaveisetõugude arvukus ja paiknemine Eestis\nNoorveiste kasvuintensiivsuse analüüs\nLihaveiste söötmise põhimõtted. Söötmise erinev intensiivsus sõltuvalt loomagrupist.\nLoomade pidamine karjatamisperioodil. Karjatamise organiseerimine. Karjamaade hooldamine\nLihaveiste pidamine laudaperioodil\nAretuse tähtsus lihaveisekarjades. Kuidas parandada aretustööga karja väärtust.\n\nRegistreerimine infopäevale: \nJõhvi                     https://goo.gl/forms/cQV4lGkQBH31PxbK2 \nPaide                    https://goo.gl/forms/Dqp6ZxI9q0uXBwN02 \nPärnu                   https://goo.gl/forms/DTfq7GrHj9IzTRqk1 \nRapla                    https://goo.gl/forms/a8S0dIfebkyueDyr1 \nNavi                      https://goo.gl/forms/aIf7K7glqdf1GNM32 \nValga                    https://goo.gl/forms/Pws1XdKek3VFVBSH2 \nRegistreerida saab ka merry@kodu.ee või 736 6955.
URL:https://www.pikk.ee/sundmus/lihaveisekasvatus-kasumlikumaks-6/
LOCATION:Valgamaa\, Eesti
CATEGORIES:Loomakasvatus
END:VEVENT
BEGIN:VEVENT
DTSTART;VALUE=DATE:20190228
DTEND;VALUE=DATE:20190301
DTSTAMP:20260420T233219
CREATED:20190214T135008Z
LAST-MODIFIED:20190214T135816Z
UID:10009161-1551312000-1551398399@www.pikk.ee
SUMMARY:
DESCRIPTION:MTÜ  SAARTE  NÕUANDEKESKUS \nkorraldab maakondliku infopäeva teemal: „Kattetulu arvestamine põllumajanduses“ \nneljapäeval\, 28.02.2019.a. algusega kell 10.00 Saare maakonnas\, Ratla külas\, Poe puhkemajas \n\nTegevuse eesmärgiks on anda ettevõtjatele teadmisi oma toodangu saamiseks tehtavatest kuludest ning nende kujunemisest. \nTeemad:  Kattetulu arvestus taime-ning loomakasvatuses (teraviljad\, rohumaad\, õlikultuurid\, kartul\, piimalehm\, nuumpull) \n  \nTutvustatakse ka „Väikeste põllumajandusettevõtete arendamise toetus ( meede 6.3)“ taotlemise võimalusi\, nõudeid taotlejatele. Toetust saab taotleda 03.04.2019 kuni 10.04.2019. Tutvustatakse ka tuludeklaratsiooni täitmist. \n. \nLektorid on konsulendid: Mai Vaher\, Epp Petrov\, Lea Toompuu ja Gerle Aljas \nInfopäev on tasuta ja see korraldatakse Eesti Maaelu arengukava 2014-2020 „Teadmussiire ja teavituse toetuse (maakondliku ulatusega tegevused)“ meetme 1.1 raames ning infopäeva toetab EL. \n  \nInfopäevale palun registreerida e-mailile: saartenk@gmail.com\, või telefonidele: Mai Vaher – 5136756; Lea Toompuu – 53464675
URL:https://www.pikk.ee/sundmus/18131/
LOCATION:Saaremaa\, Saaremaa
GEO:58.3705526;22.6876383
END:VEVENT
BEGIN:VEVENT
DTSTART;VALUE=DATE:20190228
DTEND;VALUE=DATE:20190301
DTSTAMP:20260420T233219
CREATED:20190219T121458Z
LAST-MODIFIED:20190219T121920Z
UID:10009169-1551312000-1551398399@www.pikk.ee
SUMMARY:Kattetulu arvestamine põllumajanduses
DESCRIPTION:MTÜ  SAARTE  NÕUANDEKESKUS \nkorraldab maakondliku infopäeva teemal: „Kattetulu arvestamine põllumajanduses“ \nneljapäeval\, 28.02.2019.a. algusega kell 10.00 Saare maakonnas\, Ratla külas\, Poe puhkemajas. \n  \nTegevuse eesmärgiks on anda ettevõtjatele teadmisi oma toodangu saamiseks tehtavatest kuludest ning nende kujunemisest. \nTeemad:  Kattetulu arvestus taime-ning loomakasvatuses (teraviljad\, rohumaad\, õlikultuurid\, kartul\, piimalehm\, nuumpull) \nTutvustatakse ka „Väikeste põllumajandusettevõtete arendamise toetus ( meede 6.3)“ taotlemise võimalusi\, nõudeid taotlejatele. Toetust saab taotleda 03.04.2019 kuni 10.04.2019.\nTutvustatakse ka tuludeklaratsiooni täitmist. \nLektorid on konsulendid: Mai Vaher\, Epp Petrov\, Lea Toompuu ja Gerle Aljas. \n  \nInfopäev on tasuta ja see korraldatakse Eesti Maaelu arengukava 2014-2020 „Teadmussiire ja teavituse toetuse (maakondliku ulatusega tegevused)“ meetme 1.1 raames ning infopäeva toetab EL. \n  \nInfopäevale palun registreerida e-mailile: saartenk@gmail.com\nvõi telefonidele: Mai Vaher – 5136756; Lea Toompuu – 53464675 \n 
URL:https://www.pikk.ee/sundmus/kattetulu-arvestamine-pollumajanduses/
LOCATION:Saaremaa\, Saaremaa
CATEGORIES:Finantsmajandus
GEO:58.3705526;22.6876383
END:VEVENT
BEGIN:VEVENT
DTSTART;TZID=Europe/Tallinn:20190228T100000
DTEND;TZID=Europe/Tallinn:20190228T160000
DTSTAMP:20260420T233219
CREATED:20190122T091010Z
LAST-MODIFIED:20190122T091010Z
UID:10009125-1551348000-1551369600@www.pikk.ee
SUMMARY:Seemnetootmise infopäev Valgamaal
DESCRIPTION:Sertifitseeritud seemne kasutamise vajalikkus ja võimalused teraviljakasvatuses \nMTÜ Eesti Seemneliidu infopäevadel räägitakse seemnekasvatusest nii sertifitseerimiseks kui oma tarbeks. \n28.veebruar kell 10-16 Greete Motellis \n\nJuttu tuleb kõigest\, mis puudutab seemnekasvatust:\n\n\n– millest alustada\, kui on tekkinud huvi sertifitseeritud seemne kasvatamise vastu\n\n\n– mida tuleb tähele panna seemne kasvatamisel nii sertifitseerimiseks kui oma tarbeks\, sh seemnepõllu valik\, agrotehnika jm\n\n\n– sertifitseeritud seemne kasutamise nõuded ja võimalused toetusmeetmetes\n\n\n– PMA tööprotseduurid seemnete sertifitseerimisel\n– Muudatused seemnetootmise seadusandluses alates 01.04.2019\n\n\n– kõik muu seemnetootmisega seonduv\n\n\n\nETTEKANDED:\n\n10:00 Sissejuhatus Karen Rätsep\, MTÜ Eesti Seemneliit\n10:15 Sertifitseeritud seemne kasutamise nõuded toetusmeetmetes. Saagikus. Väetamine. Taimekaitse. Kuivatamine. Seemne kvaliteet. Sordid. Lilia Kulli\, MES taimekasvatuskonsulent\n12:00 Põllumajandusameti tööprotsessid seoses seemnete sertifitseerimisega. Ülevaade seemnekasvatusest. Tuulekaer. Piia Puusepp Põllumajandusameti mahepõllumajanduse ja seemne osakonna nõunik\nLõuna\n14:00 Põldtunnustamise nõuded ja kontroll. Kristina Soon Põllumajandusameti mahepõllumajanduse ja seemne osakonna peaspetsialist\n14:30 Tavaseemne ja sertifitseeritud seemne rahaline arvutus näidiskultuuri baasil ja tasuvusanalüüs. Soovitused oma tarbeks seemne kasvatamisel. Meelis Värnik\, Kevili Põllumeeste ühistu agronoom\n15:30 Eesti Seemneliidu funktsioon sertifitseeritud seemne valdkonnas\, OTS-deklaratsioonide täitmine\, sordikaitse\, OTS-tasu määrad\, kaitsealused sordid ja OTS-tasude kogumine\, seadusandlus. Karen Rätsep\, MTÜ Eesti Seemneliit tegevjuht \n\n\n\nInfopäevale on oodatud nii seemnekasvatajad\, seemnekasvatuse huvilised kui tavatootjad. Osalemine on tasuta ning organiseeritud on toitlustus päeva jooksul.\n\n\n\n\nOsalemissoovist teatamiseks:\n\n\n1) Täida registreerimisvorm\nVÕI\n3) saada vabas vormis e-mail seemneliit@seemneliit.ee\n\n\n\n\nNB! Päeva paremaks planeerimiseks palume osalejaks registreeruda hiljemalt 20.02!\n\n\n\n\n\nLisainfo tel. 569 39 565 (Karen Rätsep)\n\n\n\n\n\nInfopäev toimub “Teadmussiire ja teavituse toetus maakondliku ulatusega tegevused” raames ning tegevust toetab Euroopa Liit.
URL:https://www.pikk.ee/sundmus/seemnetootmise-infopaev-valgamaal/
LOCATION:Valgamaa\, Eesti
CATEGORIES:Maaettevõtlus,Taimekasvatus
ATTACH;FMTTYPE=image/jpeg:https://www.pikk.ee/wp-content/uploads/2018/10/IMG_20180621_123701.jpg
ORGANIZER;CN="MT%C3%9C Eesti Seemneliit":MAILTO:seemneliit@seemneliit.ee
END:VEVENT
END:VCALENDAR