BEGIN:VCALENDAR
VERSION:2.0
PRODID:-//PIKK.ee - ECPv6.13.2.1//NONSGML v1.0//EN
CALSCALE:GREGORIAN
METHOD:PUBLISH
X-ORIGINAL-URL:https://www.pikk.ee
X-WR-CALDESC:Events for PIKK.ee
REFRESH-INTERVAL;VALUE=DURATION:PT1H
X-Robots-Tag:noindex
X-PUBLISHED-TTL:PT1H
BEGIN:VTIMEZONE
TZID:Europe/Tallinn
BEGIN:DAYLIGHT
TZOFFSETFROM:+0200
TZOFFSETTO:+0300
TZNAME:EEST
DTSTART:20190331T010000
END:DAYLIGHT
BEGIN:STANDARD
TZOFFSETFROM:+0300
TZOFFSETTO:+0200
TZNAME:EET
DTSTART:20191027T010000
END:STANDARD
END:VTIMEZONE
BEGIN:VEVENT
DTSTART;VALUE=DATE:20190410
DTEND;VALUE=DATE:20190413
DTSTAMP:20260423T045205
CREATED:20181126T094334Z
LAST-MODIFIED:20190125T083027Z
UID:10007175-1554854400-1555113599@www.pikk.ee
SUMMARY:Toiduhügieen ja -ohutus\, keskaste
DESCRIPTION:Täpsem info ja registreerumine: https://lingid.ee/keskaste \n. \nTäienduskoolitusest võivad osa võtta:\n– põllumajandustoodete töötlemise või turustamisega tegelev füüsilisest isikust ettevõtja ja tema töötaja ning eraõigusliku juriidilise isiku osanik\, aktsionär\, liige\, juhtorgani liige ja tema töötaja;\n– põllumajandustoodetest mittepõllumajandustoodete töötlemise sh toidu valmistamise või töötlemisega tegelev füüsilisest isikust ettevõtja ja tema töötaja ning eraõigusliku juriidilise isiku osanik\, aktsionär\, liige\, juhtorgani liige ja tema töötaja;\n– toidu valmistamise või töötlemisega tegelev avalik-õigusliku juriidilise isiku juhtorgani liige või töötaja;\n– põllumajandustootjate valdkonda teenindavad isikud (nt kokkuostuga tegelevate ettevõtete töötajad);\n– isikud (FIE-d või ettevõtte esindajad)\, kes koguvad teadmisi uue tegevusvaldkonna kohta;\n– põllumajanduslike esindus- ja erialaorganisatsioonide (MTÜ-d\, mille liikmeteks on põllumajandussaaduste töötlejad) juhatuse liikmed ja töötajad. \nFüüsiliste isikute ja riigiametnike täienduskoolitusel osalemine ei ole toetatav! \nTegevust finantseeritakse Eesti maaelu arengukava 2014-2020 meetme 1 “Teadmussiire ja teavitus” tegevuse “Pikaajalised programmid” raames ja on sihtrühma kuulujatele tasuta. \nNB! Teavitame! Antud koolitustegevuses osalemine on osaleja jaoks vähese tähtsusega abi. \nKoolituse korraldaja:\nEesti Maaülikooli avatud ülikool\nFr. R. Kreutzwaldi 56/1\n51006 Tartu\,\ntel 731 3275\, 731 3174\, 534 41844\ne-post: avayl@emu.ee\nhttp://avatudylikool.emu.ee/
URL:https://www.pikk.ee/sundmus/toiduhugieen-ja-ohutus-keskaste-5/
LOCATION:Tartumaa\, Eesti
CATEGORIES:Toiduainete tootmine
GEO:58.4057128;26.801576
END:VEVENT
BEGIN:VEVENT
DTSTART;VALUE=DATE:20190410
DTEND;VALUE=DATE:20190414
DTSTAMP:20260423T045205
CREATED:20190328T091421Z
LAST-MODIFIED:20190328T091421Z
UID:10007352-1554854400-1555199999@www.pikk.ee
SUMMARY:Koolitus "Väiksemate koduloomade (küülik\, lammas) nahkade parkimine koduste vahenditega" 30 tundi
DESCRIPTION:Järvamaa Kutsehariduskeskus korraldab PRIA meede 1.1. raames  Särevere õppekohas koolituse \n“Väiksemate koduloomade (küülik\, lammas) nahkade parkimine koduste vahenditega” 30 tundi 10. -13. aprill 2019. Taotlus nr. 611017510278 \nTäiendav info ja registreerimine: \nhttps://jkhk.ee/et/tasuta-pria-koolitused \nRuth.turk@jkhk.ee \n53292188
URL:https://www.pikk.ee/sundmus/koolitus-vaiksemate-koduloomade-kuulik-lammas-nahkade-parkimine-koduste-vahenditega-30-tundi/
LOCATION:Järvamaa\, Järvamaa\, Eesti
CATEGORIES:Loomakasvatus
GEO:58.8866713;25.5000624
END:VEVENT
BEGIN:VEVENT
DTSTART;VALUE=DATE:20190411
DTEND;VALUE=DATE:20190412
DTSTAMP:20260423T045205
CREATED:20190226T130431Z
LAST-MODIFIED:20190226T130431Z
UID:10009181-1554940800-1555027199@www.pikk.ee
SUMMARY:Keskkonnasõbralik rapsikasvatus
DESCRIPTION:Tartumaa Põllumeeste Liit korraldab algusega 10.00 tasuta infopäevad \n„Keskkonnasõbralik rapsikasvatus“ \n8.03       Rapla Keskraamatukogus \n29.03     Pärnus Nooruse Majas \n1.04       Jõgeva Kultuurikeskuses \n11.04     Tartus Jalaka 48 \n15.04     Rakveres Villa Theresa \nTiiu Annuk käsitleb teemasid: \nSuvi ja talirapsi kasvunõuded (maa ettevalmistus\, mullastik\, lupjamise vajalikkus\, külv jne) \nKeskkonnasõbralik väetamine (põhiväetised ja leheväetised\, biopreparaadid) \nEnamlevinud kahjurid ja haigused ning uued probleemid. \nKeskkonnasõbralik taimekaitse (umbrohutõrje\, kasvu reguleerimine\, haiguste- ja kahjurtõrje) \nRegistreerimine infopäevale: \nRapla                    https://goo.gl/forms/gPltViJ7JF4i1pH62 \nPärnu                   https://goo.gl/forms/VAI92VONCIHf3Hst1 \nJõgeva                 https://goo.gl/forms/SZ1kx7EQuBqktGHC2 \nTartu                     https://goo.gl/forms/yafE0dToZL8R7GBw1 \nRakvere               https://goo.gl/forms/iF34vENwSGAW530C2 \nPalume eelistada registreerimist www.pikk.ee kaudu. Registreerida saab ka telefonil          736 6955. \n 
URL:https://www.pikk.ee/sundmus/keskkonnasobralik-rapsikasvatus-5/
LOCATION:Tartumaa\, Eesti
CATEGORIES:Taimekasvatus
GEO:58.4057128;26.801576
END:VEVENT
BEGIN:VEVENT
DTSTART;VALUE=DATE:20190411
DTEND;VALUE=DATE:20190412
DTSTAMP:20260423T045205
CREATED:20190311T091434Z
LAST-MODIFIED:20190311T091434Z
UID:10009201-1554940800-1555027199@www.pikk.ee
SUMMARY:Vedel- ja tahesõnniku toitainete sisalduse kalkuleerimine (arvutusvahend). Arvutuslike näitajate vastavus keemilise analüüsi tulemustega
DESCRIPTION:Tartumaa Põllumeeste Liit korraldab 10.00-14.00 tasuta infopäevad \n„Vedel- ja tahesõnniku toitainete sisalduse kalkuleerimine (arvutusvahend). Arvutuslike näitajate vastavus keemilise analüüsi tulemustega“. \n19.03 Paide Kultuurikeskuses\, ruum 209 \n22.03 Sakus PMK saalis Teaduse 4/6 \n26.03 Navi seltsimajas \n4.04. Tartumaa Põllumeeste Liidus Jalaka 48 \n9.04 Viljandis hotellis Centrum \n11.04 Rakveres Villa Theresas  \nKavas on muuta seadust\, et kaob kohustus keemiliste sõnnikuanalüüside tegemiseks. See lihtsustab tootja tööd ja aitab säästa raha. \nEMÜ söötmisteaduste õppetooli dotsent Allan Kaasik koolitab teemal: sõnniku keemilise koosise arvutamine vs keemiline analüüs. Tegemist on veebipõhise rakendusega\, mida kõik soovijad saavad tasuta alla laadida. \nRegistreerimine infopäevale: \nPaide https://goo.gl/forms/nz30KfoiMIx8tSXn1 \nSaku https://goo.gl/forms/hJBl8DMpqaz7N9K93 \nNavi https://goo.gl/forms/ge8UwNOoJfWhvZ5F3 \nTartu https://goo.gl/forms/BuqDt8MvmTFdg79e2 \nViljandi https://goo.gl/forms/ZOW9o4Pa4HO5zwOA2 \nRakvere https://goo.gl/forms/opZZHSQOpdqlos1v2 \n  \nRegistreerida saab ka telefonil 736 6955\, kuid palume eelistada registreerimist\, klikates eelpool toodud lingil.
URL:https://www.pikk.ee/sundmus/vedel-ja-tahesonniku-toitainete-sisalduse-kalkuleerimine-arvutusvahend-arvutuslike-naitajate-vastavus-keemilise-analuusi-tulemustega-6/
LOCATION:Lääne-Virumaa\, Lääne-Virumaa\, Eesti
CATEGORIES:Loomakasvatus
END:VEVENT
BEGIN:VEVENT
DTSTART;VALUE=DATE:20190411
DTEND;VALUE=DATE:20190412
DTSTAMP:20260423T045206
CREATED:20190318T083312Z
LAST-MODIFIED:20190318T084613Z
UID:10009214-1554940800-1555027199@www.pikk.ee
SUMMARY:Õppepäev "Väetamisest põllumehele"
DESCRIPTION:Eesti Põllumajandus-Kaubanduskoda korraldab koostöös Eesti Maaülikooliga projekti GreenAgri raames viimased õppepäevad „Väetamisest põllumehele“. \nKoolitusele on oodatud osalema põllumajandustootjad ning konsulendid.  \nKoolitusel osalemiseks on vajalik eelregistreerimine internetis hiljemalt 29.märtsiks 2019. Kohtade arv on piiratud! \nÕppepäeva lektorid Eesti Maaülikoolist\, Alar Astover\, Karin Kauer \nTartu\, EMÜ\, Kreuzwaldi 1a\, õppeklass nr 0015\, 05. aprill 2019\nTüri Kultuurikeskus\, klaassaal 10. aprill 2019\nKuremaa Loss\, 11. aprill 2019 \n\n\n\n10:00 – 10:30\nRegistreerimine\, tervituskohv\n\n\n10:30 – 10:35\nSissejuhatus – Ann Riisenberg\, EPKK keskkonnavaldkonna juht\n\n\n10:35 – 12:00\nMulla ja ilmastiku arvestamine väetamise planeerimisel\, Alar Astover\n\n\n12:00 – 13:00\nLõuna\n\n\n13:00 – 14:30\nOrgaaniliste väetiste eripärad ja nende kasutamise agronoomilised ja ökoloogilised aspektid\, Alar Astover\n\n\n14:30 – 15:00\nKohvipaus\n\n\n15:00 – 16:30\nTaimetoiteelementide leostumine seiretulemuste põhjal\, Karin Kauer\n\n\n\n  \nLisainfo Ann Riisenberg – 52 45 875\, ann.riisenberg@epkk.ee \nÕppepäevad on organiseeritud projekti “GreenAgri” CB272 raames ja finantseeritud Kesk-Läänemere programmist 2014-2020  ning Eesti Põllumajandus-Kaubanduskoja poolt.
URL:https://www.pikk.ee/sundmus/oppepaev-vaetamisest-pollumehele-3/
LOCATION:Jõgevamaa\, Jõgevamaa\, Eesti
CATEGORIES:Taimekasvatus
END:VEVENT
BEGIN:VEVENT
DTSTART;VALUE=DATE:20190411
DTEND;VALUE=DATE:20190412
DTSTAMP:20260423T045206
CREATED:20190321T075559Z
LAST-MODIFIED:20190406T194442Z
UID:10007334-1554940800-1555027199@www.pikk.ee
SUMMARY:Pindala- ja loomatoetuste taotlemine Saaremaal
DESCRIPTION:Tartumaa Põllumeeste Liit korraldab 10.00-14.00 tasuta infopäeva Pindala- ja loomatoetuste taotlemine \n11.04 Saaremaal Suure Tõllu Puhkekülas Lektorid Kati Näälik ja Mai Vaher \nTeemad: \nOtsetoetuste muudatused 2019. aastal. MAK pindala- ja loomatoetuste muudatused. Püsirohumaa tagasirajamine 2019. aastal. Ülevaade 2018. a leitud rikkumistest administratiivsetes ja kohapealsetes kontrollides. Muudatused seemnete sertifitseerimise süsteemis. Sordiandmete kogumine. Pettused toetuste taotlemisel. \nRegistreerimine: https://goo.gl/forms/loQJ18XW5Row6mcs2. \nRegistreerida saab ka 736 6955. \nSlaidid: Pindalat ja loomaoetused
URL:https://www.pikk.ee/sundmus/pindala-ja-loomatoetuste-taotlemine-5/
LOCATION:Saaremaa\, Saaremaa
CATEGORIES:Muu
GEO:58.3705526;22.6876383
END:VEVENT
BEGIN:VEVENT
DTSTART;VALUE=DATE:20190411
DTEND;VALUE=DATE:20190412
DTSTAMP:20260423T045206
CREATED:20190321T075755Z
LAST-MODIFIED:20190406T194350Z
UID:10009222-1554940800-1555027199@www.pikk.ee
SUMMARY:Pindala- ja loomatoetuste taotlemine Põlvas
DESCRIPTION:Tartumaa Põllumeeste Liit korraldab 10.00-14.00 tasuta infopäeva Pindala- ja loomatoetuste taotlemine \n11.04 Põlvas kohvikus Aal Tuglase 2. Lektorid Ulvi Ajalik ja Toomas Tõrra. \nRegistreerimine: https://goo.gl/forms/2F958L6IKtVifQE03. \nTeemad: \nOtsetoetuste muudatused 2019. aastal. MAK pindala- ja loomatoetuste muudatused. Püsirohumaa tagasirajamine 2019. aastal. Ülevaade 2018. a leitud rikkumistest administratiivsetes ja kohapealsetes kontrollides. Muudatused seemnete sertifitseerimise süsteemis. Sordiandmete kogumine. Pettused toetuste taotlemisel. \nRegistreerida saab ka 736 6955. \nSlaidid: Pindalat ja loomaoetused
URL:https://www.pikk.ee/sundmus/pindala-ja-loomatoetuste-taotlemine-6/
LOCATION:Põlvamaa\, Põlvamaa\, Eesti
CATEGORIES:Muu
GEO:58.1160622;27.2066394
END:VEVENT
BEGIN:VEVENT
DTSTART;VALUE=DATE:20190411
DTEND;VALUE=DATE:20190412
DTSTAMP:20260423T045206
CREATED:20190325T123646Z
LAST-MODIFIED:20190326T080927Z
UID:10007340-1554940800-1555027199@www.pikk.ee
SUMMARY:Pindalatoetuste infopäevad Võrumaal
DESCRIPTION:Võrumaa Talupidajate Liit korraldab \nPINDALATOETUSTE INFOPÄEVAD VÕRUMAAL \nKOLMAPÄEVAL\, 10.aprillil kell 10.00 Võrus\, Kultuurimajas KANNEL \nNELJAPÄEVAL\, 11.aprillil kell 10.00  VASTSELIINA RAHVAMAJAS \nInfopäeva kestus 10.00 – 14.00 \nTeemad: \n\nÜlevaade olulisematest otsetoetuste ( sh ühtne pindalatoetus\, nn rohestamine) ja MAK toetuste taotlemise tingimustest\nNõuetele vastavuse nõuded\nMuudatused 2019\nÜlevaade enim levinud vigadest toetuste taotlemisel\nToetuste taotlemine uues E-PRIA keskkonnas\nVeeseaduse muudatused\n\nOsalemine etteregistreerimisel telefonil  78 21 669\, 53499454 või \ne-post: marikaparv@gmail.com. \nPalun anna kindlasti teada oma osalemisest!
URL:https://www.pikk.ee/sundmus/pindalatoetuste-infopaevad-vorumaal-2/
LOCATION:Võrumaa\, Võrumaa
GEO:57.7377372;27.1398938
END:VEVENT
END:VCALENDAR