BEGIN:VCALENDAR
VERSION:2.0
PRODID:-//PIKK.ee - ECPv6.13.2.1//NONSGML v1.0//EN
CALSCALE:GREGORIAN
METHOD:PUBLISH
X-ORIGINAL-URL:https://www.pikk.ee
X-WR-CALDESC:Events for PIKK.ee
REFRESH-INTERVAL;VALUE=DURATION:PT1H
X-Robots-Tag:noindex
X-PUBLISHED-TTL:PT1H
BEGIN:VTIMEZONE
TZID:Europe/Tallinn
BEGIN:DAYLIGHT
TZOFFSETFROM:+0200
TZOFFSETTO:+0300
TZNAME:EEST
DTSTART:20190331T010000
END:DAYLIGHT
BEGIN:STANDARD
TZOFFSETFROM:+0300
TZOFFSETTO:+0200
TZNAME:EET
DTSTART:20191027T010000
END:STANDARD
END:VTIMEZONE
BEGIN:VEVENT
DTSTART;VALUE=DATE:20190415
DTEND;VALUE=DATE:20190416
DTSTAMP:20260423T062219
CREATED:20190123T093756Z
LAST-MODIFIED:20190125T083007Z
UID:10009128-1555286400-1555372799@www.pikk.ee
SUMMARY:Enesekontrollisüsteemi loomine ja auditeerimine kalakäitlejatele
DESCRIPTION:Täpsem info ja registreerumine aadressil: https://ois.emu.ee/pls/ois/!tere.tulemast?leht=OK.AY.VP&id_ay_programm=8542&id_ay_toimumine=12964&systeemi_seaded=3\,1\,12\,1\, \n. \nKoolituse korraldaja:\nEesti Maaülikooli avatud ülikool\nFr. R. Kreutzwaldi 56/1\n51006 Tartu\,\ntel 731 3275\, 731 3174\, 534 41844\ne-post: avayl@emu.ee\nhttp://avatudylikool.emu.ee/
URL:https://www.pikk.ee/sundmus/enesekontrollisusteemi-loomine-ja-auditeerimine-kalakaitlejatele-2/
LOCATION:Tartumaa\, Eesti
CATEGORIES:Toiduainete tootmine
GEO:58.4057128;26.801576
END:VEVENT
BEGIN:VEVENT
DTSTART;VALUE=DATE:20190415
DTEND;VALUE=DATE:20190416
DTSTAMP:20260423T062219
CREATED:20190226T130722Z
LAST-MODIFIED:20190226T130722Z
UID:10009182-1555286400-1555372799@www.pikk.ee
SUMMARY:Keskkonnasõbralik rapsikasvatus
DESCRIPTION:Tartumaa Põllumeeste Liit korraldab algusega 10.00 tasuta infopäevad \n„Keskkonnasõbralik rapsikasvatus“ \n8.03       Rapla Keskraamatukogus \n29.03     Pärnus Nooruse Majas \n1.04       Jõgeva Kultuurikeskuses \n11.04     Tartus Jalaka 48 \n15.04     Rakveres Villa Theresa \nTiiu Annuk käsitleb teemasid: \nSuvi ja talirapsi kasvunõuded (maa ettevalmistus\, mullastik\, lupjamise vajalikkus\, külv jne) \nKeskkonnasõbralik väetamine (põhiväetised ja leheväetised\, biopreparaadid) \nEnamlevinud kahjurid ja haigused ning uued probleemid. \nKeskkonnasõbralik taimekaitse (umbrohutõrje\, kasvu reguleerimine\, haiguste- ja kahjurtõrje) \nRegistreerimine infopäevale: \nRapla                    https://goo.gl/forms/gPltViJ7JF4i1pH62 \nPärnu                   https://goo.gl/forms/VAI92VONCIHf3Hst1 \nJõgeva                 https://goo.gl/forms/SZ1kx7EQuBqktGHC2 \nTartu                     https://goo.gl/forms/yafE0dToZL8R7GBw1 \nRakvere               https://goo.gl/forms/iF34vENwSGAW530C2 \nPalume eelistada registreerimist www.pikk.ee kaudu. Registreerida saab ka telefonil          736 6955. \n 
URL:https://www.pikk.ee/sundmus/keskkonnasobralik-rapsikasvatus-6/
LOCATION:Lääne-Virumaa\, Lääne-Virumaa\, Eesti
CATEGORIES:Taimekasvatus
END:VEVENT
BEGIN:VEVENT
DTSTART;VALUE=DATE:20190415
DTEND;VALUE=DATE:20190416
DTSTAMP:20260423T062219
CREATED:20190314T080535Z
LAST-MODIFIED:20190320T075531Z
UID:10007315-1555286400-1555372799@www.pikk.ee
SUMMARY:Põllumajandusliku äriühingu raamatupidamine ja aastaaruande koostamine
DESCRIPTION:Tartumaa Põllumeeste Liit korraldab 10.00-14.00 tasuta infopäevad „Põllumajandusliku äriühingu raamatupidamine ja aastaaruande koostamine“ \n26.03 Tartumaa Põllumeeste Liidus\, Jalaka 48 \n29.03 Valgas Kesk 12 \n02.04 Põlvas kohvikus Aal. \n15.04 Viljandis hotellis Centrum \nLektor on Aino Vooro. \nRegistreerimine Tartu: https://goo.gl/forms/kJQnt9SajTuH1xpe2 \nValga: https://goo.gl/forms/mUXNCtjQiXzOedJu1 \nPõlva: https://goo.gl/forms/ca64tL1g8Kc0hRSS2 \nViljandi: https://goo.gl/forms/QxFfab6REnwafhTz1 \nRegistreerida saab ka 736 6955\, kuid palun eelistada internetis registreerimist.
URL:https://www.pikk.ee/sundmus/pollumajandusliku-ariuhingu-raamatupidamine-ja-tuludeklaratsiooni-taitmine-4/
LOCATION:Viljandimaa\, Viljandimaa\, Eesti
CATEGORIES:Finantsmajandus
GEO:58.2821746;25.5752233
END:VEVENT
BEGIN:VEVENT
DTSTART;VALUE=DATE:20190415
DTEND;VALUE=DATE:20190416
DTSTAMP:20260423T062219
CREATED:20190325T072824Z
LAST-MODIFIED:20190325T073002Z
UID:10009239-1555286400-1555372799@www.pikk.ee
SUMMARY:Õpiring "Lehmade heaolu ja tervishoid. Kohanemisvõime üleminekuperioodil"
DESCRIPTION:VIRUMAA PÕLLUMEESTE LIIT korraldab teadmussiirde ja teavituse toetuse raames õpiringi teemal \nLEHMADE HEAOLU JA TERVISHOID.KOHANEMISVÕIME ÜLEMINEKUPERIOODIL \nToimumiskoht Järva-Jaani kultuurimaja\, Järva-Jaani Pikk 58 \nToimumisaeg  15.aprill 2019 \nPäevakava: \n9.30                   Saabumine\, hommikukohv \n10.00-12.00   Siirdeprogrammi rakendamine farmis. Miks\, millal ja kuidas? Sven Tammoja \n12.00-12.30   Lõuna \n12.30-13.30  Siirdeperioodi aegne söötmine. Miks\, kuidas ja milleks? Pilleriin Puskar \n12.30-14.00 Kokkuvõtted ja diskussioon; \n14.00  Metstaguse Agro külastus \n  \nRegistreerimine mailile virumaapl@gmail.com  või jakobi.einar@gmail.com \nHiljemalt 12 .aprilliks\, et saaksime planeerida kohvipausi. \nInfo tel. 5273891 Einar Jakobi või  5052846 Pilleriin Puskar \n 
URL:https://www.pikk.ee/sundmus/opiring-lehmade-heaolu-ja-tervishoid-kohanemisvoime-uleminekuperioodil/
LOCATION:Järvamaa\, Järvamaa\, Eesti
CATEGORIES:Loomakasvatus
GEO:58.8866713;25.5000624
END:VEVENT
BEGIN:VEVENT
DTSTART;VALUE=DATE:20190415
DTEND;VALUE=DATE:20190416
DTSTAMP:20260423T062219
CREATED:20190326T144113Z
LAST-MODIFIED:20190528T131535Z
UID:10007344-1555286400-1555372799@www.pikk.ee
SUMMARY:Keskkonnasõbraliku majandamise täiendkoolitus
DESCRIPTION:Tartumaa Põllumeeste Liit korraldab 15. aprillil Pärnus Nooruse majas Roheline 1 tasuta keskkonnasõbraliku majandamise täiendkoolituse. Koolitus on mõeldud vaid neile\, kes on võtnud KSM kohustuse ja peavad täiendkoolituse läbima sellel aastal. Kõiki neid on personaalselt teavitatud meili või kirja teel\, kus oli ka registreerimislink. \nRegistreerimine: https://forms.gle/jxhwKmpM1Dp9YHpv9. \nRegistreerida saab ka 736 6955. \nPäevakava \n9.00 – 9.30 Registreerimine\, tervituskohv \n9.30 – 9.50 Piirkondlik mullakaitse toetus \n9.50 – 10.10 Mulla kasutussobivus \n10.10 – 10.30 Mullauuringute olulisemad tulemused põllumehele \n10.30 – 10.50 Väetistarbekaardid ja väetamise soovitused \n10.50 – 11.00 Jalasirutuspaus \n11.00 – 12.20 Vahe- ja haljasväetiskultuurid ja nende tähtsus\, huumusbilansi kalkulaator \n12.20 – 13.00 Lõuna \n13.00 – 14.00 Praktiline ülesanne \n14.00 – 14.10 Virgutuspaus \n14.10 – 15.35 Mesilased – kasulikud\, kuid haavatavad putukad \n15.35 – 16.00 QuESSA projekti tulemused \n16.00 Arutelu\, kokkuvõte \nKSM_trykis \nLisainfo \nJaan Sõrra \n508 7320
URL:https://www.pikk.ee/sundmus/keskkonnasobraliku-majandamise-taiendkoolitus/
LOCATION:Pärnumaa\, Pärnumaa\, Eesti
CATEGORIES:Keskkond
END:VEVENT
BEGIN:VEVENT
DTSTART;VALUE=DATE:20190415
DTEND;VALUE=DATE:20190416
DTSTAMP:20260423T062219
CREATED:20190403T103139Z
LAST-MODIFIED:20190403T103139Z
UID:10009244-1555286400-1555372799@www.pikk.ee
SUMMARY:Lambakasvatus ja lambakasvatussaaduste väärindamine
DESCRIPTION:Tartumaa Põllumeeste Liit korraldab 15. aprillil 10.00-14.00 Viljandis Grand hotellis tasuta infopäeva „Lambakasvatus ja lambakasvatussaaduste väärindamine“. \nLektor Hillar Kalda käsitleb teemasid \nLambakasvatussaaduste tootmine ja väärindamine \nLammaste iseärasuste mõistmine \nLammaste poegimisperioodi planeerimine ja organiseerimine \nLambakasvatusrajatised \nSuurkiskjate rünnakute ennetamine ja vältimine \nInfopäeval osalemiseks palume registreerida\, klikates lingil https://forms.gle/nyzZCVrkvLNL6gHm8. \nRegistreerida saab ka 736 6955.
URL:https://www.pikk.ee/sundmus/lambakasvatus-ja-lambakasvatussaaduste-vaarindamine-9/
LOCATION:Viljandimaa\, Viljandimaa\, Eesti
CATEGORIES:Loomakasvatus
GEO:58.2821746;25.5752233
END:VEVENT
BEGIN:VEVENT
DTSTART;VALUE=DATE:20190415
DTEND;VALUE=DATE:20190418
DTSTAMP:20260423T062219
CREATED:20190404T103743Z
LAST-MODIFIED:20190404T104004Z
UID:10009248-1555286400-1555545599@www.pikk.ee
SUMMARY:Mesinik-ettevõtja õppereis. Projekt „Ettevõtlik mesinik omandamas kogemusi mesindusettevõtjaid külastades“
DESCRIPTION:Mesinik ettevõtjatele õppereis. \nProjekt „Ettevõtlik mesinik omandamas kogemusi mesindusettevõtjaid külastades“ \nToimumisaeg: 15.-17.aprill 2019 \nToimumiskoht: 4 mesilat Eestis ja 2 mesilat + mesinduspood Lätis. Sõit algab ja lõpeb Viljandist. \nSihtrühm: Põllumajandustoodete tootmise\, töötlemise või turustamisega\, põllumajandusmaa hooldamisega\, põllumajandustoodetest mittepõllumajandustoodete töötlemisega\, sealhulgas toidu valmistamise või töötlemisega\, või metsa majandamisega seotud või nimetatud tegevusega tegelev füüsilisest isikust ettevõtja ja tema töötaja\, eraõigusliku juriidilise isiku osanik\, aktsionär\, liige\, juhtorgani liige ja tema töötaja\, metsa majandamisega tegelev füüsiline isik ja toidu valmistamise või töötlemisega tegelev avalik-õiguslik juriidilise isiku juhtorgani liige või töötaja. \n  \nÕppereisi kulud on kaetud Teadmussiirde ja teavituse toetusega (MAK 2014-2020 meede 1)  ja õppereis on osalejatele tasuta. \nKorraldaja: MTÜ Alustame Algusest \nRohkem infot kodulehel: http://www.alustamealgusest.ee/mesilaspere-reisid \nTelefon: 5029006  (Marianne Rosenfeld) \nE-kiri: mesilaspere@gmail.com
URL:https://www.pikk.ee/sundmus/mesinik-ettevotja-oppereis-projekt-ettevotlik-mesinik-omandamas-kogemusi-mesindusettevotjaid-kulastades/
LOCATION:Muu\, Eesti
CATEGORIES:Muu
ORGANIZER;CN="MT%C3%9C Alustame Algusest":MAILTO:alustamealgusest@gmail.com
GEO:58.595272;25.0136071
END:VEVENT
END:VCALENDAR