BEGIN:VCALENDAR
VERSION:2.0
PRODID:-//PIKK.ee - ECPv6.13.2.1//NONSGML v1.0//EN
CALSCALE:GREGORIAN
METHOD:PUBLISH
X-WR-CALNAME:PIKK.ee
X-ORIGINAL-URL:https://www.pikk.ee
X-WR-CALDESC:Events for PIKK.ee
REFRESH-INTERVAL;VALUE=DURATION:PT1H
X-Robots-Tag:noindex
X-PUBLISHED-TTL:PT1H
BEGIN:VTIMEZONE
TZID:Europe/Tallinn
BEGIN:DAYLIGHT
TZOFFSETFROM:+0200
TZOFFSETTO:+0300
TZNAME:EEST
DTSTART:20190331T010000
END:DAYLIGHT
BEGIN:STANDARD
TZOFFSETFROM:+0300
TZOFFSETTO:+0200
TZNAME:EET
DTSTART:20191027T010000
END:STANDARD
END:VTIMEZONE
BEGIN:VEVENT
DTSTART;VALUE=DATE:20190425
DTEND;VALUE=DATE:20190427
DTSTAMP:20260425T054038
CREATED:20181206T081801Z
LAST-MODIFIED:20190418T095155Z
UID:10009081-1556150400-1556323199@www.pikk.ee
SUMMARY:Aiandus mitteaianduskonsulendile - alternatiivsed kultuurid NB! toimumine lükkub uutele kuupäevadele\, kuupäevad täpsustamisel
DESCRIPTION:AU.504 Aiandus mitteaianduskonsulendile – alternatiivsed kultuurid\n\n\n\n\n\n\n\n\n\n\n\n\n\n\n\n\n\n\n\n\n\n\n\n\n\n\n\n\n\n\n\n\n\n\n\nToimumisaeg\n25.-26. aprill ja 18.-19. juuli 2019\nNB! Koolituson neli päeva kestev tervik ja eeldab osavõttu kõigil neljal koolituspäeval\n\n\nMaht\n35 akadeemilist tundi (22 tundi auditoorset\, 10 tundi praktikat\, 3 tundi iseseisvat tööd)\n\n\nToimumiskoht\nTartu Eesti Maaülikool\nKreutzwaldi 56/1 auditoorium A 303 (tehnikamaja III korrus)\nPraktilised tegevused Rõhul ja puukoolis\, sõit praktikakohta osalejate oma transpordiga.\n\n\nAjakava \nToimumiskuupäevad Algus kõikidel koolituspäevadel kell 9.00 ja lõpp 16.15\n\n\nÕppekeel\neesti keel\n\n\nÕppejõud\nÕpe viiakse läbi ühe või mitme koolitaja poolt\, kellel on kõrgharidus ja vähemalt kolmeaastane töökogemus vastava mooduli teemal (vastaval erialal töötamine\, osalemine lektorina koolitustel või teadusprojektides). \n  \nKadri Karp\, D.Sc\, Eesti Maaülikooli Põllumajandus- ja keskkonnainstituudi professor \nMarge Starast\, Ph.D\, Eesti Maaülikooli Põllumajandus- ja keskkonnainstituudi dotsent \n  \nLeila Mainla\, Ph.D\, Eesti Maaülikooli Põllumajandus- ja keskkonnainstituudi dotsent \nKatrin Hauk\, koolitaja\, kellel on täiskasvanute\nkoolitaja või kutseõpetaja kutsetunnistus\n\n\n\n\n\n\n\n\n\n\n\n\n\n\n\n\n\nHinnainfo\nSihtrühmale on osalemine tasuta. \nKoolituse tellijaks on PRIA.\nTegevust finantseeritakse Eesti maaelu arengukava (MAK) 2014-2020 vahenditest.\n\n\nSihtrühm\nSihtrühm isik\, kellele on kutseseaduses sätestatud alusel ja korras antud konsulendi\nkutsetunnistus;\nvõi\nisik\, kellele kutseseaduse alusel ja korras antud konsulendi kutsetunnistuse kehtivuse\nlõppemisest ei ole möödunud rohkem kui 12 kuud;\nvõi\nisik\, kes on Euroopa Liidu ühise põllumajanduspoliitika rakendamise seaduse § 71 lg 1\nsätestatud valikumenetluse kohaselt valitud nõustamisteenuse osutajaga lepingulises suhtes\nning tegeleb põllu- või maamajandusliku nõustamisteenuse osutamisega.\n\n\nMaksimaalne osalejate arv\n20\n\n\nEesmärk\nAnda mitteaianduskonsulendile esmased teadmised valdkonnast kujul\, mis\nvõimaldaks tal hinnata vastava valdkonna tootmise sobivust kliendile\, hinnata peamisi riske.\n\n\n\n\n\nÕpingute alustamise tingimused\nKuulumine sihtrühma.\nNB! Koolituson neli päeva kestev tervik ja eeldab osavõttu kõigil neljal koolituspäeval\n\n\n\n\n\nÕpiväljundid\nAlternatiivsete kultuuride mooduli läbinu teab\n* milliseid alternatiivseid või uusi kultuurtaimi kasvatada saab\, sealhulgas: astelpaju\, aroonia\, mustikas\, viinamari\, pampel\, kuslapuu\, lillekasvatus.\n* millised on kättesaadavad sordid\, sordi valiku põhimõtted\n* millised on peamised kasvatusviisid\, sh. mahekasvatuses\, ning milliseid agrotehnilisi võtteid sealjuures rakendatakse\n* millistest allikatest otsida põhjalikumat informatsiooni ning meie kliimasse ja tingumustesse sobivaid juhendeid alternatiivsete kultuuride kasvatusest\n\n\n\n\n\nSisu\nKoolituse rõhk on praktikal.\nKülastus Rõhule ja puukooli\, muu hulgas kujundatakse viinapuu ja astelpaju võra\, lõigatakse kevadist aedmustikat\, tehakse viimapuu suvist hooldust ja analüüsitakse aedmustika kevadist lõikust.Alternatiivsed ja perspektiivsed puuvilja-\, marjakultuurid\, sh. astelpaju\, aroonia\, aedmustikas\, viinapuu.\n* Bioloogia\, kasvunõuded\, levik Eestis ja turustusvõimalused\n* Eestis koduaeda ja tootmisse sobivad sordid ning nende omadused. Uute kultuuride ja sortide katsetamise põhimõtted\n* Agrotehnilised võtted lähtuvalt saagi realiseerimisest\n* Rakendusuuringute tulemustest selgunud innovatiivsed lahendused kasvatus- ja töötlemistehnoloogiates\n* Infoallikate kasutamine\nIlutaimed:\n* Ilutaimede rühmad\, nende eristamise tunnused ja tuntumate liikide kasvunõuded ning kasutamine.\n* Agrotehnilised võtted ilutaimede kvaliteedi tagamiseks.\n* Ilutaimede üldseisundi hindamine ja hooldusvõtete rakendamine\n* Ilutaimede kasvatustehnoloogiad ja tootmine lähtuvalt taimerühmast ning keskkonnateadlik tootmine.\n* Ilutaimedega katsete läbiviimise põhitõed ja metoodika\, rahvusvaheliste andmebaaside kasutamine ja innovatiivsed uuringutulemusedÕpetamise metoodika täiendamine – teabe edastamine nõustamisel\n\n\n\n\n\n\n\n\n\n\n\n\n\n\n\nNõuded lõpetamiseks\nOsalemine igal õppepäeval ja arvestuse sooritamine.\n\n\nKursus toimub\, kui osalejaid on vähemalt\n10\n\n\nRegistreerumise tähtaeg\n19.04.2019\n\n\nRegistreerumise lisainfo\nNB! Teavitame Teid \nTäienduskoolitus rahastatakse nõustajate koolitustoetusena\, mis määratletakse kui riigiabi osalejatele\, juhul kui koolitusel osaleja ise on ettevõtja või mõne ettevõtja töötaja\, osanik\, aktsionär\, liige või juhtorgani liige. \nTäiendusõppijaks arvamise aluseks on osaleda soovija kirjalikku taasesitamist võimaldavas vormis registreerumine vastavale täiendusõppele.\nTäiendusõppest loobumise korral teavitada kirjalikku taasesitamist võimaldaval viisil täiendusõppe korraldajat hiljemalt kolm tööpäeva enne õppe alguskuupäeva.\nJuhul\, kui täienduskoolitus on täiendusõppijale tasuta ja õppes osaleda soovija ei teavita koolituse korraldajat oma loobumisest õigeaegselt\, on ülikoolil õigus esitada koolitusele registreerunule isikupõhine arve tehtud kulutuste katteks.\n\n\nOsalemissoovi korral on vajalik eelregistreerimine: https://ois.emu.ee/pls/ois/!tere.tulemast?leht=OK.AY.VP&id_ay_programm=7502&id_ay_toimumine=12647&systeemi_seaded=3\,1\,12\,1\,\n(kerida lk lõppu\, vajutada registreeru ja täita väljad)Lähem info\nEesti Maaülikooli avatud ülikool\nFr. R. Kreutzwaldi 56 (III korrus\, ruumid 303-306)\, 51006 Tartu\,tel 731 3175\, 534 41844e-post: avayl@emu.ee  \n 
URL:https://www.pikk.ee/sundmus/aiandus-mitteaianduskonsulendile-alternatiivsed-kultuurid/2019-04-25/
LOCATION:Tartumaa\, Eesti
CATEGORIES:Aiandus
ORGANIZER;CN="Eesti Maa%C3%BClikooli avatud %C3%BClikool":MAILTO:avayl@emu.ee
GEO:58.4057128;26.801576
END:VEVENT
BEGIN:VEVENT
DTSTART;VALUE=DATE:20190425
DTEND;VALUE=DATE:20190427
DTSTAMP:20260425T054038
CREATED:20190320T062811Z
LAST-MODIFIED:20190430T065102Z
UID:10009218-1556150400-1556323199@www.pikk.ee
SUMMARY:Koolitus "Lihatöötlemine"
DESCRIPTION:Koolitus on kahepäevane\, 16 ak tundi. Koolitus toimub Olustvere Teenindus ja Maamajanduskooli õppetööstuses. \n  \nAjakava: \n25.aprill\, neljapäev \n9.45 – 10.00    Kogunemine\, registreerimine \n10.00 – 11.30  Õppetöö \n11.30 – 11:45  Paus \n11.45 – 13.15  Õppetöö \n13.15 – 14:00  Lõuna \n14.00 –  17.00  Õppetöö \nTeemad: tööohutus ja hügieen; rümpade lõikusskeemid; vorstitoodete valmistamine ja suitsutussaaduste tootmine (toorainete ettevalmistamine). \n  \n26.aprill\, reede  \n9.45 – 10.00   Kogunemine\,  registreerimine \n10.00 – 11.30 Õppetöö \n11.30 – 11.45 Paus \n11.45 – 13.15 Õppetöö \n13.15 – 14.00 Lõuna \n14.00 – 17.00 Õppetöö \nTeemad: vorstitoodete valmistamine ja suitsutussaaduste tootmine. \nETTEKANNE “LIHATÖÖTLEMINE” E.KLETENBERG \nÕppetööst osavõtmiseks on vaja kaasa võtta niiskust taluvad puhtad jalanõud ja lihalõikustunniks soe riietus (temp +10 kuni +14 C). \nÕppegrupi suurus 12 inimest. Registreerimine kuni 22.04.2019 \nhttps://docs.google.com/forms/d/1Gc-3bpTSnK6Siu5_w2Ffe2GZWRh0n3Lr-4IHEJbyFco/ \n  \nKoolitus on sihtrühmale tasuta. Koolitusest võivad osa võtta põllumajandustoodete tootmise\, töötlemise või turustamisega\, põllumajandusmaa hooldamisega\, põllumajandustoodetest mittepõllumajandustoodete töötlemisega\, sealhulgas toidu valmistamise või töötlemisega\, või metsa majandamisega seotud või nimetatud tegevusega tegelevat füüsilisest isikust ettevõtjat ja tema töötajat\, eraõigusliku juriidilise isiku osanikku\, aktsionäri\, liiget\, juhtorgani liiget ja tema töötajat\, metsa majandamisega tegelevat füüsilist isikut ja toidu valmistamise või töötlemisega tegelevat avalik-õigusliku juriidilise isiku juhtorgani liiget või töötajat. (Teadmussiirde pikaajaliste programmide rakendamise toetus määruse 28.04.2016 nr.46  muutmine. Vastu võetud 24.08.2017 nr 59.RT I\, 30.08.2017\, 1 ) \n  \nTäienduskoolitus toimub MAK 2014-2020 meetme „Teadmussiirde pikaajaline programm loomakasvatuse tegevusvaldkonnas II “ raames\, rahastamisallikas: riigieelarve\, Euroopa Maaelu Põllumajandusfond (EAFRD).
URL:https://www.pikk.ee/sundmus/koolitus-lihatootlemine/
LOCATION:Viljandimaa\, Viljandimaa\, Eesti
CATEGORIES:Toiduainete tootmine
GEO:58.2821746;25.5752233
END:VEVENT
BEGIN:VEVENT
DTSTART;VALUE=DATE:20190426
DTEND;VALUE=DATE:20190427
DTSTAMP:20260425T054038
CREATED:20181210T120120Z
LAST-MODIFIED:20190125T082941Z
UID:10009089-1556236800-1556323199@www.pikk.ee
SUMMARY:Toidu mikrobioloogilise ohutuse ja kvaliteedi tagamine
DESCRIPTION:Koolitus toimub 26. aprillil 2019. \nTäpsem info ja registreerumine aadressil: https://ois.emu.ee/pls/ois/!tere.tulemast?leht=OK.AY.VP&id_ay_programm=9782&id_ay_toimumine=12784&systeemi_seaded=3\,1\,12\,1\, \nKoolituse korraldaja:\nEesti Maaülikooli avatud ülikool\nFr. R. Kreutzwaldi 56/1\n51006 Tartu\,\ntel 731 3275\, 731 3174\, 534 41844\ne-post: avayl@emu.ee\nhttp://avatudylikool.emu.ee/
URL:https://www.pikk.ee/sundmus/toidu-mikrobioloogilise-ohutuse-ja-kvaliteedi-tagamine/
LOCATION:Tartumaa\, Eesti
CATEGORIES:Toiduainete tootmine
GEO:58.4057128;26.801576
END:VEVENT
BEGIN:VEVENT
DTSTART;VALUE=DATE:20190426
DTEND;VALUE=DATE:20190427
DTSTAMP:20260425T054038
CREATED:20190412T054245Z
LAST-MODIFIED:20190506T063613Z
UID:10009258-1556236800-1556323199@www.pikk.ee
SUMMARY:Taimekaitsevahendite  professionaalse  kasutaja  täiendkoolitus
DESCRIPTION:Koolitus jääb ära. \nPäevakava \n9.00-11.20 Integreeritud taimekaiste + turule lubatud taimekaitsevahendid\, nende liigitamine  + praktika \n11.20 -11.30  KOHVIPAUS \n11.30-13.00 Etiketi lugemine + taimekahjustajad\, nende tõrje + illegaalsed taimekaitsevahendid \n13.00 -13.45  LÕUNASÖÖK \n13.45-15.25 Ohutusnõuded taimekaitsevahendite kasutamisel\, taimekaitse-vahendi tühja pakendi\, pesuvee\, pritsimislahuse ja taimekaitsevahendi jääkide käitlemine + praktika: pritsi kontroll ja ettevalmistamine tööks\, kulunormide arvutamine \n15.25-15.40  KOHVIPAUS \n15.40-19.10 Seadusandlus\, isikukaitsevahendid + esmaabi + pritsi tüübid ja nende käitlemine\, EKSAM. \nLektor: Kaja Marrandi \nRegistreerimine koolitustele: http://jkhk.ee/pages/taeienduskoolitused/tasuta-pria-kursused.php \nRuth Türk\nJKHK koolitusjuht\nruth.turk@jkhk.ee\n5329 2188 \nKoolitused toimuvad “Teadmussiirde pikaajaline programm taimekasvatuse tegevusvaldkonnas” raames\, toetab Euroopa Liit.
URL:https://www.pikk.ee/sundmus/taimekaitsevahendite-professionaalse-kasutaja-taiendkoolitus-35/
LOCATION:Tartumaa\, Eesti
CATEGORIES:Taimekaitse
GEO:58.4057128;26.801576
END:VEVENT
END:VCALENDAR