BEGIN:VCALENDAR
VERSION:2.0
PRODID:-//PIKK.ee - ECPv6.13.2.1//NONSGML v1.0//EN
CALSCALE:GREGORIAN
METHOD:PUBLISH
X-WR-CALNAME:PIKK.ee
X-ORIGINAL-URL:https://www.pikk.ee
X-WR-CALDESC:Events for PIKK.ee
REFRESH-INTERVAL;VALUE=DURATION:PT1H
X-Robots-Tag:noindex
X-PUBLISHED-TTL:PT1H
BEGIN:VTIMEZONE
TZID:Europe/Tallinn
BEGIN:DAYLIGHT
TZOFFSETFROM:+0200
TZOFFSETTO:+0300
TZNAME:EEST
DTSTART:20190331T010000
END:DAYLIGHT
BEGIN:STANDARD
TZOFFSETFROM:+0300
TZOFFSETTO:+0200
TZNAME:EET
DTSTART:20191027T010000
END:STANDARD
END:VTIMEZONE
BEGIN:VEVENT
DTSTART;VALUE=DATE:20190513
DTEND;VALUE=DATE:20190514
DTSTAMP:20260422T072653
CREATED:20190315T070326Z
LAST-MODIFIED:20190315T070410Z
UID:10009206-1557705600-1557791999@www.pikk.ee
SUMMARY:Projekti „Jänijõe keskkonnaseisundi parandamine“ lõpuseminar
DESCRIPTION:Kõik põllumajandustootjad ja teised huvilised on oodatud veekeskonnakaitselisele seminarile\, mis keskendub näitena Jänijõele ja selle ümbrusele. \n13. mai 2019  toimub Jäneda külalistemajas projekti „Jänijõe keskkonnaseisundi parandamine“ lõpuseminar.\nSeminar toimub Jäneda külalistemaja seminariruumis algusega 10.00 ja lõpeb orienteeruvalt 16.00. Üritus on tasuta ja avatud kõigile huvilistele. \nSeminaril räägitakse Keskkonnainvesteeringute Keskuse poolt rahastatud projekti “Jänijõe keskkonnaseisundi parandamine” tulemustest ning antakse ülevaade veekogu tervendamise alasest kogemusest Jänijõe näitel. Tehtud keskkonnaparanduslikest töödest annavad ülevaate Eestimaa Looduse Fondi ja Põllumajandusameti eksperdid. \nInfopäeval osalemiseks palume registreeruda (https://bit.ly/2UFHtuc) hiljemalt 10.05.2019. Registreerida saab ka elf@elfond.eevõi telefonil 7428443 \nKüsimuste korral kirjutada janijogi@elfond.ee \nJänijõe projekti koduleht: http://elfond.ee/teoksil/loodusharidus-ja-teavitus/janijoe-keskkonnaseisundi-parandamine \n 
URL:https://www.pikk.ee/sundmus/projekti-janijoe-keskkonnaseisundi-parandamine-lopuseminar/
LOCATION:Lääne-Virumaa\, Lääne-Virumaa\, Eesti
CATEGORIES:Keskkond
END:VEVENT
END:VCALENDAR